BEGIN:VCALENDAR
VERSION:2.0
PRODID:-//Powiatowe Centrum Animacji Społecznej - ECPv4.9.10//NONSGML v1.0//EN
CALSCALE:GREGORIAN
METHOD:PUBLISH
X-WR-CALNAME:Powiatowe Centrum Animacji Społecznej
X-ORIGINAL-URL:https://pcastm.pl
X-WR-CALDESC:Events for Powiatowe Centrum Animacji Społecznej
BEGIN:VTIMEZONE
TZID:Europe/Warsaw
BEGIN:DAYLIGHT
TZOFFSETFROM:+0100
TZOFFSETTO:+0200
TZNAME:CEST
DTSTART:20230326T010000
END:DAYLIGHT
BEGIN:STANDARD
TZOFFSETFROM:+0200
TZOFFSETTO:+0100
TZNAME:CET
DTSTART:20231029T010000
END:STANDARD
END:VTIMEZONE
BEGIN:VEVENT
DTSTART;TZID=Europe/Warsaw:20230619T120000
DTEND;TZID=Europe/Warsaw:20230623T200000
DTSTAMP:20260426T003205
CREATED:20230619T063352Z
LAST-MODIFIED:20230619T063352Z
UID:13725-1687176000-1687550400@pcastm.pl
SUMMARY:Siłownia
DESCRIPTION:\n\n\n\n\n\n\n\n\n\nWakacje tuż\, tuż. To ostatni moment\, aby zadbać o piękną sylwetkę i zdążyć popracować nad swoją figurą i muskulaturą przed urlopem.  Zapraszamy do najtańszej siłowni w mieście! \n\n\n\n\n\n\n\n\n\n\n
URL:https://pcastm.pl/wydarzenie/silownia-21/
LOCATION:Powiatowe Centrum Animacji Społecznej\, Farbiarska 20/24\, Tomaszów Mazowiecki\, Łódzkie\, 97-200\, Polska
ATTACH;FMTTYPE=image/jpeg:https://pcastm.pl/files/2023/06/350657996_262694496305525_5597356036657281417_n.jpg
END:VEVENT
BEGIN:VEVENT
DTSTART;TZID=Europe/Warsaw:20230622T120000
DTEND;TZID=Europe/Warsaw:20230622T180000
DTSTAMP:20260426T003205
CREATED:20230620T063943Z
LAST-MODIFIED:20230620T063943Z
UID:13915-1687435200-1687456800@pcastm.pl
SUMMARY:Malarstwo i rysunek
DESCRIPTION:Lubisz rysować\, malować? To propozycja dla Ciebie! Zajęcia przeznaczone są dla dzieci\, młodzieży i dorosłych. Może wziąć w nich udział każdy\, kto chce się sprawdzić\, realizować swoją pasję\, postawić pierwsze kreski lub wybiera się do szkoły artystycznej. \nGrupy: \n12.00-14.00 – dorośli \n16.00-1800 – dzieci i młodzież \nZobaczcie co robimy na zajęciach: \nhttps://www.facebook.com/pcastomaszowmaz/posts/680560910715683 \n
URL:https://pcastm.pl/wydarzenie/malarstwo-i-rysunek-23/
LOCATION:Powiatowe Centrum Animacji Społecznej\, Farbiarska 20/24\, Tomaszów Mazowiecki\, Łódzkie\, 97-200\, Polska
ATTACH;FMTTYPE=image/jpeg:https://pcastm.pl/files/2023/06/portret-16.jpg
END:VEVENT
BEGIN:VEVENT
DTSTART;TZID=Europe/Warsaw:20230622T160000
DTEND;TZID=Europe/Warsaw:20230622T183000
DTSTAMP:20260426T003205
CREATED:20230620T064350Z
LAST-MODIFIED:20230620T064350Z
UID:13914-1687449600-1687458600@pcastm.pl
SUMMARY:Ceramika
DESCRIPTION:Lubisz prace manualne? Zajęcia z gliną będą dla Ciebie! Wyciszysz się\, nauczysz cierpliwości i stworzysz coś wyjątkowego. Spotkania mają charakter zabawy. To świetna propozycja zarówno dla dzieci\, młodzieży i dorosłych. \n16.00-17.00 dzieci \n17.30-18.30 młodzież i dorośli \nCo robimy? Zobaczcie: \nhttps://www.facebook.com/pcastomaszowmaz/posts/671173304987777 \n
URL:https://pcastm.pl/wydarzenie/ceramika-24/
LOCATION:Powiatowe Centrum Animacji Społecznej\, Farbiarska 20/24\, Tomaszów Mazowiecki\, Łódzkie\, 97-200\, Polska
ATTACH;FMTTYPE=image/jpeg:https://pcastm.pl/files/2023/05/ceramika-3.jpg
END:VEVENT
BEGIN:VEVENT
DTSTART;TZID=Europe/Warsaw:20230622T170000
DTEND;TZID=Europe/Warsaw:20230622T180000
DTSTAMP:20260426T003205
CREATED:20230620T064804Z
LAST-MODIFIED:20230620T064804Z
UID:13919-1687453200-1687456800@pcastm.pl
SUMMARY:Adobe Photoshop
DESCRIPTION:\nZajęcia są przeznaczone dla osób\, które chcą poznać nowoczesne mechanizmy obróbki grafiki. Za pomocą Photoshopa można retuszować obrazki\, stosować efekty specjalne\, wklejać fragmenty innych obrazów czy wprowadzać teksty\, a także korygować kolory lub wyostrzać obrazy. \n\n
URL:https://pcastm.pl/wydarzenie/adobe-photoshop-9/
LOCATION:Powiatowe Centrum Animacji Społecznej\, Farbiarska 20/24\, Tomaszów Mazowiecki\, Łódzkie\, 97-200\, Polska
ATTACH;FMTTYPE=image/jpeg:https://pcastm.pl/files/2023/03/shop-foto.jpg
END:VEVENT
END:VCALENDAR