BEGIN:VCALENDAR
VERSION:2.0
PRODID:-//Powiatowe Centrum Animacji Społecznej - ECPv4.9.10//NONSGML v1.0//EN
CALSCALE:GREGORIAN
METHOD:PUBLISH
X-WR-CALNAME:Powiatowe Centrum Animacji Społecznej
X-ORIGINAL-URL:https://pcastm.pl
X-WR-CALDESC:Events for Powiatowe Centrum Animacji Społecznej
BEGIN:VTIMEZONE
TZID:Europe/Warsaw
BEGIN:DAYLIGHT
TZOFFSETFROM:+0100
TZOFFSETTO:+0200
TZNAME:CEST
DTSTART:20230326T010000
END:DAYLIGHT
BEGIN:STANDARD
TZOFFSETFROM:+0200
TZOFFSETTO:+0100
TZNAME:CET
DTSTART:20231029T010000
END:STANDARD
END:VTIMEZONE
BEGIN:VEVENT
DTSTART;TZID=Europe/Warsaw:20230619T120000
DTEND;TZID=Europe/Warsaw:20230623T200000
DTSTAMP:20260425T224031
CREATED:20230619T063352Z
LAST-MODIFIED:20230619T063352Z
UID:13725-1687176000-1687550400@pcastm.pl
SUMMARY:Siłownia
DESCRIPTION:\n\n\n\n\n\n\n\n\n\nWakacje tuż\, tuż. To ostatni moment\, aby zadbać o piękną sylwetkę i zdążyć popracować nad swoją figurą i muskulaturą przed urlopem.  Zapraszamy do najtańszej siłowni w mieście! \n\n\n\n\n\n\n\n\n\n\n
URL:https://pcastm.pl/wydarzenie/silownia-21/
LOCATION:Powiatowe Centrum Animacji Społecznej\, Farbiarska 20/24\, Tomaszów Mazowiecki\, Łódzkie\, 97-200\, Polska
ATTACH;FMTTYPE=image/jpeg:https://pcastm.pl/files/2023/06/350657996_262694496305525_5597356036657281417_n.jpg
END:VEVENT
BEGIN:VEVENT
DTSTART;TZID=Europe/Warsaw:20230623T160000
DTEND;TZID=Europe/Warsaw:20230623T180000
DTSTAMP:20260425T224031
CREATED:20230620T065413Z
LAST-MODIFIED:20230620T065413Z
UID:13921-1687536000-1687543200@pcastm.pl
SUMMARY:Fotografia
DESCRIPTION:Chcesz poznać tajniki fotografii? Lubisz robić zdjęcia? Ta propozycja jest dla Ciebie! \nZobacz co ciekawego robimy: \nhttps://www.facebook.com/pcastomaszowmaz/posts/682443953860712 \n
URL:https://pcastm.pl/wydarzenie/fotografia-11/
LOCATION:Powiatowe Centrum Animacji Społecznej\, Farbiarska 20/24\, Tomaszów Mazowiecki\, Łódzkie\, 97-200\, Polska
ATTACH;FMTTYPE=image/jpeg:https://pcastm.pl/files/2023/06/forograficzna-sekcja-3.jpg
END:VEVENT
END:VCALENDAR