BEGIN:VCALENDAR
VERSION:2.0
PRODID:-//Powiatowe Centrum Animacji Społecznej - ECPv4.9.10//NONSGML v1.0//EN
CALSCALE:GREGORIAN
METHOD:PUBLISH
X-WR-CALNAME:Powiatowe Centrum Animacji Społecznej
X-ORIGINAL-URL:https://pcastm.pl
X-WR-CALDESC:Events for Powiatowe Centrum Animacji Społecznej
BEGIN:VTIMEZONE
TZID:Europe/Warsaw
BEGIN:DAYLIGHT
TZOFFSETFROM:+0100
TZOFFSETTO:+0200
TZNAME:CEST
DTSTART:20230326T010000
END:DAYLIGHT
BEGIN:STANDARD
TZOFFSETFROM:+0200
TZOFFSETTO:+0100
TZNAME:CET
DTSTART:20231029T010000
END:STANDARD
END:VTIMEZONE
BEGIN:VEVENT
DTSTART;TZID=Europe/Warsaw:20230626T090000
DTEND;TZID=Europe/Warsaw:20230630T140000
DTSTAMP:20260425T155228
CREATED:20230623T080507Z
LAST-MODIFIED:20230623T080507Z
UID:13968-1687770000-1688133600@pcastm.pl
SUMMARY:Zajęcia wakacyjne z PCAS-em
DESCRIPTION:Zajęcia wakacyjne z PCAS-em odbywają się od poniedziałku do piątku i są przeznaczone dla dzieci w wieku 6-12 lat. \n
URL:https://pcastm.pl/wydarzenie/zajecia-wakacyjne-z-pcas-em/
LOCATION:Powiatowe Centrum Animacji Społecznej\, Farbiarska 20/24\, Tomaszów Mazowiecki\, Łódzkie\, 97-200\, Polska
ATTACH;FMTTYPE=image/png:https://pcastm.pl/files/2023/06/beach-g42594b8b4_640.png
END:VEVENT
END:VCALENDAR