BEGIN:VCALENDAR
VERSION:2.0
PRODID:-//Powiatowe Centrum Animacji Społecznej - ECPv4.9.10//NONSGML v1.0//EN
CALSCALE:GREGORIAN
METHOD:PUBLISH
X-WR-CALNAME:Powiatowe Centrum Animacji Społecznej
X-ORIGINAL-URL:https://pcastm.pl
X-WR-CALDESC:Events for Powiatowe Centrum Animacji Społecznej
BEGIN:VTIMEZONE
TZID:Europe/Warsaw
BEGIN:DAYLIGHT
TZOFFSETFROM:+0100
TZOFFSETTO:+0200
TZNAME:CEST
DTSTART:20230326T010000
END:DAYLIGHT
BEGIN:STANDARD
TZOFFSETFROM:+0200
TZOFFSETTO:+0100
TZNAME:CET
DTSTART:20231029T010000
END:STANDARD
END:VTIMEZONE
BEGIN:VEVENT
DTSTART;TZID=Europe/Warsaw:20230703T080000
DTEND;TZID=Europe/Warsaw:20230707T170000
DTSTAMP:20260423T171955
CREATED:20230703T061637Z
LAST-MODIFIED:20230703T061637Z
UID:14190-1688371200-1688749200@pcastm.pl
SUMMARY:Zajęcia wakacyjne z PCAS-em
DESCRIPTION:Zajęcia wakacyjne z PCAS-em odbywają się od poniedziałku do piątku i są przeznaczone dla dzieci w wieku 6-12 lat. \n
URL:https://pcastm.pl/wydarzenie/zajecia-wakacyjne-z-pcas-em-2/
LOCATION:Powiatowe Centrum Animacji Społecznej\, Farbiarska 20/24\, Tomaszów Mazowiecki\, Łódzkie\, 97-200\, Polska
ATTACH;FMTTYPE=image/jpeg:https://pcastm.pl/files/2023/07/357627444_151935977902333_2038560913261506164_n.jpg
END:VEVENT
BEGIN:VEVENT
DTSTART;TZID=Europe/Warsaw:20230703T120000
DTEND;TZID=Europe/Warsaw:20230703T170000
DTSTAMP:20260423T171955
CREATED:20230703T125139Z
LAST-MODIFIED:20230703T125139Z
UID:14227-1688385600-1688403600@pcastm.pl
SUMMARY:Malarstwo i rysunek
DESCRIPTION:\n\n\nLubisz rysować\, malować? To propozycja dla Ciebie! Zajęcia przeznaczone są dla dzieci\, młodzieży i dorosłych. Może wziąć w nich udział każdy\, kto chce się sprawdzić\, realizować swoją pasję\, postawić pierwsze kreski lub wybiera się do szkoły artystycznej. \n\n\n\nZobaczcie co robimy na zajęciach: \n\n\n\nhttps://www.facebook.com/pcastomaszowmaz/posts/677207987717642\n\n\n
URL:https://pcastm.pl/wydarzenie/malarstwo-i-rysunek-24/
LOCATION:Powiatowe Centrum Animacji Społecznej\, Farbiarska 20/24\, Tomaszów Mazowiecki\, Łódzkie\, 97-200\, Polska
ATTACH;FMTTYPE=image/jpeg:https://pcastm.pl/files/2023/05/malarstwo-dmuchawce.jpg
END:VEVENT
BEGIN:VEVENT
DTSTART;TZID=Europe/Warsaw:20230703T140000
DTEND;TZID=Europe/Warsaw:20230703T160000
DTSTAMP:20260423T171955
CREATED:20230703T125327Z
LAST-MODIFIED:20230703T125327Z
UID:14229-1688392800-1688400000@pcastm.pl
SUMMARY:Ceramika
DESCRIPTION:Lubisz prace manualne? Zajęcia z gliną będą dla Ciebie! Wyciszysz się\, nauczysz cierpliwości i stworzysz coś wyjątkowego. Spotkania mają charakter zabawy. To świetna propozycja zarówno dla dzieci\, młodzieży i dorosłych. \nTak spędzamy czas na zajęciach: \nhttps://www.facebook.com/pcastomaszowmaz/posts/681995613905546 \n
URL:https://pcastm.pl/wydarzenie/ceramika-25/
LOCATION:Powiatowe Centrum Animacji Społecznej\, Farbiarska 20/24\, Tomaszów Mazowiecki\, Łódzkie\, 97-200\, Polska
ATTACH;FMTTYPE=image/jpeg:https://pcastm.pl/files/2023/05/ceramika-4-1.jpg
END:VEVENT
BEGIN:VEVENT
DTSTART;TZID=Europe/Warsaw:20230703T160000
DTEND;TZID=Europe/Warsaw:20230707T180000
DTSTAMP:20260423T171955
CREATED:20230703T130556Z
LAST-MODIFIED:20230703T130556Z
UID:14234-1688400000-1688752800@pcastm.pl
SUMMARY:Zajęcia sportowe
DESCRIPTION:Wakacyjny ruch poleca się. Dołącz do nas i poruszaj się. Sportu nigdy za wiele! \n
URL:https://pcastm.pl/wydarzenie/zajecia-sportowe/
LOCATION:Powiatowe Centrum Animacji Społecznej\, Farbiarska 20/24\, Tomaszów Mazowiecki\, Łódzkie\, 97-200\, Polska
ATTACH;FMTTYPE=image/jpeg:https://pcastm.pl/files/2023/05/ścianka-2.jpg
END:VEVENT
BEGIN:VEVENT
DTSTART;TZID=Europe/Warsaw:20230703T162000
DTEND;TZID=Europe/Warsaw:20230703T175000
DTSTAMP:20260423T171955
CREATED:20230703T125620Z
LAST-MODIFIED:20230703T125620Z
UID:14231-1688401200-1688406600@pcastm.pl
SUMMARY:Taniec
DESCRIPTION:Taneczne rytmy nie są im obce również w wakacje. Samba\, rumba\, cza-cza i wiele wiele innych… To super trening nie tylko dla ciała\, ale i dla ducha. \nZobaczcie jak nam idzie \nhttps://www.facebook.com/pcastomaszowmaz/posts/704763151628792 \n
URL:https://pcastm.pl/wydarzenie/taniec-22/
LOCATION:Powiatowe Centrum Animacji Społecznej\, Farbiarska 20/24\, Tomaszów Mazowiecki\, Łódzkie\, 97-200\, Polska
ATTACH;FMTTYPE=image/jpeg:https://pcastm.pl/files/2023/07/taniec-wakacje.jpg
END:VEVENT
END:VCALENDAR