BEGIN:VCALENDAR
VERSION:2.0
PRODID:-//Powiatowe Centrum Animacji Społecznej - ECPv4.9.10//NONSGML v1.0//EN
CALSCALE:GREGORIAN
METHOD:PUBLISH
X-WR-CALNAME:Powiatowe Centrum Animacji Społecznej
X-ORIGINAL-URL:https://pcastm.pl
X-WR-CALDESC:Events for Powiatowe Centrum Animacji Społecznej
BEGIN:VTIMEZONE
TZID:Europe/Warsaw
BEGIN:DAYLIGHT
TZOFFSETFROM:+0100
TZOFFSETTO:+0200
TZNAME:CEST
DTSTART:20240331T010000
END:DAYLIGHT
BEGIN:STANDARD
TZOFFSETFROM:+0200
TZOFFSETTO:+0100
TZNAME:CET
DTSTART:20241027T010000
END:STANDARD
END:VTIMEZONE
BEGIN:VEVENT
DTSTART;TZID=Europe/Warsaw:20240402T120000
DTEND;TZID=Europe/Warsaw:20240405T200000
DTSTAMP:20260423T102225
CREATED:20240402T074221Z
LAST-MODIFIED:20240402T074400Z
UID:18302-1712059200-1712347200@pcastm.pl
SUMMARY:Siłownia
DESCRIPTION:Wiosna to najwyższy czas\, aby zadbać o swoją figurę. Zachęcamy do odwiedzenia najtańszej siłowni w mieście. Zacznij już dziś! \n
URL:https://pcastm.pl/wydarzenie/silownia-49/
LOCATION:Powiatowe Centrum Animacji Społecznej\, Farbiarska 20/24\, Tomaszów Mazowiecki\, Łódzkie\, 97-200\, Polska
ATTACH;FMTTYPE=image/jpeg:https://pcastm.pl/files/2024/03/siłownia-2.jpg
END:VEVENT
BEGIN:VEVENT
DTSTART;TZID=Europe/Warsaw:20240404T120000
DTEND;TZID=Europe/Warsaw:20240404T180000
DTSTAMP:20260423T102225
CREATED:20240402T075933Z
LAST-MODIFIED:20240402T075933Z
UID:18328-1712232000-1712253600@pcastm.pl
SUMMARY:Malarstwo i rysunek
DESCRIPTION:Lubisz rysować\, malować? To propozycja dla Ciebie! Zajęcia przeznaczone są dla dzieci\, młodzieży i dorosłych. Może wziąć w nich udział każdy\, kto chce się sprawdzić\, realizować swoją pasję\, postawić pierwsze kreski lub wybiera się do szkoły artystycznej. \nGrupy: \n12.00-14.00 – dorośli \n16.00-1800 – dzieci i młodzież \nZobaczcie co robimy na zajęciach: \nhttps://www.facebook.com/pcastomaszowmaz/posts/764564602315313 \n
URL:https://pcastm.pl/wydarzenie/malarstwo-i-rysunek-77/
LOCATION:Powiatowe Centrum Animacji Społecznej\, Farbiarska 20/24\, Tomaszów Mazowiecki\, Łódzkie\, 97-200\, Polska
ATTACH;FMTTYPE=image/jpeg:https://pcastm.pl/files/2024/03/malarstwo-2503.jpg
END:VEVENT
BEGIN:VEVENT
DTSTART;TZID=Europe/Warsaw:20240404T160000
DTEND;TZID=Europe/Warsaw:20240404T180000
DTSTAMP:20260423T102225
CREATED:20240402T080045Z
LAST-MODIFIED:20240402T080045Z
UID:18330-1712246400-1712253600@pcastm.pl
SUMMARY:Wspinaczka
DESCRIPTION:Zajęcia odbywają się na nowej profesjonalnej ściance wspinaczkowej. Zapraszamy ! \nhttps://www.facebook.com/reel/551705307112430 \n
URL:https://pcastm.pl/wydarzenie/wspinaczka-66/
LOCATION:Powiatowe Centrum Animacji Społecznej\, Farbiarska 20/24\, Tomaszów Mazowiecki\, Łódzkie\, 97-200\, Polska
ATTACH;FMTTYPE=image/jpeg:https://pcastm.pl/files/2024/03/now-scianka-1.jpg
END:VEVENT
BEGIN:VEVENT
DTSTART;TZID=Europe/Warsaw:20240404T160000
DTEND;TZID=Europe/Warsaw:20240404T183000
DTSTAMP:20260423T102225
CREATED:20240425T065040Z
LAST-MODIFIED:20240425T065040Z
UID:18598-1712246400-1712255400@pcastm.pl
SUMMARY:Ceramika
DESCRIPTION:Lubisz prace manualne? Zajęcia z gliną będą dla Ciebie! Wyciszysz się\, nauczysz cierpliwości i stworzysz coś wyjątkowego. Spotkania mają charakter zabawy. To świetna propozycja zarówno dla dzieci\, młodzieży i dorosłych. \nI grupa – 16.00-17.00 \nII grupa 17.30-18.30 \nTak spędzamy czas na zajęciach: \nhttps://www.facebook.com/pcastomaszowmaz/posts/681995613905546 \n
URL:https://pcastm.pl/wydarzenie/ceramika-66/
LOCATION:Powiatowe Centrum Animacji Społecznej\, Farbiarska 20/24\, Tomaszów Mazowiecki\, Łódzkie\, 97-200\, Polska
ATTACH;FMTTYPE=image/jpeg:https://pcastm.pl/files/2024/04/ceramika-8-04.jpg
END:VEVENT
BEGIN:VEVENT
DTSTART;TZID=Europe/Warsaw:20240404T162000
DTEND;TZID=Europe/Warsaw:20240404T175000
DTSTAMP:20260423T102225
CREATED:20240402T080146Z
LAST-MODIFIED:20240402T080146Z
UID:18332-1712247600-1712253000@pcastm.pl
SUMMARY:Taniec
DESCRIPTION:\n\n\nTo super propozycja zarówno dla tych\, którzy mieli z tańcem do czynienia\, jak i tych którzy chcieliby rozpocząć swoją taneczną przygodę. \n\n\n\n
URL:https://pcastm.pl/wydarzenie/taniec-56/
LOCATION:Powiatowe Centrum Animacji Społecznej\, Farbiarska 20/24\, Tomaszów Mazowiecki\, Łódzkie\, 97-200\, Polska
ATTACH;FMTTYPE=image/jpeg:https://pcastm.pl/files/2024/03/taniec-gawlik.jpg
END:VEVENT
BEGIN:VEVENT
DTSTART;TZID=Europe/Warsaw:20240404T170000
DTEND;TZID=Europe/Warsaw:20240404T183000
DTSTAMP:20260423T102225
CREATED:20240402T080307Z
LAST-MODIFIED:20240402T080307Z
UID:18334-1712250000-1712255400@pcastm.pl
SUMMARY:Hiszpański
DESCRIPTION:\n\n\n\n\n\nChcesz nauczyć się języka hiszpańskiego? Nic prostszego! Zajęcia są przeznaczone dla dorosłych. Ich koszt to jedynie 50 zł/miesiąc. \n\n\n\n\n\n\n\n\n\n\n\n\n\n\n\n\n\n\n\n\n\n\n\n\n\n\n\n\n\n
URL:https://pcastm.pl/wydarzenie/hiszpanski-53/
LOCATION:Powiatowe Centrum Animacji Społecznej\, Farbiarska 20/24\, Tomaszów Mazowiecki\, Łódzkie\, 97-200\, Polska
ATTACH;FMTTYPE=image/png:https://pcastm.pl/files/2024/03/flag-g97b51ad64_1280.png
END:VEVENT
BEGIN:VEVENT
DTSTART;TZID=Europe/Warsaw:20240404T170000
DTEND;TZID=Europe/Warsaw:20240404T190000
DTSTAMP:20260423T102225
CREATED:20240402T090559Z
LAST-MODIFIED:20240402T090559Z
UID:18336-1712250000-1712257200@pcastm.pl
SUMMARY:Film i animacja
DESCRIPTION:Zajęcia przeznaczone dla dzieci i młodzieży. To świetna zabawa i mnóstwo wrażeń\, które zawsze towarzyszą pracy na planie. Do dyspozycji uczestników jest profesjonalny sprzęt. \nCo ciekawego robimy? \nhttps://www.facebook.com/pcastomaszowmaz/videos/7896545760389993/ \n
URL:https://pcastm.pl/wydarzenie/film-i-animacja-35/
LOCATION:Powiatowe Centrum Animacji Społecznej\, Farbiarska 20/24\, Tomaszów Mazowiecki\, Łódzkie\, 97-200\, Polska
ATTACH;FMTTYPE=image/jpeg:https://pcastm.pl/files/2024/03/film-i-animacja-1.jpg
END:VEVENT
END:VCALENDAR