BEGIN:VCALENDAR
VERSION:2.0
PRODID:-//Powiatowe Centrum Animacji Społecznej - ECPv4.9.10//NONSGML v1.0//EN
CALSCALE:GREGORIAN
METHOD:PUBLISH
X-WR-CALNAME:Powiatowe Centrum Animacji Społecznej
X-ORIGINAL-URL:https://pcastm.pl
X-WR-CALDESC:Events for Powiatowe Centrum Animacji Społecznej
BEGIN:VTIMEZONE
TZID:Europe/Warsaw
BEGIN:DAYLIGHT
TZOFFSETFROM:+0100
TZOFFSETTO:+0200
TZNAME:CEST
DTSTART:20240331T010000
END:DAYLIGHT
BEGIN:STANDARD
TZOFFSETFROM:+0200
TZOFFSETTO:+0100
TZNAME:CET
DTSTART:20241027T010000
END:STANDARD
END:VTIMEZONE
BEGIN:VEVENT
DTSTART;TZID=Europe/Warsaw:20240408T120000
DTEND;TZID=Europe/Warsaw:20240412T200000
DTSTAMP:20260423T190054
CREATED:20240408T062531Z
LAST-MODIFIED:20240412T105144Z
UID:18345-1712577600-1712952000@pcastm.pl
SUMMARY:Siłownia
DESCRIPTION:\n\n\n\n\n\n\n\n\n\n\n\n\n\n\n\nWiosna to najwyższy czas\, aby zadbać o swoją figurę. Zachęcamy do odwiedzenia najtańszej siłowni w mieście. Zacznij już dziś! \n\n\n\n\n\n\n\n\n\n\n\n\n\n\n\n\n
URL:https://pcastm.pl/wydarzenie/silownia-50/
LOCATION:Powiatowe Centrum Animacji Społecznej\, Farbiarska 20/24\, Tomaszów Mazowiecki\, Łódzkie\, 97-200\, Polska
ATTACH;FMTTYPE=image/jpeg:https://pcastm.pl/files/2024/03/siłownia-2.jpg
END:VEVENT
BEGIN:VEVENT
DTSTART;TZID=Europe/Warsaw:20240409T120000
DTEND;TZID=Europe/Warsaw:20240409T170000
DTSTAMP:20260423T190055
CREATED:20240408T064044Z
LAST-MODIFIED:20240408T064044Z
UID:18364-1712664000-1712682000@pcastm.pl
SUMMARY:Wokal
DESCRIPTION:\n\n\n\n\n\n\n\n\n\n\n\nChcesz nauczyć się języka hiszpańskiego? Nic prostszego! Zajęcia są przeznaczone dla dorosłych. Ich koszt to jedynie 50 zł/miesiąc. \n\n\n\n\n\n\n\n\n\n\n\n\n
URL:https://pcastm.pl/wydarzenie/wokal-72/
LOCATION:Powiatowe Centrum Animacji Społecznej\, Farbiarska 20/24\, Tomaszów Mazowiecki\, Łódzkie\, 97-200\, Polska
ATTACH;FMTTYPE=image/jpeg:https://pcastm.pl/files/2024/03/1-1.jpg
END:VEVENT
BEGIN:VEVENT
DTSTART;TZID=Europe/Warsaw:20240409T130000
DTEND;TZID=Europe/Warsaw:20240409T180000
DTSTAMP:20260423T190055
CREATED:20240408T064141Z
LAST-MODIFIED:20240408T064141Z
UID:18367-1712667600-1712685600@pcastm.pl
SUMMARY:Gitara
DESCRIPTION:\n\n\n\n\n\n\n\n\n\n\n\n\n\n\n\n\n\n\n\n\n\n\n\nPodczas nauki gry na gitarze dowiesz się jak wyglądają podstawowe akordy\, jak zagrać prosty rytm na przykładach znanych utworów oraz wiele więcej. \n\n\n\n\n\n\n\n\n\n\n\n\n\n\n\n\n\n\n\n\n\n\n\n\n
URL:https://pcastm.pl/wydarzenie/gitara-93/
LOCATION:Powiatowe Centrum Animacji Społecznej\, Farbiarska 20/24\, Tomaszów Mazowiecki\, Łódzkie\, 97-200\, Polska
ATTACH;FMTTYPE=image/jpeg:https://pcastm.pl/files/2024/03/417538562_866634632108309_7426293893034564830_n.jpg
END:VEVENT
BEGIN:VEVENT
DTSTART;TZID=Europe/Warsaw:20240409T160000
DTEND;TZID=Europe/Warsaw:20240409T164500
DTSTAMP:20260423T190055
CREATED:20240408T064302Z
LAST-MODIFIED:20240408T064302Z
UID:18369-1712678400-1712681100@pcastm.pl
SUMMARY:Akademia Małolata z tańcem
DESCRIPTION:Zajęcia rytmiczno-muzyczne przeznaczone dla dzieci od 4 roku życia\, na których maluchy uczą się też podstaw różnych tańców ludowych. \nhttps://www.facebook.com/pcastomaszowmaz/posts/750137153758058 \n
URL:https://pcastm.pl/wydarzenie/akademia-malolata-z-tancem-30/
LOCATION:Powiatowe Centrum Animacji Społecznej\, Farbiarska 20/24\, Tomaszów Mazowiecki\, Łódzkie\, 97-200\, Polska
ATTACH;FMTTYPE=image/jpeg:https://pcastm.pl/files/2024/03/małolata-taniec.jpg
END:VEVENT
BEGIN:VEVENT
DTSTART;TZID=Europe/Warsaw:20240409T160000
DTEND;TZID=Europe/Warsaw:20240409T180000
DTSTAMP:20260423T190055
CREATED:20240408T064354Z
LAST-MODIFIED:20240408T064354Z
UID:18371-1712678400-1712685600@pcastm.pl
SUMMARY:Wspinaczka
DESCRIPTION:Zajęcia odbywają się na nowej profesjonalnej ściance wspinaczkowej. Zapraszamy ! \nhttps://www.facebook.com/reel/551705307112430 \n
URL:https://pcastm.pl/wydarzenie/wspinaczka-67/
LOCATION:Powiatowe Centrum Animacji Społecznej\, Farbiarska 20/24\, Tomaszów Mazowiecki\, Łódzkie\, 97-200\, Polska
ATTACH;FMTTYPE=image/jpeg:https://pcastm.pl/files/2024/03/now-scianka-1.jpg
END:VEVENT
BEGIN:VEVENT
DTSTART;TZID=Europe/Warsaw:20240409T170000
DTEND;TZID=Europe/Warsaw:20240409T183000
DTSTAMP:20260423T190055
CREATED:20240408T064632Z
LAST-MODIFIED:20240408T064632Z
UID:18375-1712682000-1712687400@pcastm.pl
SUMMARY:Włoski
DESCRIPTION:Chcesz do nas dołączyć? Koszt to tylko 50 zł. miesięcznie! Zajęcia odbywają się raz w tygodniu i trwają aż dwie godziny lekcyjne. \nTworzymy również grupę dla dzieci. \nSzczegóły w sekretariacie oraz pod nr telefonu 44 724 63 34. Zapraszamy! \n
URL:https://pcastm.pl/wydarzenie/wloski-28/
LOCATION:Powiatowe Centrum Animacji Społecznej\, Farbiarska 20/24\, Tomaszów Mazowiecki\, Łódzkie\, 97-200\, Polska
ATTACH;FMTTYPE=image/jpeg:https://pcastm.pl/files/2024/03/włoski-język.jpg
END:VEVENT
BEGIN:VEVENT
DTSTART;TZID=Europe/Warsaw:20240409T170000
DTEND;TZID=Europe/Warsaw:20240410T190000
DTSTAMP:20260423T190055
CREATED:20240408T064831Z
LAST-MODIFIED:20240408T064846Z
UID:18377-1712682000-1712775600@pcastm.pl
SUMMARY:Film i animacja
DESCRIPTION:Zajęcia przeznaczone dla dzieci i młodzieży. To świetna zabawa i mnóstwo wrażeń\, które zawsze towarzyszą pracy na planie. Do dyspozycji uczestników jest profesjonalny sprzęt. \nCo ciekawego robimy? \nhttps://www.facebook.com/pcastomaszowmaz/videos/1147705443323060/ \n
URL:https://pcastm.pl/wydarzenie/film-a-animacja/
LOCATION:Powiatowe Centrum Animacji Społecznej\, Farbiarska 20/24\, Tomaszów Mazowiecki\, Łódzkie\, 97-200\, Polska
ATTACH;FMTTYPE=image/jpeg:https://pcastm.pl/files/2024/03/film-i-animacja-1.jpg
END:VEVENT
END:VCALENDAR