BEGIN:VCALENDAR
VERSION:2.0
PRODID:-//Powiatowe Centrum Animacji Społecznej - ECPv4.9.10//NONSGML v1.0//EN
CALSCALE:GREGORIAN
METHOD:PUBLISH
X-WR-CALNAME:Powiatowe Centrum Animacji Społecznej
X-ORIGINAL-URL:https://pcastm.pl
X-WR-CALDESC:Events for Powiatowe Centrum Animacji Społecznej
BEGIN:VTIMEZONE
TZID:Europe/Warsaw
BEGIN:DAYLIGHT
TZOFFSETFROM:+0100
TZOFFSETTO:+0200
TZNAME:CEST
DTSTART:20240331T010000
END:DAYLIGHT
BEGIN:STANDARD
TZOFFSETFROM:+0200
TZOFFSETTO:+0100
TZNAME:CET
DTSTART:20241027T010000
END:STANDARD
END:VTIMEZONE
BEGIN:VEVENT
DTSTART;TZID=Europe/Warsaw:20240408T120000
DTEND;TZID=Europe/Warsaw:20240412T200000
DTSTAMP:20260423T205324
CREATED:20240408T062531Z
LAST-MODIFIED:20240412T105144Z
UID:18345-1712577600-1712952000@pcastm.pl
SUMMARY:Siłownia
DESCRIPTION:\n\n\n\n\n\n\n\n\n\n\n\n\n\n\n\nWiosna to najwyższy czas\, aby zadbać o swoją figurę. Zachęcamy do odwiedzenia najtańszej siłowni w mieście. Zacznij już dziś! \n\n\n\n\n\n\n\n\n\n\n\n\n\n\n\n\n
URL:https://pcastm.pl/wydarzenie/silownia-50/
LOCATION:Powiatowe Centrum Animacji Społecznej\, Farbiarska 20/24\, Tomaszów Mazowiecki\, Łódzkie\, 97-200\, Polska
ATTACH;FMTTYPE=image/jpeg:https://pcastm.pl/files/2024/03/siłownia-2.jpg
END:VEVENT
BEGIN:VEVENT
DTSTART;TZID=Europe/Warsaw:20240409T170000
DTEND;TZID=Europe/Warsaw:20240410T190000
DTSTAMP:20260423T205324
CREATED:20240408T064831Z
LAST-MODIFIED:20240408T064846Z
UID:18377-1712682000-1712775600@pcastm.pl
SUMMARY:Film i animacja
DESCRIPTION:Zajęcia przeznaczone dla dzieci i młodzieży. To świetna zabawa i mnóstwo wrażeń\, które zawsze towarzyszą pracy na planie. Do dyspozycji uczestników jest profesjonalny sprzęt. \nCo ciekawego robimy? \nhttps://www.facebook.com/pcastomaszowmaz/videos/1147705443323060/ \n
URL:https://pcastm.pl/wydarzenie/film-a-animacja/
LOCATION:Powiatowe Centrum Animacji Społecznej\, Farbiarska 20/24\, Tomaszów Mazowiecki\, Łódzkie\, 97-200\, Polska
ATTACH;FMTTYPE=image/jpeg:https://pcastm.pl/files/2024/03/film-i-animacja-1.jpg
END:VEVENT
BEGIN:VEVENT
DTSTART;TZID=Europe/Warsaw:20240410T100000
DTEND;TZID=Europe/Warsaw:20240410T110000
DTSTAMP:20260423T205324
CREATED:20240408T065042Z
LAST-MODIFIED:20240408T065042Z
UID:18380-1712743200-1712746800@pcastm.pl
SUMMARY:Informatyka dla seniora
DESCRIPTION:Zajęcia z informatyki skierowane są głównie do grupy seniorów\, którzy chcieliby nabyć podstawowe umiejętności obsługi komputera oraz zapoznać się z nowoczesnymi technologiami. Ich celem jest nauka komunikowania się przez Internet z rodziną i znajomymi\, przeglądania interesujących informacji w Internecie\, dokonywania zakupów przez Internet\, płacenia rachunków\, jak również obsługa programu do napisania pisma urzędowego. \n
URL:https://pcastm.pl/wydarzenie/informatyka-dla-seniora-28/
LOCATION:Powiatowe Centrum Animacji Społecznej\, Farbiarska 20/24\, Tomaszów Mazowiecki\, Łódzkie\, 97-200\, Polska
ATTACH;FMTTYPE=image/jpeg:https://pcastm.pl/files/2024/04/informatyka-senior-8-04.jpg
END:VEVENT
BEGIN:VEVENT
DTSTART;TZID=Europe/Warsaw:20240410T120000
DTEND;TZID=Europe/Warsaw:20240410T170000
DTSTAMP:20260423T205324
CREATED:20240408T065200Z
LAST-MODIFIED:20240408T065200Z
UID:18383-1712750400-1712768400@pcastm.pl
SUMMARY:Gitara
DESCRIPTION:\n\n\n\n\n\n\n\n\n\n\n\n\n\n\nPodczas nauki gry na gitarze dowiesz się jak wyglądają podstawowe akordy\, jak zagrać prosty rytm na przykładach znanych utworów oraz wiele więcej. \n\n\n\n\n\n\n\n\n\n\n\n\n\n\n\n
URL:https://pcastm.pl/wydarzenie/gitara-94/
LOCATION:Powiatowe Centrum Animacji Społecznej\, Farbiarska 20/24\, Tomaszów Mazowiecki\, Łódzkie\, 97-200\, Polska
ATTACH;FMTTYPE=image/jpeg:https://pcastm.pl/files/2024/03/417538562_866634632108309_7426293893034564830_n.jpg
END:VEVENT
BEGIN:VEVENT
DTSTART;TZID=Europe/Warsaw:20240410T120000
DTEND;TZID=Europe/Warsaw:20240410T170000
DTSTAMP:20260423T205324
CREATED:20240408T065358Z
LAST-MODIFIED:20240408T065358Z
UID:18385-1712750400-1712768400@pcastm.pl
SUMMARY:Wokal
DESCRIPTION:\n\nMarzą Ci się występy na scenie? Lubisz śpiewać i chcesz podszlifować swój warsztat?  Zajęcia przeznaczone są dla dzieci\, młodzieży i dorosłych. Uczestnicy sekcji prezentują placówkę w różnego rodzaju konkursach\, odnosząc duże sukcesy. \n\n\n
URL:https://pcastm.pl/wydarzenie/wokal-73/
LOCATION:Powiatowe Centrum Animacji Społecznej\, Farbiarska 20/24\, Tomaszów Mazowiecki\, Łódzkie\, 97-200\, Polska
ATTACH;FMTTYPE=image/jpeg:https://pcastm.pl/files/2024/03/MG_9480.jpg
END:VEVENT
BEGIN:VEVENT
DTSTART;TZID=Europe/Warsaw:20240410T150000
DTEND;TZID=Europe/Warsaw:20240410T183000
DTSTAMP:20260423T205324
CREATED:20240408T074407Z
LAST-MODIFIED:20240408T074407Z
UID:18387-1712761200-1712773800@pcastm.pl
SUMMARY:Plastyka
DESCRIPTION:Zajęcia rozwijają zdolności i zainteresowania plastyczne\, pobudzają kreatywność i wyobraźnię dziecka. Na zajęciach wykorzystywane są różnorodne materiały i techniki\, które umożliwiają rozwijanie zdolności manualnych i wyobraźni\, zwiększają możliwości percepcyjne oraz poszerzają pole wyobraźni i myślenia dziecka. \n15.00-16.30 grupa młodsza \n17.00-18.30 grupa starsza \n
URL:https://pcastm.pl/wydarzenie/plastyka-30/
LOCATION:Powiatowe Centrum Animacji Społecznej\, Farbiarska 20/24\, Tomaszów Mazowiecki\, Łódzkie\, 97-200\, Polska
ATTACH;FMTTYPE=image/jpeg:https://pcastm.pl/files/2024/03/plastyka-2.jpg
END:VEVENT
END:VCALENDAR