BEGIN:VCALENDAR
VERSION:2.0
PRODID:-//Powiatowe Centrum Animacji Społecznej - ECPv4.9.10//NONSGML v1.0//EN
CALSCALE:GREGORIAN
METHOD:PUBLISH
X-WR-CALNAME:Powiatowe Centrum Animacji Społecznej
X-ORIGINAL-URL:https://pcastm.pl
X-WR-CALDESC:Events for Powiatowe Centrum Animacji Społecznej
BEGIN:VTIMEZONE
TZID:Europe/Warsaw
BEGIN:DAYLIGHT
TZOFFSETFROM:+0100
TZOFFSETTO:+0200
TZNAME:CEST
DTSTART:20240331T010000
END:DAYLIGHT
BEGIN:STANDARD
TZOFFSETFROM:+0200
TZOFFSETTO:+0100
TZNAME:CET
DTSTART:20241027T010000
END:STANDARD
END:VTIMEZONE
BEGIN:VEVENT
DTSTART;VALUE=DATE:20240422
DTEND;VALUE=DATE:20240427
DTSTAMP:20260424T175152
CREATED:20240422T100859Z
LAST-MODIFIED:20240422T113440Z
UID:18475-1713744000-1714175999@pcastm.pl
SUMMARY:Gitara - ODWOŁANE
DESCRIPTION:\n\n\n\n\n\n\n\n\n\n\n  \n\n\n\n\n\n\n\n\n\n\n\n
URL:https://pcastm.pl/wydarzenie/gitara-98/
LOCATION:Powiatowe Centrum Animacji Społecznej\, Farbiarska 20/24\, Tomaszów Mazowiecki\, Łódzkie\, 97-200\, Polska
ATTACH;FMTTYPE=image/png:https://pcastm.pl/files/2024/04/UWAGA-pomarańczowe.png
END:VEVENT
BEGIN:VEVENT
DTSTART;TZID=Europe/Warsaw:20240422T120000
DTEND;TZID=Europe/Warsaw:20240426T200000
DTSTAMP:20260424T175152
CREATED:20240422T100717Z
LAST-MODIFIED:20240422T100717Z
UID:18471-1713787200-1714161600@pcastm.pl
SUMMARY:Siłownia
DESCRIPTION:\n\n\n\n\n\n\n\n\n\n\n\n\n\n\n\n\n\nWiosna to najwyższy czas\, aby zadbać o swoją figurę. Zachęcamy do odwiedzenia najtańszej siłowni w mieście. Zacznij już dziś! \n\n\n\n\n\n\n\n\n\n\n\n\n\n\n\n\n\n\n
URL:https://pcastm.pl/wydarzenie/silownia-52/
LOCATION:Powiatowe Centrum Animacji Społecznej\, Farbiarska 20/24\, Tomaszów Mazowiecki\, Łódzkie\, 97-200\, Polska
ATTACH;FMTTYPE=image/jpeg:https://pcastm.pl/files/2023/12/siłownia-2.jpg
END:VEVENT
BEGIN:VEVENT
DTSTART;VALUE=DATE:20240423
DTEND;VALUE=DATE:20240424
DTSTAMP:20260424T175152
CREATED:20240422T133143Z
LAST-MODIFIED:20240422T133144Z
UID:18490-1713830400-1713916799@pcastm.pl
SUMMARY:Wspinaczka - ZAJĘCIA PRZENIESIONE NA ŚRODĘ
DESCRIPTION:
URL:https://pcastm.pl/wydarzenie/wspinaczka-zajecia-przeniesione-na-srode/
LOCATION:Powiatowe Centrum Animacji Społecznej\, Farbiarska 20/24\, Tomaszów Mazowiecki\, Łódzkie\, 97-200\, Polska
ATTACH;FMTTYPE=image/png:https://pcastm.pl/files/2024/04/UWAGA-pomarańczowe.png
END:VEVENT
END:VCALENDAR