BEGIN:VCALENDAR
VERSION:2.0
PRODID:-//Powiatowe Centrum Animacji Społecznej - ECPv4.9.10//NONSGML v1.0//EN
CALSCALE:GREGORIAN
METHOD:PUBLISH
X-WR-CALNAME:Powiatowe Centrum Animacji Społecznej
X-ORIGINAL-URL:https://pcastm.pl
X-WR-CALDESC:Events for Powiatowe Centrum Animacji Społecznej
BEGIN:VTIMEZONE
TZID:Europe/Warsaw
BEGIN:DAYLIGHT
TZOFFSETFROM:+0100
TZOFFSETTO:+0200
TZNAME:CEST
DTSTART:20240331T010000
END:DAYLIGHT
BEGIN:STANDARD
TZOFFSETFROM:+0200
TZOFFSETTO:+0100
TZNAME:CET
DTSTART:20241027T010000
END:STANDARD
END:VTIMEZONE
BEGIN:VEVENT
DTSTART;VALUE=DATE:20240422
DTEND;VALUE=DATE:20240427
DTSTAMP:20260424T212154
CREATED:20240422T100859Z
LAST-MODIFIED:20240422T113440Z
UID:18475-1713744000-1714175999@pcastm.pl
SUMMARY:Gitara - ODWOŁANE
DESCRIPTION:\n\n\n\n\n\n\n\n\n\n\n  \n\n\n\n\n\n\n\n\n\n\n\n
URL:https://pcastm.pl/wydarzenie/gitara-98/
LOCATION:Powiatowe Centrum Animacji Społecznej\, Farbiarska 20/24\, Tomaszów Mazowiecki\, Łódzkie\, 97-200\, Polska
ATTACH;FMTTYPE=image/png:https://pcastm.pl/files/2024/04/UWAGA-pomarańczowe.png
END:VEVENT
BEGIN:VEVENT
DTSTART;TZID=Europe/Warsaw:20240422T120000
DTEND;TZID=Europe/Warsaw:20240426T200000
DTSTAMP:20260424T212154
CREATED:20240422T100717Z
LAST-MODIFIED:20240422T100717Z
UID:18471-1713787200-1714161600@pcastm.pl
SUMMARY:Siłownia
DESCRIPTION:\n\n\n\n\n\n\n\n\n\n\n\n\n\n\n\n\n\nWiosna to najwyższy czas\, aby zadbać o swoją figurę. Zachęcamy do odwiedzenia najtańszej siłowni w mieście. Zacznij już dziś! \n\n\n\n\n\n\n\n\n\n\n\n\n\n\n\n\n\n\n
URL:https://pcastm.pl/wydarzenie/silownia-52/
LOCATION:Powiatowe Centrum Animacji Społecznej\, Farbiarska 20/24\, Tomaszów Mazowiecki\, Łódzkie\, 97-200\, Polska
ATTACH;FMTTYPE=image/jpeg:https://pcastm.pl/files/2023/12/siłownia-2.jpg
END:VEVENT
BEGIN:VEVENT
DTSTART;TZID=Europe/Warsaw:20240425T120000
DTEND;TZID=Europe/Warsaw:20240425T180000
DTSTAMP:20260424T212154
CREATED:20240425T062730Z
LAST-MODIFIED:20240425T062730Z
UID:18576-1714046400-1714068000@pcastm.pl
SUMMARY:Malarstwo i rysunek
DESCRIPTION:Lubisz rysować\, malować? To propozycja dla Ciebie! Zajęcia przeznaczone są dla dzieci\, młodzieży i dorosłych. Może wziąć w nich udział każdy\, kto chce się sprawdzić\, realizować swoją pasję\, postawić pierwsze kreski lub wybiera się do szkoły artystycznej. \nGrupy: \n12.00-14.00 – dorośli \n16.00-1800 – dzieci i młodzież \nZobaczcie co robimy na zajęciach: \nhttps://www.facebook.com/pcastomaszowmaz/posts/764564602315313 \n
URL:https://pcastm.pl/wydarzenie/malarstwo-i-rysunek-83/
LOCATION:Powiatowe Centrum Animacji Społecznej\, Farbiarska 20/24\, Tomaszów Mazowiecki\, Łódzkie\, 97-200\, Polska
ATTACH;FMTTYPE=image/jpeg:https://pcastm.pl/files/2024/03/malarstwo-2503.jpg
END:VEVENT
BEGIN:VEVENT
DTSTART;TZID=Europe/Warsaw:20240425T160000
DTEND;TZID=Europe/Warsaw:20240425T180000
DTSTAMP:20260424T212154
CREATED:20240425T062836Z
LAST-MODIFIED:20240425T062836Z
UID:18578-1714060800-1714068000@pcastm.pl
SUMMARY:Wspinaczka
DESCRIPTION:Zajęcia odbywają się na nowej profesjonalnej ściance wspinaczkowej. Zapraszamy ! \nhttps://www.facebook.com/reel/551705307112430 \n
URL:https://pcastm.pl/wydarzenie/wspinaczka-71/
LOCATION:Powiatowe Centrum Animacji Społecznej\, Farbiarska 20/24\, Tomaszów Mazowiecki\, Łódzkie\, 97-200\, Polska
ATTACH;FMTTYPE=image/jpeg:https://pcastm.pl/files/2024/03/now-scianka-1.jpg
END:VEVENT
BEGIN:VEVENT
DTSTART;TZID=Europe/Warsaw:20240425T160000
DTEND;TZID=Europe/Warsaw:20240425T180000
DTSTAMP:20260424T212154
CREATED:20240425T062959Z
LAST-MODIFIED:20240425T062959Z
UID:18580-1714060800-1714068000@pcastm.pl
SUMMARY:Film i animacja
DESCRIPTION:Zajęcia przeznaczone dla dzieci i młodzieży. To świetna zabawa i mnóstwo wrażeń\, które zawsze towarzyszą pracy na planie. Do dyspozycji uczestników jest profesjonalny sprzęt. \nCo ciekawego robimy? \nhttps://www.facebook.com/pcastomaszowmaz/videos/7896545760389993/ \n
URL:https://pcastm.pl/wydarzenie/film-i-animacja-39/
LOCATION:Powiatowe Centrum Animacji Społecznej\, Farbiarska 20/24\, Tomaszów Mazowiecki\, Łódzkie\, 97-200\, Polska
ATTACH;FMTTYPE=image/jpeg:https://pcastm.pl/files/2024/03/film-i-animacja-1.jpg
END:VEVENT
BEGIN:VEVENT
DTSTART;TZID=Europe/Warsaw:20240425T160000
DTEND;TZID=Europe/Warsaw:20240425T183000
DTSTAMP:20260424T212154
CREATED:20240425T064609Z
LAST-MODIFIED:20240425T064609Z
UID:18592-1714060800-1714069800@pcastm.pl
SUMMARY:Ceramika
DESCRIPTION:Lubisz prace manualne? Zajęcia z gliną będą dla Ciebie! Wyciszysz się\, nauczysz cierpliwości i stworzysz coś wyjątkowego. Spotkania mają charakter zabawy. To świetna propozycja zarówno dla dzieci\, młodzieży i dorosłych. \nI grupa – 16.00-17.00 \nII grupa 17.30-18.30 \nTak spędzamy czas na zajęciach: \nhttps://www.facebook.com/pcastomaszowmaz/posts/681995613905546 \n
URL:https://pcastm.pl/wydarzenie/ceramika-63/
LOCATION:Powiatowe Centrum Animacji Społecznej\, Farbiarska 20/24\, Tomaszów Mazowiecki\, Łódzkie\, 97-200\, Polska
ATTACH;FMTTYPE=image/jpeg:https://pcastm.pl/files/2024/04/ceramika-8-04.jpg
END:VEVENT
BEGIN:VEVENT
DTSTART;TZID=Europe/Warsaw:20240425T162000
DTEND;TZID=Europe/Warsaw:20240425T175000
DTSTAMP:20260424T212154
CREATED:20240425T063109Z
LAST-MODIFIED:20240425T063109Z
UID:18582-1714062000-1714067400@pcastm.pl
SUMMARY:Taniec
DESCRIPTION:\n\n\n\n\n\nTo super propozycja zarówno dla tych\, którzy mieli z tańcem do czynienia\, jak i tych którzy chcieliby rozpocząć swoją taneczną przygodę. \n\n\n\n\n\n\n
URL:https://pcastm.pl/wydarzenie/taniec-59/
LOCATION:Powiatowe Centrum Animacji Społecznej\, Farbiarska 20/24\, Tomaszów Mazowiecki\, Łódzkie\, 97-200\, Polska
ATTACH;FMTTYPE=image/jpeg:https://pcastm.pl/files/2024/04/taniec-czw-1204.jpg
END:VEVENT
BEGIN:VEVENT
DTSTART;TZID=Europe/Warsaw:20240425T170000
DTEND;TZID=Europe/Warsaw:20240425T183000
DTSTAMP:20260424T212154
CREATED:20240425T063230Z
LAST-MODIFIED:20240425T063230Z
UID:18584-1714064400-1714069800@pcastm.pl
SUMMARY:Hiszpański
DESCRIPTION:\n\n\n\n\n\n\n\n\nChcesz nauczyć się języka hiszpańskiego? Nic prostszego! Zajęcia są przeznaczone dla dorosłych. Ich koszt to jedynie 50 zł/miesiąc. \n\n\n\n\n\n\n\n\n\n\n\n\n\n\n\n\n\n\n\n\n\n\n\n\n\n\n\n\n\n\n\n\n
URL:https://pcastm.pl/wydarzenie/hiszpanski-59/
LOCATION:Powiatowe Centrum Animacji Społecznej\, Farbiarska 20/24\, Tomaszów Mazowiecki\, Łódzkie\, 97-200\, Polska
ATTACH;FMTTYPE=image/png:https://pcastm.pl/files/2024/03/flag-g97b51ad64_1280.png
END:VEVENT
END:VCALENDAR