BEGIN:VCALENDAR
VERSION:2.0
PRODID:-//Powiatowe Centrum Animacji Społecznej - ECPv4.9.10//NONSGML v1.0//EN
CALSCALE:GREGORIAN
METHOD:PUBLISH
X-WR-CALNAME:Powiatowe Centrum Animacji Społecznej
X-ORIGINAL-URL:https://pcastm.pl
X-WR-CALDESC:Events for Powiatowe Centrum Animacji Społecznej
BEGIN:VTIMEZONE
TZID:Europe/Warsaw
BEGIN:DAYLIGHT
TZOFFSETFROM:+0100
TZOFFSETTO:+0200
TZNAME:CEST
DTSTART:20240331T010000
END:DAYLIGHT
BEGIN:STANDARD
TZOFFSETFROM:+0200
TZOFFSETTO:+0100
TZNAME:CET
DTSTART:20241027T010000
END:STANDARD
END:VTIMEZONE
BEGIN:VEVENT
DTSTART;VALUE=DATE:20240422
DTEND;VALUE=DATE:20240427
DTSTAMP:20260425T003405
CREATED:20240422T100859Z
LAST-MODIFIED:20240422T113440Z
UID:18475-1713744000-1714175999@pcastm.pl
SUMMARY:Gitara - ODWOŁANE
DESCRIPTION:\n\n\n\n\n\n\n\n\n\n\n  \n\n\n\n\n\n\n\n\n\n\n\n
URL:https://pcastm.pl/wydarzenie/gitara-98/
LOCATION:Powiatowe Centrum Animacji Społecznej\, Farbiarska 20/24\, Tomaszów Mazowiecki\, Łódzkie\, 97-200\, Polska
ATTACH;FMTTYPE=image/png:https://pcastm.pl/files/2024/04/UWAGA-pomarańczowe.png
END:VEVENT
BEGIN:VEVENT
DTSTART;TZID=Europe/Warsaw:20240422T120000
DTEND;TZID=Europe/Warsaw:20240426T200000
DTSTAMP:20260425T003405
CREATED:20240422T100717Z
LAST-MODIFIED:20240422T100717Z
UID:18471-1713787200-1714161600@pcastm.pl
SUMMARY:Siłownia
DESCRIPTION:\n\n\n\n\n\n\n\n\n\n\n\n\n\n\n\n\n\nWiosna to najwyższy czas\, aby zadbać o swoją figurę. Zachęcamy do odwiedzenia najtańszej siłowni w mieście. Zacznij już dziś! \n\n\n\n\n\n\n\n\n\n\n\n\n\n\n\n\n\n\n
URL:https://pcastm.pl/wydarzenie/silownia-52/
LOCATION:Powiatowe Centrum Animacji Społecznej\, Farbiarska 20/24\, Tomaszów Mazowiecki\, Łódzkie\, 97-200\, Polska
ATTACH;FMTTYPE=image/jpeg:https://pcastm.pl/files/2023/12/siłownia-2.jpg
END:VEVENT
BEGIN:VEVENT
DTSTART;TZID=Europe/Warsaw:20240426T140000
DTEND;TZID=Europe/Warsaw:20240426T180000
DTSTAMP:20260425T003405
CREATED:20240425T063430Z
LAST-MODIFIED:20240425T063430Z
UID:18586-1714140000-1714154400@pcastm.pl
SUMMARY:Dzierlatki
DESCRIPTION:Spotkanie sekcji regionalno-turystycznej. Dołączyć może każdy\, kto chciałby poznać nowe osoby. lubi prace manualne\, wycieczki tematyczne czy występy na scenie. \nhttps://www.facebook.com/pcastomaszowmaz/posts/866564002115372 \n
URL:https://pcastm.pl/wydarzenie/dzierlatki-38/
LOCATION:Powiatowe Centrum Animacji Społecznej\, Farbiarska 20/24\, Tomaszów Mazowiecki\, Łódzkie\, 97-200\, Polska
ATTACH;FMTTYPE=image/jpeg:https://pcastm.pl/files/2024/03/8967027f-9bf5-427a-a72e-a69c3ca50323.jpg
END:VEVENT
BEGIN:VEVENT
DTSTART;TZID=Europe/Warsaw:20240426T160000
DTEND;TZID=Europe/Warsaw:20240426T170000
DTSTAMP:20260425T003405
CREATED:20240425T063613Z
LAST-MODIFIED:20240425T063613Z
UID:18588-1714147200-1714150800@pcastm.pl
SUMMARY:Fotografia
DESCRIPTION:Chcesz poznać tajniki fotografii? Lubisz robić zdjęcia? Ta propozycja jest dla Ciebie! Zobacz co ciekawego robimy: \nhttps://www.facebook.com/pcastomaszowmaz/posts/862785392493233 \n
URL:https://pcastm.pl/wydarzenie/fotografia-48/
LOCATION:Powiatowe Centrum Animacji Społecznej\, Farbiarska 20/24\, Tomaszów Mazowiecki\, Łódzkie\, 97-200\, Polska
ATTACH;FMTTYPE=image/jpeg:https://pcastm.pl/files/2024/03/foto-zdj-aparat.jpg
END:VEVENT
BEGIN:VEVENT
DTSTART;TZID=Europe/Warsaw:20240426T160000
DTEND;TZID=Europe/Warsaw:20240426T200000
DTSTAMP:20260425T003405
CREATED:20240425T063758Z
LAST-MODIFIED:20240603T074406Z
UID:18590-1714147200-1714161600@pcastm.pl
SUMMARY:Teatr
DESCRIPTION:Zajęcia teatralne dla dzieci i młodzieży to połączenie nauki i zabawy\, które doskonalą umiejętności sceniczne oraz uczą wyrażać emocje\, co pozytywnie wpływa na relacje z rówieśnikami. \n
URL:https://pcastm.pl/wydarzenie/teatr-56/
LOCATION:Powiatowe Centrum Animacji Społecznej\, Farbiarska 20/24\, Tomaszów Mazowiecki\, Łódzkie\, 97-200\, Polska
ATTACH;FMTTYPE=image/jpeg:https://pcastm.pl/files/2024/03/MG_9791.jpg
END:VEVENT
END:VCALENDAR