BEGIN:VCALENDAR
VERSION:2.0
PRODID:-//Powiatowe Centrum Animacji Społecznej - ECPv4.9.10//NONSGML v1.0//EN
CALSCALE:GREGORIAN
METHOD:PUBLISH
X-WR-CALNAME:Powiatowe Centrum Animacji Społecznej
X-ORIGINAL-URL:https://pcastm.pl
X-WR-CALDESC:Events for Powiatowe Centrum Animacji Społecznej
BEGIN:VTIMEZONE
TZID:Europe/Warsaw
BEGIN:DAYLIGHT
TZOFFSETFROM:+0100
TZOFFSETTO:+0200
TZNAME:CEST
DTSTART:20240331T010000
END:DAYLIGHT
BEGIN:STANDARD
TZOFFSETFROM:+0200
TZOFFSETTO:+0100
TZNAME:CET
DTSTART:20241027T010000
END:STANDARD
END:VTIMEZONE
BEGIN:VEVENT
DTSTART;TZID=Europe/Warsaw:20240513T120000
DTEND;TZID=Europe/Warsaw:20240517T200000
DTSTAMP:20260426T001142
CREATED:20240513T130742Z
LAST-MODIFIED:20240513T130742Z
UID:18717-1715601600-1715976000@pcastm.pl
SUMMARY:Siłownia
DESCRIPTION:\n\n\n\n\n\n\n\n\n\n\n\n\n\n\n\n\n\n\n\nWiosna to najwyższy czas\, aby zadbać o swoją figurę. Zachęcamy do odwiedzenia najtańszej siłowni w mieście. Zacznij już dziś! \n\n\n\n\n\n\n\n\n\n\n\n\n\n\n\n\n\n\n\n\n
URL:https://pcastm.pl/wydarzenie/silownia-54/
LOCATION:Powiatowe Centrum Animacji Społecznej\, Farbiarska 20/24\, Tomaszów Mazowiecki\, Łódzkie\, 97-200\, Polska
ATTACH;FMTTYPE=image/jpeg:https://pcastm.pl/files/2024/03/siłownia-2.jpg
END:VEVENT
BEGIN:VEVENT
DTSTART;TZID=Europe/Warsaw:20240517T140000
DTEND;TZID=Europe/Warsaw:20240517T180000
DTSTAMP:20260426T001142
CREATED:20240517T063941Z
LAST-MODIFIED:20240517T063941Z
UID:18773-1715954400-1715968800@pcastm.pl
SUMMARY:Dzierlatki
DESCRIPTION:Spotkanie sekcji regionalno-turystycznej. Dołączyć może każdy\, kto chciałby poznać nowe osoby. lubi prace manualne\, wycieczki tematyczne czy występy na scenie. \nhttps://www.facebook.com/pcastomaszowmaz/posts/866564002115372 \n
URL:https://pcastm.pl/wydarzenie/dzierlatki-40/
LOCATION:Powiatowe Centrum Animacji Społecznej\, Farbiarska 20/24\, Tomaszów Mazowiecki\, Łódzkie\, 97-200\, Polska
ATTACH;FMTTYPE=image/jpeg:https://pcastm.pl/files/2024/05/b0008bbb-2941-473c-bfcc-e24cb6929dd4.jpg
END:VEVENT
BEGIN:VEVENT
DTSTART;TZID=Europe/Warsaw:20240517T160000
DTEND;TZID=Europe/Warsaw:20240517T170000
DTSTAMP:20260426T001142
CREATED:20240517T064025Z
LAST-MODIFIED:20240517T064025Z
UID:18775-1715961600-1715965200@pcastm.pl
SUMMARY:Fotografia
DESCRIPTION:Chcesz poznać tajniki fotografii? Lubisz robić zdjęcia? Ta propozycja jest dla Ciebie! Zobacz co ciekawego robimy: \nhttps://www.facebook.com/pcastomaszowmaz/posts/882955340476238 \n
URL:https://pcastm.pl/wydarzenie/fotografia-50/
LOCATION:Powiatowe Centrum Animacji Społecznej\, Farbiarska 20/24\, Tomaszów Mazowiecki\, Łódzkie\, 97-200\, Polska
ATTACH;FMTTYPE=image/jpeg:https://pcastm.pl/files/2024/05/foto-plener-1.jpg
END:VEVENT
BEGIN:VEVENT
DTSTART;TZID=Europe/Warsaw:20240517T160000
DTEND;TZID=Europe/Warsaw:20240517T200000
DTSTAMP:20260426T001142
CREATED:20240517T064119Z
LAST-MODIFIED:20240603T074120Z
UID:18777-1715961600-1715976000@pcastm.pl
SUMMARY:Teatr
DESCRIPTION:Zajęcia teatralne dla dzieci i młodzieży to połączenie nauki i zabawy\, które doskonalą umiejętności sceniczne oraz uczą wyrażać emocje\, co pozytywnie wpływa na relacje z rówieśnikami. \n
URL:https://pcastm.pl/wydarzenie/teatr-58/
LOCATION:Powiatowe Centrum Animacji Społecznej\, Farbiarska 20/24\, Tomaszów Mazowiecki\, Łódzkie\, 97-200\, Polska
ATTACH;FMTTYPE=image/jpeg:https://pcastm.pl/files/2024/03/LUK_8346.jpg
END:VEVENT
END:VCALENDAR