BEGIN:VCALENDAR
VERSION:2.0
PRODID:-//Powiatowe Centrum Animacji Społecznej - ECPv4.9.10//NONSGML v1.0//EN
CALSCALE:GREGORIAN
METHOD:PUBLISH
X-WR-CALNAME:Powiatowe Centrum Animacji Społecznej
X-ORIGINAL-URL:https://pcastm.pl
X-WR-CALDESC:Events for Powiatowe Centrum Animacji Społecznej
BEGIN:VTIMEZONE
TZID:Europe/Warsaw
BEGIN:DAYLIGHT
TZOFFSETFROM:+0100
TZOFFSETTO:+0200
TZNAME:CEST
DTSTART:20240331T010000
END:DAYLIGHT
BEGIN:STANDARD
TZOFFSETFROM:+0200
TZOFFSETTO:+0100
TZNAME:CET
DTSTART:20241027T010000
END:STANDARD
END:VTIMEZONE
BEGIN:VEVENT
DTSTART;TZID=Europe/Warsaw:20240520T120000
DTEND;TZID=Europe/Warsaw:20240524T200000
DTSTAMP:20260426T015541
CREATED:20240520T063348Z
LAST-MODIFIED:20240520T063348Z
UID:18789-1716206400-1716580800@pcastm.pl
SUMMARY:Siłownia
DESCRIPTION:\n\n\n\n\n\n\n\n\n\n\n\n\n\n\n\n\n\n\n\n\nWiosna to najwyższy czas\, aby zadbać o swoją figurę. Zachęcamy do odwiedzenia najtańszej siłowni w mieście. Zacznij już dziś! \n\n\n\n\n\n\n\n\n\n\n\n\n\n\n\n\n\n\n\n\n\n  \n\n\n\n\n\n\n\n\n\n\n\n\n\n\n\n\n\n\n\n\n\n\n\n\n\n\n\n\n\n\n\n\n\n\n\n\n\n\n\n\n\n\n
URL:https://pcastm.pl/wydarzenie/silownia-55/
LOCATION:Powiatowe Centrum Animacji Społecznej\, Farbiarska 20/24\, Tomaszów Mazowiecki\, Łódzkie\, 97-200\, Polska
ATTACH;FMTTYPE=image/jpeg:https://pcastm.pl/files/2024/03/siłownia-2.jpg
END:VEVENT
BEGIN:VEVENT
DTSTART;TZID=Europe/Warsaw:20240520T120000
DTEND;TZID=Europe/Warsaw:20240520T170000
DTSTAMP:20260426T015541
CREATED:20240520T063448Z
LAST-MODIFIED:20240520T063505Z
UID:18791-1716206400-1716224400@pcastm.pl
SUMMARY:Wokal
DESCRIPTION:\n\n\n\n\n\n\n\n\n\n\n\n\n\nMarzą Ci się występy na scenie? Lubisz śpiewać i chcesz podszlifować swój warsztat?  Zajęcia przeznaczone są dla dzieci\, młodzieży i dorosłych. Uczestnicy sekcji prezentują placówkę w różnego rodzaju konkursach\, odnosząc duże sukcesy. \n\n\n\n\n\n\n\n\n\n\n\n\n\n\n
URL:https://pcastm.pl/wydarzenie/wokal-85/
LOCATION:Powiatowe Centrum Animacji Społecznej\, Farbiarska 20/24\, Tomaszów Mazowiecki\, Łódzkie\, 97-200\, Polska
ATTACH;FMTTYPE=image/jpeg:https://pcastm.pl/files/2024/03/MG_9480.jpg
END:VEVENT
BEGIN:VEVENT
DTSTART;TZID=Europe/Warsaw:20240520T160000
DTEND;TZID=Europe/Warsaw:20240520T164500
DTSTAMP:20260426T015541
CREATED:20240520T063647Z
LAST-MODIFIED:20240520T063647Z
UID:18793-1716220800-1716223500@pcastm.pl
SUMMARY:Akademia Małolata
DESCRIPTION:\n\n\n\n\n\n\n\n\n\n\n\n\n\n\nZajęcia skierowane są do dzieci od 4 roku życia. W ich trakcie prowadzone są zabawy ruchowe\, prace plastyczne i manualne\, zabawy z muzyką. \nCo ciekawego robimy? Sprawdźcie: \n  \n\n\n\n\n\n\n\n\n\n\n\n\n\n\n\n
URL:https://pcastm.pl/wydarzenie/akademia-malolata-49/
LOCATION:Powiatowe Centrum Animacji Społecznej\, Farbiarska 20/24\, Tomaszów Mazowiecki\, Łódzkie\, 97-200\, Polska
ATTACH;FMTTYPE=image/jpeg:https://pcastm.pl/files/2024/05/ee6dcb03-bec8-472e-a4b9-5a61fdb8d980.jpg
END:VEVENT
BEGIN:VEVENT
DTSTART;TZID=Europe/Warsaw:20240520T160000
DTEND;TZID=Europe/Warsaw:20240520T183000
DTSTAMP:20260426T015541
CREATED:20240520T063749Z
LAST-MODIFIED:20240520T063749Z
UID:18795-1716220800-1716229800@pcastm.pl
SUMMARY:Ceramika
DESCRIPTION:Zajęcia skierowane są do dzieci od 4 roku życia. W ich trakcie prowadzone są zabawy ruchowe\, prace plastyczne i manualne\, zabawy z muzyką. \nCo ciekawego robimy? Sprawdźcie: \nhttps://www.facebook.com/pcastomaszowmaz/posts/871901571581615 \n
URL:https://pcastm.pl/wydarzenie/ceramika-71/
LOCATION:Powiatowe Centrum Animacji Społecznej\, Farbiarska 20/24\, Tomaszów Mazowiecki\, Łódzkie\, 97-200\, Polska
ATTACH;FMTTYPE=image/jpeg:https://pcastm.pl/files/2024/03/ceramika-3_24.jpg
END:VEVENT
BEGIN:VEVENT
DTSTART;TZID=Europe/Warsaw:20240520T160000
DTEND;TZID=Europe/Warsaw:20240520T180000
DTSTAMP:20260426T015541
CREATED:20240520T063959Z
LAST-MODIFIED:20240520T063959Z
UID:18797-1716220800-1716228000@pcastm.pl
SUMMARY:Malarstwo i rysunek
DESCRIPTION:Lubisz rysować\, malować? To propozycja dla Ciebie! Zajęcia przeznaczone są dla dzieci\, młodzieży i dorosłych. Może wziąć w nich udział każdy\, kto chce się sprawdzić\, realizować swoją pasję\, postawić pierwsze kreski lub wybiera się do szkoły artystycznej. \nGrupy: \n12.00-14.00 – dorośli \n16.00-1800 – dzieci i młodzież \nZobaczcie co robimy na zajęciach: \nhttps://www.facebook.com/pcastomaszowmaz/posts/764564602315313 \n
URL:https://pcastm.pl/wydarzenie/malarstwo-i-rysunek-87/
LOCATION:Powiatowe Centrum Animacji Społecznej\, Farbiarska 20/24\, Tomaszów Mazowiecki\, Łódzkie\, 97-200\, Polska
ATTACH;FMTTYPE=image/jpeg:https://pcastm.pl/files/2024/03/malarstwo-2503.jpg
END:VEVENT
BEGIN:VEVENT
DTSTART;TZID=Europe/Warsaw:20240520T162000
DTEND;TZID=Europe/Warsaw:20240520T175000
DTSTAMP:20260426T015541
CREATED:20240520T064217Z
LAST-MODIFIED:20240520T064217Z
UID:18799-1716222000-1716227400@pcastm.pl
SUMMARY:Taniec - grupa zaawansowana
DESCRIPTION:
URL:https://pcastm.pl/wydarzenie/taniec-grupa-zaawansowana-5/
LOCATION:Powiatowe Centrum Animacji Społecznej\, Farbiarska 20/24\, Tomaszów Mazowiecki\, Łódzkie\, 97-200\, Polska
ATTACH;FMTTYPE=image/jpeg:https://pcastm.pl/files/2024/05/taniec-zaawansowana.jpg
END:VEVENT
BEGIN:VEVENT
DTSTART;TZID=Europe/Warsaw:20240520T170000
DTEND;TZID=Europe/Warsaw:20240520T183000
DTSTAMP:20260426T015541
CREATED:20240520T064349Z
LAST-MODIFIED:20240520T064349Z
UID:18802-1716224400-1716229800@pcastm.pl
SUMMARY:Hiszpański
DESCRIPTION:\n\n\n\n\n\n\n\n\n\n\n\n\n\n\n\n\nChcesz nauczyć się języka hiszpańskiego? Nic prostszego! Zajęcia są przeznaczone dla dorosłych. Ich koszt to jedynie 50 zł/miesiąc. \n\n\n\n\n\n\n\n\n\n\n\n\n\n\n\n\n\n
URL:https://pcastm.pl/wydarzenie/hiszpanski-64/
LOCATION:Powiatowe Centrum Animacji Społecznej\, Farbiarska 20/24\, Tomaszów Mazowiecki\, Łódzkie\, 97-200\, Polska
ATTACH;FMTTYPE=image/png:https://pcastm.pl/files/2024/03/flag-g97b51ad64_1280.png
END:VEVENT
END:VCALENDAR