BEGIN:VCALENDAR
VERSION:2.0
PRODID:-//Powiatowe Centrum Animacji Społecznej - ECPv4.9.10//NONSGML v1.0//EN
CALSCALE:GREGORIAN
METHOD:PUBLISH
X-WR-CALNAME:Powiatowe Centrum Animacji Społecznej
X-ORIGINAL-URL:https://pcastm.pl
X-WR-CALDESC:Events for Powiatowe Centrum Animacji Społecznej
BEGIN:VTIMEZONE
TZID:Europe/Warsaw
BEGIN:DAYLIGHT
TZOFFSETFROM:+0100
TZOFFSETTO:+0200
TZNAME:CEST
DTSTART:20240331T010000
END:DAYLIGHT
BEGIN:STANDARD
TZOFFSETFROM:+0200
TZOFFSETTO:+0100
TZNAME:CET
DTSTART:20241027T010000
END:STANDARD
END:VTIMEZONE
BEGIN:VEVENT
DTSTART;TZID=Europe/Warsaw:20240603T120000
DTEND;TZID=Europe/Warsaw:20240603T200000
DTSTAMP:20260425T224040
CREATED:20240603T061118Z
LAST-MODIFIED:20240603T061118Z
UID:19196-1717416000-1717444800@pcastm.pl
SUMMARY:Siłownia
DESCRIPTION:\nWielkimi krokami zbliża się lato.  To najwyższy czas\, aby zadbać o swoją figurę. Zachęcamy do odwiedzenia najtańszej siłowni w mieście. Zacznij już dziś! \n\n
URL:https://pcastm.pl/wydarzenie/silownia-57/
LOCATION:Powiatowe Centrum Animacji Społecznej\, Farbiarska 20/24\, Tomaszów Mazowiecki\, Łódzkie\, 97-200\, Polska
ATTACH;FMTTYPE=image/jpeg:https://pcastm.pl/files/2023/12/siłownia-2.jpg
END:VEVENT
BEGIN:VEVENT
DTSTART;TZID=Europe/Warsaw:20240603T120000
DTEND;TZID=Europe/Warsaw:20240603T170000
DTSTAMP:20260425T224040
CREATED:20240603T061211Z
LAST-MODIFIED:20240603T061211Z
UID:19198-1717416000-1717434000@pcastm.pl
SUMMARY:Wokal
DESCRIPTION:\n\n\n\n\n\n\n\n\n\n\n\n\n\n\n\nMarzą Ci się występy na scenie? Lubisz śpiewać i chcesz podszlifować swój warsztat?  Zajęcia przeznaczone są dla dzieci\, młodzieży i dorosłych. Uczestnicy sekcji prezentują placówkę w różnego rodzaju konkursach\, odnosząc duże sukcesy. \n\n\n\n\n\n\n\n\n\n\n\n\n\n\n\n\n
URL:https://pcastm.pl/wydarzenie/wokal-88/
LOCATION:Powiatowe Centrum Animacji Społecznej\, Farbiarska 20/24\, Tomaszów Mazowiecki\, Łódzkie\, 97-200\, Polska
ATTACH;FMTTYPE=image/jpeg:https://pcastm.pl/files/2024/05/Pilecki_016.jpg
END:VEVENT
BEGIN:VEVENT
DTSTART;TZID=Europe/Warsaw:20240603T140000
DTEND;TZID=Europe/Warsaw:20240603T170000
DTSTAMP:20260425T224040
CREATED:20240603T065204Z
LAST-MODIFIED:20240603T065204Z
UID:19211-1717423200-1717434000@pcastm.pl
SUMMARY:Gitara
DESCRIPTION:\n\n\n\n\n\n\n\n\n\n\n\n\n\n\n\n\n\n\n\n\n\n\n\n\n\n\nPodczas nauki gry na gitarze dowiesz się jak wyglądają podstawowe akordy\, jak zagrać prosty rytm na przykładach znanych utworów oraz wiele więcej. \n\n\n\n\n\n\n\n\n\n\n\n\n\n\n\n\n\n\n\n\n\n\n\n\n\n\n\n
URL:https://pcastm.pl/wydarzenie/gitara-108/
LOCATION:Powiatowe Centrum Animacji Społecznej\, Farbiarska 20/24\, Tomaszów Mazowiecki\, Łódzkie\, 97-200\, Polska
ATTACH;FMTTYPE=image/jpeg:https://pcastm.pl/files/2024/03/DSC00612.jpg
END:VEVENT
BEGIN:VEVENT
DTSTART;TZID=Europe/Warsaw:20240603T160000
DTEND;TZID=Europe/Warsaw:20240603T183000
DTSTAMP:20260425T224040
CREATED:20240603T061545Z
LAST-MODIFIED:20240610T060401Z
UID:19200-1717430400-1717439400@pcastm.pl
SUMMARY:Ceramika
DESCRIPTION:Spotkania mają charakter zabawy z gliną. Stosując podstawowe techniki modelowania i dekoracji dzieci wyrażają siebie. Praca z gliną pobudza wyobraźnię i wspomaga rozwój naturalny. Daje ona nieskończenie wiele możliwości tworzenia przedmiotów użytkowych oraz przedmiotów do dekoracji swojego otoczenia. \n
URL:https://pcastm.pl/wydarzenie/ceramika-74/
LOCATION:Powiatowe Centrum Animacji Społecznej\, Farbiarska 20/24\, Tomaszów Mazowiecki\, Łódzkie\, 97-200\, Polska
ATTACH;FMTTYPE=image/jpeg:https://pcastm.pl/files/2024/04/ceramika-8-04.jpg
END:VEVENT
BEGIN:VEVENT
DTSTART;TZID=Europe/Warsaw:20240603T160000
DTEND;TZID=Europe/Warsaw:20240603T180000
DTSTAMP:20260425T224040
CREATED:20240603T061818Z
LAST-MODIFIED:20240603T061818Z
UID:19202-1717430400-1717437600@pcastm.pl
SUMMARY:Malarstwo i rysunek
DESCRIPTION:Lubisz rysować\, malować? To propozycja dla Ciebie! Zajęcia przeznaczone są dla dzieci\, młodzieży i dorosłych. Może wziąć w nich udział każdy\, kto chce się sprawdzić\, realizować swoją pasję\, postawić pierwsze kreski lub wybiera się do szkoły artystycznej. \nGrupy: \n12.00-14.00 – dorośli \n16.00-1800 – dzieci i młodzież \nZobaczcie co robimy na zajęciach: \nhttps://www.facebook.com/pcastomaszowmaz/posts/764564602315313 \n
URL:https://pcastm.pl/wydarzenie/malarstwo-i-rysunek-91/
LOCATION:Powiatowe Centrum Animacji Społecznej\, Farbiarska 20/24\, Tomaszów Mazowiecki\, Łódzkie\, 97-200\, Polska
ATTACH;FMTTYPE=image/jpeg:https://pcastm.pl/files/2024/03/malarstwo-2503.jpg
END:VEVENT
BEGIN:VEVENT
DTSTART;TZID=Europe/Warsaw:20240603T160000
DTEND;TZID=Europe/Warsaw:20240603T164500
DTSTAMP:20260425T224040
CREATED:20240603T064642Z
LAST-MODIFIED:20240708T062518Z
UID:19208-1717430400-1717433100@pcastm.pl
SUMMARY:Akademia Małolata
DESCRIPTION:Zajęcia skierowane są do dzieci od 4 roku życia. W ich trakcie prowadzone są zabawy ruchowe\, prace plastyczne i manualne\, zabawy z muzyką. \nCo ciekawego robimy? Sprawdźcie: \nhttps://www.facebook.com/pcastomaszowmaz/posts/913612407410531 \n  \n
URL:https://pcastm.pl/wydarzenie/akademia-malolata-51/
LOCATION:Powiatowe Centrum Animacji Społecznej\, Farbiarska 20/24\, Tomaszów Mazowiecki\, Łódzkie\, 97-200\, Polska
ATTACH;FMTTYPE=image/jpeg:https://pcastm.pl/files/2024/06/03-akademia-małolata.jpg
END:VEVENT
BEGIN:VEVENT
DTSTART;TZID=Europe/Warsaw:20240603T160000
DTEND;TZID=Europe/Warsaw:20240603T180000
DTSTAMP:20260425T224040
CREATED:20240603T065912Z
LAST-MODIFIED:20240603T065912Z
UID:19216-1717430400-1717437600@pcastm.pl
SUMMARY:Wspinaczka
DESCRIPTION:Zajęcia odbywają się na nowej profesjonalnej ściance wspinaczkowej. Zapraszamy ! \nhttps://www.facebook.com/reel/551705307112430 \n
URL:https://pcastm.pl/wydarzenie/wspinaczka-79/
LOCATION:Powiatowe Centrum Animacji Społecznej\, Farbiarska 20/24\, Tomaszów Mazowiecki\, Łódzkie\, 97-200\, Polska
ATTACH;FMTTYPE=image/jpeg:https://pcastm.pl/files/2024/03/now-scianka-1.jpg
END:VEVENT
BEGIN:VEVENT
DTSTART;TZID=Europe/Warsaw:20240603T162000
DTEND;TZID=Europe/Warsaw:20240603T175000
DTSTAMP:20260425T224040
CREATED:20240603T062048Z
LAST-MODIFIED:20240603T062048Z
UID:19204-1717431600-1717437000@pcastm.pl
SUMMARY:Taniec - grupa zaawansowana
DESCRIPTION:
URL:https://pcastm.pl/wydarzenie/taniec-grupa-zaawansowana-7/
LOCATION:Powiatowe Centrum Animacji Społecznej\, Farbiarska 20/24\, Tomaszów Mazowiecki\, Łódzkie\, 97-200\, Polska
ATTACH;FMTTYPE=image/jpeg:https://pcastm.pl/files/2024/05/taniec-zaawansowana.jpg
END:VEVENT
BEGIN:VEVENT
DTSTART;TZID=Europe/Warsaw:20240603T170000
DTEND;TZID=Europe/Warsaw:20240603T183000
DTSTAMP:20260425T224040
CREATED:20240603T064039Z
LAST-MODIFIED:20240603T064039Z
UID:19206-1717434000-1717439400@pcastm.pl
SUMMARY:Hiszpański
DESCRIPTION:\n\n\n\n\n\n\n\n\n\n\n\n\n\n\n\n\n\n\nChcesz nauczyć się języka hiszpańskiego? Nic prostszego! Zajęcia są przeznaczone dla dorosłych. Ich koszt to jedynie 50 zł/miesiąc. \n\n\n\n\n\n\n\n\n\n\n\n\n\n\n\n\n\n\n\n
URL:https://pcastm.pl/wydarzenie/hiszpanski-67/
LOCATION:Powiatowe Centrum Animacji Społecznej\, Farbiarska 20/24\, Tomaszów Mazowiecki\, Łódzkie\, 97-200\, Polska
ATTACH;FMTTYPE=image/png:https://pcastm.pl/files/2024/03/flag-g97b51ad64_1280.png
END:VEVENT
END:VCALENDAR