BEGIN:VCALENDAR
VERSION:2.0
PRODID:-//Powiatowe Centrum Animacji Społecznej - ECPv4.9.10//NONSGML v1.0//EN
CALSCALE:GREGORIAN
METHOD:PUBLISH
X-WR-CALNAME:Powiatowe Centrum Animacji Społecznej
X-ORIGINAL-URL:https://pcastm.pl
X-WR-CALDESC:Events for Powiatowe Centrum Animacji Społecznej
BEGIN:VTIMEZONE
TZID:Europe/Warsaw
BEGIN:DAYLIGHT
TZOFFSETFROM:+0100
TZOFFSETTO:+0200
TZNAME:CEST
DTSTART:20240331T010000
END:DAYLIGHT
BEGIN:STANDARD
TZOFFSETFROM:+0200
TZOFFSETTO:+0100
TZNAME:CET
DTSTART:20241027T010000
END:STANDARD
END:VTIMEZONE
BEGIN:VEVENT
DTSTART;TZID=Europe/Warsaw:20240610T120000
DTEND;TZID=Europe/Warsaw:20240614T200000
DTSTAMP:20260425T224039
CREATED:20240610T055846Z
LAST-MODIFIED:20240610T065347Z
UID:19390-1718020800-1718395200@pcastm.pl
SUMMARY:Siłownia
DESCRIPTION:\n\nWielkimi krokami zbliża się lato.  To najwyższy czas\, aby zadbać o swoją figurę. Zachęcamy do odwiedzenia najtańszej siłowni w mieście. Zacznij już dziś! \n\n\n
URL:https://pcastm.pl/wydarzenie/silownia-58/
LOCATION:Powiatowe Centrum Animacji Społecznej\, Farbiarska 20/24\, Tomaszów Mazowiecki\, Łódzkie\, 97-200\, Polska
ATTACH;FMTTYPE=image/jpeg:https://pcastm.pl/files/2024/03/siłownia-2.jpg
END:VEVENT
BEGIN:VEVENT
DTSTART;TZID=Europe/Warsaw:20240613T120000
DTEND;TZID=Europe/Warsaw:20240613T180000
DTSTAMP:20260425T224039
CREATED:20240610T064528Z
LAST-MODIFIED:20240610T064528Z
UID:19435-1718280000-1718301600@pcastm.pl
SUMMARY:Malarstwo i rysunek
DESCRIPTION:Lubisz rysować\, malować? To propozycja dla Ciebie! Zajęcia przeznaczone są dla dzieci\, młodzieży i dorosłych. Może wziąć w nich udział każdy\, kto chce się sprawdzić\, realizować swoją pasję\, postawić pierwsze kreski lub wybiera się do szkoły artystycznej. \nGrupy: \n12.00-14.00 – dorośli \n16.00-1800 – dzieci i młodzież \nZobaczcie co robimy na zajęciach: \nhttps://www.facebook.com/pcastomaszowmaz/posts/764564602315313 \n
URL:https://pcastm.pl/wydarzenie/malarstwo-i-rysunek-94/
LOCATION:Powiatowe Centrum Animacji Społecznej\, Farbiarska 20/24\, Tomaszów Mazowiecki\, Łódzkie\, 97-200\, Polska
ATTACH;FMTTYPE=image/jpeg:https://pcastm.pl/files/2024/06/malarstwo-06.jpg
END:VEVENT
BEGIN:VEVENT
DTSTART;TZID=Europe/Warsaw:20240613T140000
DTEND;TZID=Europe/Warsaw:20240613T160000
DTSTAMP:20260425T224039
CREATED:20240610T071705Z
LAST-MODIFIED:20240610T071706Z
UID:19467-1718287200-1718294400@pcastm.pl
SUMMARY:II Antoniański Turniej Piłki Nożnej - Finał
DESCRIPTION:
URL:https://pcastm.pl/wydarzenie/ii-antonianski-turniej-pilki-noznej-final/
LOCATION:Powiatowe Centrum Animacji Społecznej\, Farbiarska 20/24\, Tomaszów Mazowiecki\, Łódzkie\, 97-200\, Polska
ATTACH;FMTTYPE=image/jpeg:https://pcastm.pl/files/2024/05/Plakat-Turniej-2024.jpg
END:VEVENT
BEGIN:VEVENT
DTSTART;TZID=Europe/Warsaw:20240613T153000
DTEND;TZID=Europe/Warsaw:20240613T170000
DTSTAMP:20260425T224039
CREATED:20240610T071400Z
LAST-MODIFIED:20240610T071425Z
UID:19464-1718292600-1718298000@pcastm.pl
SUMMARY:VI Antoniański Bieg Rekreacyjny
DESCRIPTION:VI Antoniański Bieg Rekreacyjny odbędzie się w Powiatowym Centrum Animacji Społecznej \n \n
URL:https://pcastm.pl/wydarzenie/vi-antonianski-bieg-rekreacyjny/
LOCATION:Powiatowe Centrum Animacji Społecznej\, Farbiarska 20/24\, Tomaszów Mazowiecki\, Łódzkie\, 97-200\, Polska
ATTACH;FMTTYPE=image/jpeg:https://pcastm.pl/files/2024/05/Plakat-Bieg-2024.jpg
END:VEVENT
BEGIN:VEVENT
DTSTART;TZID=Europe/Warsaw:20240613T160000
DTEND;TZID=Europe/Warsaw:20240613T180000
DTSTAMP:20260425T224039
CREATED:20240610T064656Z
LAST-MODIFIED:20240610T064656Z
UID:19439-1718294400-1718301600@pcastm.pl
SUMMARY:Wspinaczka
DESCRIPTION:Zajęcia odbywają się na nowej profesjonalnej ściance wspinaczkowej. Zapraszamy ! \nhttps://www.facebook.com/reel/551705307112430 \n
URL:https://pcastm.pl/wydarzenie/wspinaczka-82/
LOCATION:Powiatowe Centrum Animacji Społecznej\, Farbiarska 20/24\, Tomaszów Mazowiecki\, Łódzkie\, 97-200\, Polska
ATTACH;FMTTYPE=image/jpeg:https://pcastm.pl/files/2024/06/wspinaczka-wakacje.jpg
END:VEVENT
BEGIN:VEVENT
DTSTART;TZID=Europe/Warsaw:20240613T160000
DTEND;TZID=Europe/Warsaw:20240613T183000
DTSTAMP:20260425T224039
CREATED:20240610T064748Z
LAST-MODIFIED:20240610T064748Z
UID:19442-1718294400-1718303400@pcastm.pl
SUMMARY:Ceramika
DESCRIPTION:Lubisz prace manualne? Zajęcia z gliną będą dla Ciebie! Wyciszysz się\, nauczysz cierpliwości i stworzysz coś wyjątkowego. Spotkania mają charakter zabawy. To świetna propozycja zarówno dla dzieci\, młodzieży i dorosłych. \nI grupa – 16.00-17.00 \nII grupa 17.30-18.30 \nTak spędzamy czas na zajęciach: \nhttps://www.facebook.com/pcastomaszowmaz/posts/681995613905546 \n
URL:https://pcastm.pl/wydarzenie/ceramika-77/
LOCATION:Powiatowe Centrum Animacji Społecznej\, Farbiarska 20/24\, Tomaszów Mazowiecki\, Łódzkie\, 97-200\, Polska
ATTACH;FMTTYPE=image/jpeg:https://pcastm.pl/files/2024/06/ceramika-8-04.jpg
END:VEVENT
BEGIN:VEVENT
DTSTART;TZID=Europe/Warsaw:20240613T162000
DTEND;TZID=Europe/Warsaw:20240613T175000
DTSTAMP:20260425T224039
CREATED:20240610T065515Z
LAST-MODIFIED:20240610T065600Z
UID:19447-1718295600-1718301000@pcastm.pl
SUMMARY:Taniec
DESCRIPTION:\n\n\n\n\n\n\n\nTo super propozycja zarówno dla tych\, którzy mieli z tańcem do czynienia\, jak i tych którzy chcieliby rozpocząć swoją taneczną przygodę. \n\n\n\n\n\n\n\n\n
URL:https://pcastm.pl/wydarzenie/taniec-64/
LOCATION:Powiatowe Centrum Animacji Społecznej\, Farbiarska 20/24\, Tomaszów Mazowiecki\, Łódzkie\, 97-200\, Polska
ATTACH;FMTTYPE=image/jpeg:https://pcastm.pl/files/2024/06/taniec-24.jpg
END:VEVENT
BEGIN:VEVENT
DTSTART;TZID=Europe/Warsaw:20240613T170000
DTEND;TZID=Europe/Warsaw:20240613T190000
DTSTAMP:20260425T224039
CREATED:20240610T070308Z
LAST-MODIFIED:20240610T070308Z
UID:19449-1718298000-1718305200@pcastm.pl
SUMMARY:Film i animacja
DESCRIPTION:Zajęcia przeznaczone dla dzieci i młodzieży. To świetna zabawa i mnóstwo wrażeń\, które zawsze towarzyszą pracy na planie. Do dyspozycji uczestników jest profesjonalny sprzęt. \nCo ciekawego robimy? \nhttps://www.facebook.com/pcastomaszowmaz/videos/7896545760389993/ \n
URL:https://pcastm.pl/wydarzenie/film-i-animacja-50/
LOCATION:Powiatowe Centrum Animacji Społecznej\, Farbiarska 20/24\, Tomaszów Mazowiecki\, Łódzkie\, 97-200\, Polska
ATTACH;FMTTYPE=image/jpeg:https://pcastm.pl/files/2024/06/film-i-anim-1805.jpg
END:VEVENT
BEGIN:VEVENT
DTSTART;TZID=Europe/Warsaw:20240613T170000
DTEND;TZID=Europe/Warsaw:20240613T183000
DTSTAMP:20260425T224039
CREATED:20240610T070516Z
LAST-MODIFIED:20240610T070516Z
UID:19451-1718298000-1718303400@pcastm.pl
SUMMARY:Hiszpański
DESCRIPTION:\n\n\n\n\n\n\n\n\n\n\nChcesz nauczyć się języka hiszpańskiego? Nic prostszego! Zajęcia są przeznaczone dla dorosłych. Ich koszt to jedynie 50 zł/miesiąc. \n\n\n\n\n\n\n\n\n\n\n\n\n\n\n\n\n\n\n\n\n\n\n\n\n\n\n\n\n\n\n\n\n\n\n
URL:https://pcastm.pl/wydarzenie/hiszpanski-70/
LOCATION:Powiatowe Centrum Animacji Społecznej\, Farbiarska 20/24\, Tomaszów Mazowiecki\, Łódzkie\, 97-200\, Polska
ATTACH;FMTTYPE=image/jpeg:https://pcastm.pl/files/2024/06/spain-379535_1280.jpg
END:VEVENT
END:VCALENDAR