BEGIN:VCALENDAR
VERSION:2.0
PRODID:-//Powiatowe Centrum Animacji Społecznej - ECPv4.9.10//NONSGML v1.0//EN
CALSCALE:GREGORIAN
METHOD:PUBLISH
X-WR-CALNAME:Powiatowe Centrum Animacji Społecznej
X-ORIGINAL-URL:https://pcastm.pl
X-WR-CALDESC:Events for Powiatowe Centrum Animacji Społecznej
BEGIN:VTIMEZONE
TZID:Europe/Warsaw
BEGIN:DAYLIGHT
TZOFFSETFROM:+0100
TZOFFSETTO:+0200
TZNAME:CEST
DTSTART:20240331T010000
END:DAYLIGHT
BEGIN:STANDARD
TZOFFSETFROM:+0200
TZOFFSETTO:+0100
TZNAME:CET
DTSTART:20241027T010000
END:STANDARD
END:VTIMEZONE
BEGIN:VEVENT
DTSTART;TZID=Europe/Warsaw:20240615T170000
DTEND;TZID=Europe/Warsaw:20240615T220000
DTSTAMP:20260426T003205
CREATED:20240610T071156Z
LAST-MODIFIED:20240610T071157Z
UID:19461-1718470800-1718488800@pcastm.pl
SUMMARY:Biesiada Świętojańska
DESCRIPTION:Biesiada Świętojańska po raz 5. odbędzie się w PCAS-ie \n \n
URL:https://pcastm.pl/wydarzenie/biesiada-swietojanska-3/
LOCATION:Powiatowe Centrum Animacji Społecznej\, Farbiarska 20/24\, Tomaszów Mazowiecki\, Łódzkie\, 97-200\, Polska
ATTACH;FMTTYPE=image/jpeg:https://pcastm.pl/files/2024/06/biesiada-2024_plakat.jpg
END:VEVENT
END:VCALENDAR