BEGIN:VCALENDAR
VERSION:2.0
PRODID:-//Powiatowe Centrum Animacji Społecznej - ECPv4.9.10//NONSGML v1.0//EN
CALSCALE:GREGORIAN
METHOD:PUBLISH
X-WR-CALNAME:Powiatowe Centrum Animacji Społecznej
X-ORIGINAL-URL:https://pcastm.pl
X-WR-CALDESC:Events for Powiatowe Centrum Animacji Społecznej
BEGIN:VTIMEZONE
TZID:Europe/Warsaw
BEGIN:DAYLIGHT
TZOFFSETFROM:+0100
TZOFFSETTO:+0200
TZNAME:CEST
DTSTART:20240331T010000
END:DAYLIGHT
BEGIN:STANDARD
TZOFFSETFROM:+0200
TZOFFSETTO:+0100
TZNAME:CET
DTSTART:20241027T010000
END:STANDARD
END:VTIMEZONE
BEGIN:VEVENT
DTSTART;TZID=Europe/Warsaw:20240617T120000
DTEND;TZID=Europe/Warsaw:20240619T200000
DTSTAMP:20260425T223917
CREATED:20240618T125929Z
LAST-MODIFIED:20240618T125929Z
UID:20171-1718625600-1718827200@pcastm.pl
SUMMARY:Siłownia
DESCRIPTION:\n\n\nWielkimi krokami zbliża się lato.  To najwyższy czas\, aby zadbać o swoją figurę. Zachęcamy do odwiedzenia najtańszej siłowni w mieście. Zacznij już dziś! \n\n\n\n
URL:https://pcastm.pl/wydarzenie/silownia-59/
LOCATION:Powiatowe Centrum Animacji Społecznej\, Farbiarska 20/24\, Tomaszów Mazowiecki\, Łódzkie\, 97-200\, Polska
ATTACH;FMTTYPE=image/jpeg:https://pcastm.pl/files/2024/03/siłownia-2.jpg
END:VEVENT
BEGIN:VEVENT
DTSTART;TZID=Europe/Warsaw:20240617T120000
DTEND;TZID=Europe/Warsaw:20240617T170000
DTSTAMP:20260425T223917
CREATED:20240618T130144Z
LAST-MODIFIED:20240618T130144Z
UID:20173-1718625600-1718643600@pcastm.pl
SUMMARY:Wokal
DESCRIPTION:\n\n\n\n\n\n\n\n\n\n\n\n\n\n\n\n\n\nMarzą Ci się występy na scenie? Lubisz śpiewać i chcesz podszlifować swój warsztat?  Zajęcia przeznaczone są dla dzieci\, młodzieży i dorosłych. Uczestnicy sekcji prezentują placówkę w różnego rodzaju konkursach\, odnosząc duże sukcesy. \n\n\n\n\n\n\n\n\n\n\n\n\n\n\n\n\n\n\n
URL:https://pcastm.pl/wydarzenie/wokal-95/
LOCATION:Powiatowe Centrum Animacji Społecznej\, Farbiarska 20/24\, Tomaszów Mazowiecki\, Łódzkie\, 97-200\, Polska
ATTACH;FMTTYPE=image/jpeg:https://pcastm.pl/files/2024/06/wokal-1.jpg
END:VEVENT
BEGIN:VEVENT
DTSTART;TZID=Europe/Warsaw:20240617T140000
DTEND;TZID=Europe/Warsaw:20240617T170000
DTSTAMP:20260425T223917
CREATED:20240618T130233Z
LAST-MODIFIED:20240618T130255Z
UID:20176-1718632800-1718643600@pcastm.pl
SUMMARY:Gitara
DESCRIPTION:\n\n\n\n\n\n\n\n\n\n\n\n\n\n\n\n\n\n\n\n\n\n\n\n\n\n\n\n\nPodczas nauki gry na gitarze dowiesz się jak wyglądają podstawowe akordy\, jak zagrać prosty rytm na przykładach znanych utworów oraz wiele więcej. \n\n\n\n\n\n\n\n\n\n\n\n\n\n\n\n\n\n\n\n\n\n\n\n\n\n\n\n\n\n
URL:https://pcastm.pl/wydarzenie/gitara-114/
LOCATION:Powiatowe Centrum Animacji Społecznej\, Farbiarska 20/24\, Tomaszów Mazowiecki\, Łódzkie\, 97-200\, Polska
ATTACH;FMTTYPE=image/jpeg:https://pcastm.pl/files/2024/06/gitara-1.jpg
END:VEVENT
BEGIN:VEVENT
DTSTART;TZID=Europe/Warsaw:20240617T160000
DTEND;TZID=Europe/Warsaw:20240617T164500
DTSTAMP:20260425T223917
CREATED:20240618T130437Z
LAST-MODIFIED:20240618T130437Z
UID:20179-1718640000-1718642700@pcastm.pl
SUMMARY:Akademia Małolata
DESCRIPTION:Zajęcia skierowane są do dzieci od 4 roku życia. W ich trakcie prowadzone są zabawy ruchowe\, prace plastyczne i manualne\, zabawy z muzyką. \nCo ciekawego robimy? Sprawdźcie: \nhttps://www.facebook.com/pcastomaszowmaz/posts/913612407410531 \n
URL:https://pcastm.pl/wydarzenie/akademia-malolata-53/
LOCATION:Powiatowe Centrum Animacji Społecznej\, Farbiarska 20/24\, Tomaszów Mazowiecki\, Łódzkie\, 97-200\, Polska
ATTACH;FMTTYPE=image/jpeg:https://pcastm.pl/files/2024/05/dd91388e-3fb1-4387-bdba-ec722dd820a3.jpg
END:VEVENT
BEGIN:VEVENT
DTSTART;TZID=Europe/Warsaw:20240617T160000
DTEND;TZID=Europe/Warsaw:20240617T183000
DTSTAMP:20260425T223917
CREATED:20240618T130607Z
LAST-MODIFIED:20240618T130607Z
UID:20181-1718640000-1718649000@pcastm.pl
SUMMARY:Ceramika
DESCRIPTION:\nSpotkania mają charakter zabawy z gliną. Stosując podstawowe techniki modelowania i dekoracji dzieci wyrażają siebie. Praca z gliną pobudza wyobraźnię i wspomaga rozwój naturalny. Daje ona nieskończenie wiele możliwości tworzenia przedmiotów użytkowych oraz przedmiotów do dekoracji swojego otoczenia. \n\n
URL:https://pcastm.pl/wydarzenie/ceramika-78/
LOCATION:Powiatowe Centrum Animacji Społecznej\, Farbiarska 20/24\, Tomaszów Mazowiecki\, Łódzkie\, 97-200\, Polska
ATTACH;FMTTYPE=image/jpeg:https://pcastm.pl/files/2024/06/ceramika-8-04.jpg
END:VEVENT
BEGIN:VEVENT
DTSTART;TZID=Europe/Warsaw:20240617T160000
DTEND;TZID=Europe/Warsaw:20240617T180000
DTSTAMP:20260425T223917
CREATED:20240618T130739Z
LAST-MODIFIED:20240618T130739Z
UID:20183-1718640000-1718647200@pcastm.pl
SUMMARY:Malarstwo i rysunek
DESCRIPTION:Lubisz rysować\, malować? To propozycja dla Ciebie! Zajęcia przeznaczone są dla dzieci\, młodzieży i dorosłych. Może wziąć w nich udział każdy\, kto chce się sprawdzić\, realizować swoją pasję\, postawić pierwsze kreski lub wybiera się do szkoły artystycznej. \nGrupy: \n12.00-14.00 – dorośli \n16.00-1800 – dzieci i młodzież \nZobaczcie co robimy na zajęciach: \nhttps://www.facebook.com/pcastomaszowmaz/posts/764564602315313 \n
URL:https://pcastm.pl/wydarzenie/malarstwo-i-rysunek-95/
LOCATION:Powiatowe Centrum Animacji Społecznej\, Farbiarska 20/24\, Tomaszów Mazowiecki\, Łódzkie\, 97-200\, Polska
ATTACH;FMTTYPE=image/jpeg:https://pcastm.pl/files/2024/06/malarstwo-06.jpg
END:VEVENT
BEGIN:VEVENT
DTSTART;TZID=Europe/Warsaw:20240617T162000
DTEND;TZID=Europe/Warsaw:20240617T175000
DTSTAMP:20260425T223917
CREATED:20240618T130905Z
LAST-MODIFIED:20240618T130905Z
UID:20185-1718641200-1718646600@pcastm.pl
SUMMARY:Taniec - grupa zaawansowana
DESCRIPTION:
URL:https://pcastm.pl/wydarzenie/taniec-grupa-zaawansowana-9/
LOCATION:Powiatowe Centrum Animacji Społecznej\, Farbiarska 20/24\, Tomaszów Mazowiecki\, Łódzkie\, 97-200\, Polska
ATTACH;FMTTYPE=image/jpeg:https://pcastm.pl/files/2024/06/IMG_1484.jpg
END:VEVENT
BEGIN:VEVENT
DTSTART;TZID=Europe/Warsaw:20240617T170000
DTEND;TZID=Europe/Warsaw:20240617T183000
DTSTAMP:20260425T223917
CREATED:20240618T131022Z
LAST-MODIFIED:20240618T131022Z
UID:20187-1718643600-1718649000@pcastm.pl
SUMMARY:Hiszpański
DESCRIPTION:\n\n\n\n\n\n\n\n\n\n\n\n\n\n\n\n\n\n\n\n\nChcesz nauczyć się języka hiszpańskiego? Nic prostszego! Zajęcia są przeznaczone dla dorosłych. Ich koszt to jedynie 50 zł/miesiąc. \n\n\n\n\n\n\n\n\n\n\n\n\n\n\n\n\n\n\n\n\n\n
URL:https://pcastm.pl/wydarzenie/hiszpanski-71/
LOCATION:Powiatowe Centrum Animacji Społecznej\, Farbiarska 20/24\, Tomaszów Mazowiecki\, Łódzkie\, 97-200\, Polska
ATTACH;FMTTYPE=image/jpeg:https://pcastm.pl/files/2024/06/spain-2227254_1280.jpg
END:VEVENT
END:VCALENDAR