BEGIN:VCALENDAR
VERSION:2.0
PRODID:-//Powiatowe Centrum Animacji Społecznej - ECPv4.9.10//NONSGML v1.0//EN
CALSCALE:GREGORIAN
METHOD:PUBLISH
X-WR-CALNAME:Powiatowe Centrum Animacji Społecznej
X-ORIGINAL-URL:https://pcastm.pl
X-WR-CALDESC:Events for Powiatowe Centrum Animacji Społecznej
BEGIN:VTIMEZONE
TZID:Europe/Warsaw
BEGIN:DAYLIGHT
TZOFFSETFROM:+0100
TZOFFSETTO:+0200
TZNAME:CEST
DTSTART:20240331T010000
END:DAYLIGHT
BEGIN:STANDARD
TZOFFSETFROM:+0200
TZOFFSETTO:+0100
TZNAME:CET
DTSTART:20241027T010000
END:STANDARD
END:VTIMEZONE
BEGIN:VEVENT
DTSTART;TZID=Europe/Warsaw:20240617T120000
DTEND;TZID=Europe/Warsaw:20240619T200000
DTSTAMP:20260425T223359
CREATED:20240618T125929Z
LAST-MODIFIED:20240618T125929Z
UID:20171-1718625600-1718827200@pcastm.pl
SUMMARY:Siłownia
DESCRIPTION:\n\n\nWielkimi krokami zbliża się lato.  To najwyższy czas\, aby zadbać o swoją figurę. Zachęcamy do odwiedzenia najtańszej siłowni w mieście. Zacznij już dziś! \n\n\n\n
URL:https://pcastm.pl/wydarzenie/silownia-59/
LOCATION:Powiatowe Centrum Animacji Społecznej\, Farbiarska 20/24\, Tomaszów Mazowiecki\, Łódzkie\, 97-200\, Polska
ATTACH;FMTTYPE=image/jpeg:https://pcastm.pl/files/2024/03/siłownia-2.jpg
END:VEVENT
BEGIN:VEVENT
DTSTART;TZID=Europe/Warsaw:20240619T100000
DTEND;TZID=Europe/Warsaw:20240619T110000
DTSTAMP:20260425T223359
CREATED:20240618T132537Z
LAST-MODIFIED:20240618T132537Z
UID:20213-1718791200-1718794800@pcastm.pl
SUMMARY:Informatyka dla seniora
DESCRIPTION:Zajęcia z informatyki skierowane są głównie do grupy seniorów\, którzy chcieliby nabyć podstawowe umiejętności obsługi komputera oraz zapoznać się z nowoczesnymi technologiami. Ich celem jest nauka komunikowania się przez Internet z rodziną i znajomymi\, przeglądania interesujących informacji w Internecie\, dokonywania zakupów przez Internet\, płacenia rachunków\, jak również obsługa programu do napisania pisma urzędowego. \n
URL:https://pcastm.pl/wydarzenie/informatyka-dla-seniora-37/
LOCATION:Powiatowe Centrum Animacji Społecznej\, Farbiarska 20/24\, Tomaszów Mazowiecki\, Łódzkie\, 97-200\, Polska
ATTACH;FMTTYPE=image/jpeg:https://pcastm.pl/files/2024/06/seniorzy-inf.jpg
END:VEVENT
BEGIN:VEVENT
DTSTART;TZID=Europe/Warsaw:20240619T120000
DTEND;TZID=Europe/Warsaw:20240619T170000
DTSTAMP:20260425T223359
CREATED:20240618T132634Z
LAST-MODIFIED:20240618T132634Z
UID:20216-1718798400-1718816400@pcastm.pl
SUMMARY:Wokal
DESCRIPTION:\n\n\n\n\n\n\n\n\nMarzą Ci się występy na scenie? Lubisz śpiewać i chcesz podszlifować swój warsztat?  Zajęcia przeznaczone są dla dzieci\, młodzieży i dorosłych. Uczestnicy sekcji prezentują placówkę w różnego rodzaju konkursach\, odnosząc duże sukcesy. \n\n\n\n\n\n\n\n\n\n
URL:https://pcastm.pl/wydarzenie/wokal-97/
LOCATION:Powiatowe Centrum Animacji Społecznej\, Farbiarska 20/24\, Tomaszów Mazowiecki\, Łódzkie\, 97-200\, Polska
ATTACH;FMTTYPE=image/jpeg:https://pcastm.pl/files/2024/06/IMG_1074.jpg
END:VEVENT
BEGIN:VEVENT
DTSTART;TZID=Europe/Warsaw:20240619T140000
DTEND;TZID=Europe/Warsaw:20240619T170000
DTSTAMP:20260425T223359
CREATED:20240618T132719Z
LAST-MODIFIED:20240618T132719Z
UID:20218-1718805600-1718816400@pcastm.pl
SUMMARY:Gitara
DESCRIPTION:\n\n\n\n\n\n\n\n\n\n\n\n\n\n\n\n\n\n\n\n\n\nPodczas nauki gry na gitarze dowiesz się jak wyglądają podstawowe akordy\, jak zagrać prosty rytm na przykładach znanych utworów oraz wiele więcej. \n\n\n\n\n\n\n\n\n\n\n\n\n\n\n\n\n\n\n\n\n\n\n
URL:https://pcastm.pl/wydarzenie/gitara-116/
LOCATION:Powiatowe Centrum Animacji Społecznej\, Farbiarska 20/24\, Tomaszów Mazowiecki\, Łódzkie\, 97-200\, Polska
ATTACH;FMTTYPE=image/jpeg:https://pcastm.pl/files/2024/06/gitara-2.jpg
END:VEVENT
BEGIN:VEVENT
DTSTART;TZID=Europe/Warsaw:20240619T150000
DTEND;TZID=Europe/Warsaw:20240619T183000
DTSTAMP:20260425T223359
CREATED:20240618T132925Z
LAST-MODIFIED:20240618T132925Z
UID:20220-1718809200-1718821800@pcastm.pl
SUMMARY:Plastyka
DESCRIPTION:Zajęcia rozwijają zdolności i zainteresowania plastyczne\, pobudzają kreatywność i wyobraźnię dziecka. Na zajęciach wykorzystywane są różnorodne materiały i techniki\, które umożliwiają rozwijanie zdolności manualnych i wyobraźni\, zwiększają możliwości percepcyjne oraz poszerzają pole wyobraźni i myślenia dziecka. \n15.00-16.30 grupa młodsza \n17.00-18.30 grupa starsza \n
URL:https://pcastm.pl/wydarzenie/plastyka-39/
LOCATION:Powiatowe Centrum Animacji Społecznej\, Farbiarska 20/24\, Tomaszów Mazowiecki\, Łódzkie\, 97-200\, Polska
ATTACH;FMTTYPE=image/jpeg:https://pcastm.pl/files/2024/05/plastyka-2105.jpg
END:VEVENT
END:VCALENDAR