BEGIN:VCALENDAR
VERSION:2.0
PRODID:-//Powiatowe Centrum Animacji Społecznej - ECPv4.9.10//NONSGML v1.0//EN
CALSCALE:GREGORIAN
METHOD:PUBLISH
X-WR-CALNAME:Powiatowe Centrum Animacji Społecznej
X-ORIGINAL-URL:https://pcastm.pl
X-WR-CALDESC:Events for Powiatowe Centrum Animacji Społecznej
BEGIN:VTIMEZONE
TZID:Europe/Warsaw
BEGIN:DAYLIGHT
TZOFFSETFROM:+0100
TZOFFSETTO:+0200
TZNAME:CEST
DTSTART:20240331T010000
END:DAYLIGHT
BEGIN:STANDARD
TZOFFSETFROM:+0200
TZOFFSETTO:+0100
TZNAME:CET
DTSTART:20241027T010000
END:STANDARD
END:VTIMEZONE
BEGIN:VEVENT
DTSTART;TZID=Europe/Warsaw:20240819T140000
DTEND;TZID=Europe/Warsaw:20240819T160000
DTSTAMP:20260425T191651
CREATED:20240730T072652Z
LAST-MODIFIED:20240814T080938Z
UID:20551-1724076000-1724083200@pcastm.pl
SUMMARY:Ceramika
DESCRIPTION:Lubisz prace manualne? Zajęcia z gliną będą dla Ciebie! Wyciszysz się\, nauczysz cierpliwości i stworzysz coś wyjątkowego. Spotkania mają charakter zabawy. To świetna propozycja zarówno dla dzieci\, młodzieży i dorosłych. \n  \nTak spędzamy czas na zajęciach: \nhttps://www.facebook.com/pcastomaszowmaz/posts/681995613905546 \n
URL:https://pcastm.pl/wydarzenie/ceramika-80/
LOCATION:Powiatowe Centrum Animacji Społecznej\, Farbiarska 20/24\, Tomaszów Mazowiecki\, Łódzkie\, 97-200\, Polska
ATTACH;FMTTYPE=image/jpeg:https://pcastm.pl/files/2024/07/IMG_E3290.jpg
END:VEVENT
BEGIN:VEVENT
DTSTART;TZID=Europe/Warsaw:20240819T150000
DTEND;TZID=Europe/Warsaw:20240819T170000
DTSTAMP:20260425T191651
CREATED:20240726T070917Z
LAST-MODIFIED:20240726T105012Z
UID:20492-1724079600-1724086800@pcastm.pl
SUMMARY:Malarstwo i rysunek
DESCRIPTION:Lubisz rysować\, malować? To propozycja dla Ciebie! Zajęcia przeznaczone są dla dzieci\, młodzieży i dorosłych. Może wziąć w nich udział każdy\, kto chce się sprawdzić\, realizować swoją pasję\, postawić pierwsze kreski lub wybiera się do szkoły artystycznej. \n
URL:https://pcastm.pl/wydarzenie/malarstwo-i-rysunek-105/
LOCATION:Powiatowe Centrum Animacji Społecznej\, Farbiarska 20/24\, Tomaszów Mazowiecki\, Łódzkie\, 97-200\, Polska
ATTACH;FMTTYPE=image/jpeg:https://pcastm.pl/files/2024/07/malarswto-2607.jpg
END:VEVENT
BEGIN:VEVENT
DTSTART;TZID=Europe/Warsaw:20240819T160000
DTEND;TZID=Europe/Warsaw:20240819T164500
DTSTAMP:20260425T191651
CREATED:20240725T065413Z
LAST-MODIFIED:20240725T065413Z
UID:20442-1724083200-1724085900@pcastm.pl
SUMMARY:Akademia Małolata
DESCRIPTION:Zajęcia skierowane są do dzieci od 4 roku życia. W ich trakcie prowadzone są zabawy ruchowe\, prace plastyczne i manualne\, zabawy z muzyką. \nCo ciekawego robimy? Sprawdźcie: \nhttps://www.facebook.com/pcastomaszowmaz/posts/913612407410531 \n
URL:https://pcastm.pl/wydarzenie/akademia-malolata-56/
LOCATION:Powiatowe Centrum Animacji Społecznej\, Farbiarska 20/24\, Tomaszów Mazowiecki\, Łódzkie\, 97-200\, Polska
ATTACH;FMTTYPE=image/jpeg:https://pcastm.pl/files/2024/07/małolat-lipiec.jpg
END:VEVENT
BEGIN:VEVENT
DTSTART;TZID=Europe/Warsaw:20240819T162000
DTEND;TZID=Europe/Warsaw:20240819T175000
DTSTAMP:20260425T191651
CREATED:20240725T070301Z
LAST-MODIFIED:20240725T070301Z
UID:20454-1724084400-1724089800@pcastm.pl
SUMMARY:Taniec - grupa zaawansowana
DESCRIPTION:
URL:https://pcastm.pl/wydarzenie/taniec-grupa-zaawansowana-10/
LOCATION:Powiatowe Centrum Animacji Społecznej\, Farbiarska 20/24\, Tomaszów Mazowiecki\, Łódzkie\, 97-200\, Polska
ATTACH;FMTTYPE=image/jpeg:https://pcastm.pl/files/2024/07/taniec-zaawans.jpg
END:VEVENT
END:VCALENDAR