BEGIN:VCALENDAR
VERSION:2.0
PRODID:-//Powiatowe Centrum Animacji Społecznej - ECPv4.9.10//NONSGML v1.0//EN
CALSCALE:GREGORIAN
METHOD:PUBLISH
X-WR-CALNAME:Powiatowe Centrum Animacji Społecznej
X-ORIGINAL-URL:https://pcastm.pl
X-WR-CALDESC:Events for Powiatowe Centrum Animacji Społecznej
BEGIN:VTIMEZONE
TZID:Europe/Warsaw
BEGIN:DAYLIGHT
TZOFFSETFROM:+0100
TZOFFSETTO:+0200
TZNAME:CEST
DTSTART:20240331T010000
END:DAYLIGHT
BEGIN:STANDARD
TZOFFSETFROM:+0200
TZOFFSETTO:+0100
TZNAME:CET
DTSTART:20241027T010000
END:STANDARD
END:VTIMEZONE
BEGIN:VEVENT
DTSTART;TZID=Europe/Warsaw:20240916T120000
DTEND;TZID=Europe/Warsaw:20240920T200000
DTSTAMP:20260425T160153
CREATED:20240916T135451Z
LAST-MODIFIED:20240916T135451Z
UID:20962-1726488000-1726862400@pcastm.pl
SUMMARY:Siłownia
DESCRIPTION:\n\n\n\n\n\n\n\n\n\n\n\n\n\n\n\n\n\n\n\n\nKoniec wakacji to najwyższy czas\, aby zadbać o swoją figurę. Zachęcamy do odwiedzenia najtańszej siłowni w mieście. Zacznij już dziś! \n\n\n\n\n\n\n\n\n\n\n\n\n\n\n\n\n\n\n\n\n\n
URL:https://pcastm.pl/wydarzenie/silownia-61/
LOCATION:Powiatowe Centrum Animacji Społecznej\, Farbiarska 20/24\, Tomaszów Mazowiecki\, Łódzkie\, 97-200\, Polska
ATTACH;FMTTYPE=image/jpeg:https://pcastm.pl/files/2024/09/siłownia-2-1.jpg
END:VEVENT
BEGIN:VEVENT
DTSTART;TZID=Europe/Warsaw:20240918T100000
DTEND;TZID=Europe/Warsaw:20240918T110000
DTSTAMP:20260425T160153
CREATED:20240918T063405Z
LAST-MODIFIED:20240918T063405Z
UID:21008-1726653600-1726657200@pcastm.pl
SUMMARY:Informatyka dla seniora
DESCRIPTION:\n\n\n\nZajęcia z informatyki skierowane są głównie do grupy seniorów\, którzy chcieliby nabyć podstawowe umiejętności obsługi komputera oraz zapoznać się z nowoczesnymi technologiami. Ich celem jest nauka komunikowania się przez Internet z rodziną i znajomymi\, przeglądania interesujących informacji w Internecie\, dokonywania zakupów przez Internet\, płacenia rachunków\, jak również obsługa programu do napisania pisma urzędowego. \n\n\n\n\n
URL:https://pcastm.pl/wydarzenie/informatyka-dla-seniora-44/
LOCATION:Powiatowe Centrum Animacji Społecznej\, Farbiarska 20/24\, Tomaszów Mazowiecki\, Łódzkie\, 97-200\, Polska
ATTACH;FMTTYPE=image/jpeg:https://pcastm.pl/files/2024/09/info-senior.jpg
END:VEVENT
BEGIN:VEVENT
DTSTART;TZID=Europe/Warsaw:20240918T120000
DTEND;TZID=Europe/Warsaw:20240918T170000
DTSTAMP:20260425T160153
CREATED:20240918T063456Z
LAST-MODIFIED:20240918T063456Z
UID:21010-1726660800-1726678800@pcastm.pl
SUMMARY:Wokal
DESCRIPTION:\n\n\n\n\n\n\n\n\n\nMarzą Ci się występy na scenie? Lubisz śpiewać i chcesz podszlifować swój warsztat?  Zajęcia przeznaczone są dla dzieci\, młodzieży i dorosłych. Uczestnicy sekcji prezentują placówkę w różnego rodzaju konkursach\, odnosząc duże sukcesy. \n\n\n\n\n\n\n\n\n\n\n
URL:https://pcastm.pl/wydarzenie/wokal-103/
LOCATION:Powiatowe Centrum Animacji Społecznej\, Farbiarska 20/24\, Tomaszów Mazowiecki\, Łódzkie\, 97-200\, Polska
ATTACH;FMTTYPE=image/jpeg:https://pcastm.pl/files/2024/09/wokal-2.jpg
END:VEVENT
BEGIN:VEVENT
DTSTART;TZID=Europe/Warsaw:20240918T150000
DTEND;TZID=Europe/Warsaw:20240918T170000
DTSTAMP:20260425T160153
CREATED:20240918T063732Z
LAST-MODIFIED:20240918T063732Z
UID:21012-1726671600-1726678800@pcastm.pl
SUMMARY:Gitara
DESCRIPTION:\n\n\n\n\n\n\n\n\n\n\n\n\n\n\n\n\n\n\n\n\n\nPodczas nauki gry na gitarze dowiesz się jak wyglądają podstawowe akordy\, jak zagrać prosty rytm na przykładach znanych utworów oraz wiele więcej. \n\n\n\n\n\n\n\n\n\n\n\n\n\n\n\n\n\n\n\n\n\n\n
URL:https://pcastm.pl/wydarzenie/gitara-121/
LOCATION:Powiatowe Centrum Animacji Społecznej\, Farbiarska 20/24\, Tomaszów Mazowiecki\, Łódzkie\, 97-200\, Polska
ATTACH;FMTTYPE=image/jpeg:https://pcastm.pl/files/2024/09/IMG_5148.jpg
END:VEVENT
BEGIN:VEVENT
DTSTART;TZID=Europe/Warsaw:20240918T153000
DTEND;TZID=Europe/Warsaw:20240918T170000
DTSTAMP:20260425T160153
CREATED:20240918T064258Z
LAST-MODIFIED:20240918T064258Z
UID:21014-1726673400-1726678800@pcastm.pl
SUMMARY:Plastyka – grupa starsza 10+
DESCRIPTION:\nZajęcia rozwijają zdolności i zainteresowania plastyczne\, pobudzają kreatywność i wyobraźnię dziecka. Na zajęciach wykorzystywane są różnorodne materiały i techniki\, które umożliwiają rozwijanie zdolności manualnych i wyobraźni\, zwiększają możliwości percepcyjne oraz poszerzają pole wyobraźni i myślenia dziecka. \n\n
URL:https://pcastm.pl/wydarzenie/plastyka-grupa-starsza-10-2/
LOCATION:Powiatowe Centrum Animacji Społecznej\, Farbiarska 20/24\, Tomaszów Mazowiecki\, Łódzkie\, 97-200\, Polska
ATTACH;FMTTYPE=image/jpeg:https://pcastm.pl/files/2024/09/plastyka-otwarty-duże.jpg
END:VEVENT
BEGIN:VEVENT
DTSTART;TZID=Europe/Warsaw:20240918T170000
DTEND;TZID=Europe/Warsaw:20240918T190000
DTSTAMP:20260425T160153
CREATED:20240918T065454Z
LAST-MODIFIED:20240918T065454Z
UID:21017-1726678800-1726686000@pcastm.pl
SUMMARY:Teatr
DESCRIPTION:\n\nZajęcia teatralne dla dzieci i młodzieży to połączenie nauki i zabawy\, które doskonalą umiejętności sceniczne oraz uczą wyrażać emocje\, co pozytywnie wpływa na relacje z rówieśnikami. \n\n\n
URL:https://pcastm.pl/wydarzenie/teatr-67/
LOCATION:Powiatowe Centrum Animacji Społecznej\, Farbiarska 20/24\, Tomaszów Mazowiecki\, Łódzkie\, 97-200\, Polska
ATTACH;FMTTYPE=image/jpeg:https://pcastm.pl/files/2024/09/teatr-1.jpg
END:VEVENT
END:VCALENDAR