BEGIN:VCALENDAR
VERSION:2.0
PRODID:-//Powiatowe Centrum Animacji Społecznej - ECPv4.9.10//NONSGML v1.0//EN
CALSCALE:GREGORIAN
METHOD:PUBLISH
X-WR-CALNAME:Powiatowe Centrum Animacji Społecznej
X-ORIGINAL-URL:https://pcastm.pl
X-WR-CALDESC:Events for Powiatowe Centrum Animacji Społecznej
BEGIN:VTIMEZONE
TZID:Europe/Warsaw
BEGIN:DAYLIGHT
TZOFFSETFROM:+0100
TZOFFSETTO:+0200
TZNAME:CEST
DTSTART:20240331T010000
END:DAYLIGHT
BEGIN:STANDARD
TZOFFSETFROM:+0200
TZOFFSETTO:+0100
TZNAME:CET
DTSTART:20241027T010000
END:STANDARD
END:VTIMEZONE
BEGIN:VEVENT
DTSTART;TZID=Europe/Warsaw:20240923T120000
DTEND;TZID=Europe/Warsaw:20240927T200000
DTSTAMP:20260425T160135
CREATED:20240923T072254Z
LAST-MODIFIED:20240923T072254Z
UID:21049-1727092800-1727467200@pcastm.pl
SUMMARY:Siłownia
DESCRIPTION:\n\n\n\n\n\n\n\n\n\n\n\n\n\n\n\n\n\n\n\n\n\nWrzesień to najwyższy czas\, aby zadbać o swoją figurę. Zachęcamy do odwiedzenia najtańszej siłowni w mieście. Zacznij już dziś! \n\n\n\n\n\n\n\n\n\n\n\n\n\n\n\n\n\n\n\n\n\n\n
URL:https://pcastm.pl/wydarzenie/silownia-62/
LOCATION:Powiatowe Centrum Animacji Społecznej\, Farbiarska 20/24\, Tomaszów Mazowiecki\, Łódzkie\, 97-200\, Polska
ATTACH;FMTTYPE=image/jpeg:https://pcastm.pl/files/2024/09/siłownia-2.jpg
END:VEVENT
BEGIN:VEVENT
DTSTART;TZID=Europe/Warsaw:20240924T120000
DTEND;TZID=Europe/Warsaw:20240924T170000
DTSTAMP:20260425T160135
CREATED:20240923T082420Z
LAST-MODIFIED:20240923T082420Z
UID:21068-1727179200-1727197200@pcastm.pl
SUMMARY:Wokal
DESCRIPTION:\n\nMarzą Ci się występy na scenie? Lubisz śpiewać i chcesz podszlifować swój warsztat?  Zajęcia przeznaczone są dla dzieci\, młodzieży i dorosłych. Uczestnicy sekcji prezentują placówkę w różnego rodzaju konkursach\, odnosząc duże sukcesy. \n\n\n
URL:https://pcastm.pl/wydarzenie/wokal-105/
LOCATION:Powiatowe Centrum Animacji Społecznej\, Farbiarska 20/24\, Tomaszów Mazowiecki\, Łódzkie\, 97-200\, Polska
ATTACH;FMTTYPE=image/jpeg:https://pcastm.pl/files/2024/09/wokal-2.jpg
END:VEVENT
BEGIN:VEVENT
DTSTART;TZID=Europe/Warsaw:20240924T150000
DTEND;TZID=Europe/Warsaw:20240924T170000
DTSTAMP:20260425T160135
CREATED:20240923T082524Z
LAST-MODIFIED:20240923T082524Z
UID:21070-1727190000-1727197200@pcastm.pl
SUMMARY:Gitara
DESCRIPTION:\nPodczas nauki gry na gitarze dowiesz się jak wyglądają podstawowe akordy\, jak zagrać prosty rytm na przykładach znanych utworów oraz wiele więcej. \n\n
URL:https://pcastm.pl/wydarzenie/gitara-123/
LOCATION:Powiatowe Centrum Animacji Społecznej\, Farbiarska 20/24\, Tomaszów Mazowiecki\, Łódzkie\, 97-200\, Polska
ATTACH;FMTTYPE=image/jpeg:https://pcastm.pl/files/2024/09/IMG_5076.jpg
END:VEVENT
BEGIN:VEVENT
DTSTART;TZID=Europe/Warsaw:20240924T153000
DTEND;TZID=Europe/Warsaw:20240924T170000
DTSTAMP:20260425T160135
CREATED:20240923T082740Z
LAST-MODIFIED:20240923T082740Z
UID:21074-1727191800-1727197200@pcastm.pl
SUMMARY:Plastyka – grupa młodsza 6-9 lat
DESCRIPTION:\nZajęcia rozwijają zdolności i zainteresowania plastyczne\, pobudzają kreatywność i wyobraźnię dziecka. Na zajęciach wykorzystywane są różnorodne materiały i techniki\, które umożliwiają rozwijanie zdolności manualnych i wyobraźni\, zwiększają możliwości percepcyjne oraz poszerzają pole wyobraźni i myślenia dziecka. \n\n
URL:https://pcastm.pl/wydarzenie/plastyka-grupa-mlodsza-6-9-lat-2/
LOCATION:Powiatowe Centrum Animacji Społecznej\, Farbiarska 20/24\, Tomaszów Mazowiecki\, Łódzkie\, 97-200\, Polska
ATTACH;FMTTYPE=image/jpeg:https://pcastm.pl/files/2024/09/plastyka-otwarty-małe.jpg
END:VEVENT
BEGIN:VEVENT
DTSTART;TZID=Europe/Warsaw:20240924T160000
DTEND;TZID=Europe/Warsaw:20240924T164500
DTSTAMP:20260425T160135
CREATED:20240923T082621Z
LAST-MODIFIED:20240923T082621Z
UID:21072-1727193600-1727196300@pcastm.pl
SUMMARY:Akademia Małolata
DESCRIPTION:Zajęcia skierowane są do dzieci od 4 roku życia. W ich trakcie prowadzone są zabawy ruchowe\, prace plastyczne i manualne\, zabawy z muzyką. \nCo ciekawego robimy? Sprawdźcie: \nhttps://www.facebook.com/pcastomaszowmaz/videos/1242911593798278/ \n
URL:https://pcastm.pl/wydarzenie/akademia-malolata-61/
LOCATION:Powiatowe Centrum Animacji Społecznej\, Farbiarska 20/24\, Tomaszów Mazowiecki\, Łódzkie\, 97-200\, Polska
ATTACH;FMTTYPE=image/jpeg:https://pcastm.pl/files/2024/09/plastyka-otwarty-duże.jpg
END:VEVENT
END:VCALENDAR