BEGIN:VCALENDAR
VERSION:2.0
PRODID:-//Powiatowe Centrum Animacji Społecznej - ECPv4.9.10//NONSGML v1.0//EN
CALSCALE:GREGORIAN
METHOD:PUBLISH
X-WR-CALNAME:Powiatowe Centrum Animacji Społecznej
X-ORIGINAL-URL:https://pcastm.pl
X-WR-CALDESC:Events for Powiatowe Centrum Animacji Społecznej
BEGIN:VTIMEZONE
TZID:Europe/Warsaw
BEGIN:DAYLIGHT
TZOFFSETFROM:+0100
TZOFFSETTO:+0200
TZNAME:CEST
DTSTART:20240331T010000
END:DAYLIGHT
BEGIN:STANDARD
TZOFFSETFROM:+0200
TZOFFSETTO:+0100
TZNAME:CET
DTSTART:20241027T010000
END:STANDARD
END:VTIMEZONE
BEGIN:VEVENT
DTSTART;TZID=Europe/Warsaw:20240923T120000
DTEND;TZID=Europe/Warsaw:20240927T200000
DTSTAMP:20260425T160150
CREATED:20240923T072254Z
LAST-MODIFIED:20240923T072254Z
UID:21049-1727092800-1727467200@pcastm.pl
SUMMARY:Siłownia
DESCRIPTION:\n\n\n\n\n\n\n\n\n\n\n\n\n\n\n\n\n\n\n\n\n\nWrzesień to najwyższy czas\, aby zadbać o swoją figurę. Zachęcamy do odwiedzenia najtańszej siłowni w mieście. Zacznij już dziś! \n\n\n\n\n\n\n\n\n\n\n\n\n\n\n\n\n\n\n\n\n\n\n
URL:https://pcastm.pl/wydarzenie/silownia-62/
LOCATION:Powiatowe Centrum Animacji Społecznej\, Farbiarska 20/24\, Tomaszów Mazowiecki\, Łódzkie\, 97-200\, Polska
ATTACH;FMTTYPE=image/jpeg:https://pcastm.pl/files/2024/09/siłownia-2.jpg
END:VEVENT
BEGIN:VEVENT
DTSTART;TZID=Europe/Warsaw:20240926T150000
DTEND;TZID=Europe/Warsaw:20240926T170000
DTSTAMP:20260425T160150
CREATED:20240923T084014Z
LAST-MODIFIED:20240923T084048Z
UID:21089-1727362800-1727370000@pcastm.pl
SUMMARY:Gitara
DESCRIPTION:\n\n\n\n\n\n\n\n\n\n\n\n\n\n\n\n\n\n\n\nPodczas nauki gry na gitarze dowiesz się jak wyglądają podstawowe akordy\, jak zagrać prosty rytm na przykładach znanych utworów oraz wiele więcej. \n\n\n\n\n\n\n\n\n\n\n\n\n\n\n\n\n\n\n\n\n
URL:https://pcastm.pl/wydarzenie/gitara-125/
LOCATION:Powiatowe Centrum Animacji Społecznej\, Farbiarska 20/24\, Tomaszów Mazowiecki\, Łódzkie\, 97-200\, Polska
ATTACH;FMTTYPE=image/jpeg:https://pcastm.pl/files/2024/09/gitara-2.jpg
END:VEVENT
BEGIN:VEVENT
DTSTART;TZID=Europe/Warsaw:20240926T160000
DTEND;TZID=Europe/Warsaw:20240926T190000
DTSTAMP:20260425T160150
CREATED:20240923T085606Z
LAST-MODIFIED:20240923T085606Z
UID:21092-1727366400-1727377200@pcastm.pl
SUMMARY:Film i animacja
DESCRIPTION:Zajęcia przeznaczone dla dzieci i młodzieży. To świetna zabawa i mnóstwo wrażeń\, które zawsze towarzyszą pracy na planie. Do dyspozycji uczestników jest profesjonalny sprzęt. \nCo ciekawego robimy? \nhttps://www.facebook.com/pcastomaszowmaz/videos/7896545760389993/ \n
URL:https://pcastm.pl/wydarzenie/film-i-animacja-67/
LOCATION:Powiatowe Centrum Animacji Społecznej\, Farbiarska 20/24\, Tomaszów Mazowiecki\, Łódzkie\, 97-200\, Polska
ATTACH;FMTTYPE=image/jpeg:https://pcastm.pl/files/2024/09/film-otwarty.jpg
END:VEVENT
BEGIN:VEVENT
DTSTART;TZID=Europe/Warsaw:20240926T160000
DTEND;TZID=Europe/Warsaw:20240926T180000
DTSTAMP:20260425T160150
CREATED:20240923T085733Z
LAST-MODIFIED:20240923T085733Z
UID:21095-1727366400-1727373600@pcastm.pl
SUMMARY:Wspinaczka
DESCRIPTION:Zajęcia odbywają się na nowej profesjonalnej ściance wspinaczkowej. Zapraszamy ! \nhttps://www.facebook.com/reel/551705307112430 \n
URL:https://pcastm.pl/wydarzenie/wspinaczka-96/
LOCATION:Powiatowe Centrum Animacji Społecznej\, Farbiarska 20/24\, Tomaszów Mazowiecki\, Łódzkie\, 97-200\, Polska
ATTACH;FMTTYPE=image/jpeg:https://pcastm.pl/files/2024/09/wspinaczka-otwarty-1.jpg
END:VEVENT
BEGIN:VEVENT
DTSTART;TZID=Europe/Warsaw:20240926T162000
DTEND;TZID=Europe/Warsaw:20240926T175000
DTSTAMP:20260425T160150
CREATED:20240923T085952Z
LAST-MODIFIED:20240923T085952Z
UID:21098-1727367600-1727373000@pcastm.pl
SUMMARY:Taniec - grupa początkująca
DESCRIPTION:To super propozycja zarówno dla tych\, którzy mieli z tańcem do czynienia\, jak i tych którzy chcieliby rozpocząć swoją taneczną przygodę. \n
URL:https://pcastm.pl/wydarzenie/taniec-grupa-poczatkujaca-3/
LOCATION:Powiatowe Centrum Animacji Społecznej\, Farbiarska 20/24\, Tomaszów Mazowiecki\, Łódzkie\, 97-200\, Polska
ATTACH;FMTTYPE=image/jpeg:https://pcastm.pl/files/2024/09/taniec-czw-1204-1.jpg
END:VEVENT
END:VCALENDAR