BEGIN:VCALENDAR
VERSION:2.0
PRODID:-//Powiatowe Centrum Animacji Społecznej - ECPv4.9.10//NONSGML v1.0//EN
CALSCALE:GREGORIAN
METHOD:PUBLISH
X-WR-CALNAME:Powiatowe Centrum Animacji Społecznej
X-ORIGINAL-URL:https://pcastm.pl
X-WR-CALDESC:Events for Powiatowe Centrum Animacji Społecznej
BEGIN:VTIMEZONE
TZID:Europe/Warsaw
BEGIN:DAYLIGHT
TZOFFSETFROM:+0100
TZOFFSETTO:+0200
TZNAME:CEST
DTSTART:20240331T010000
END:DAYLIGHT
BEGIN:STANDARD
TZOFFSETFROM:+0200
TZOFFSETTO:+0100
TZNAME:CET
DTSTART:20241027T010000
END:STANDARD
END:VTIMEZONE
BEGIN:VEVENT
DTSTART;TZID=Europe/Warsaw:20240930T120000
DTEND;TZID=Europe/Warsaw:20241004T200000
DTSTAMP:20260425T141259
CREATED:20240930T093951Z
LAST-MODIFIED:20240930T093951Z
UID:21136-1727697600-1728072000@pcastm.pl
SUMMARY:Siłownia
DESCRIPTION:Jesień to najwyższy czas\, aby zadbać o swoją figurę. Pogoda nie zawsze zachęca do spacerów i aktywności na świeżym powietrzu. Zachęcamy więc do odwiedzenia najtańszej siłowni w mieście. Zacznij już dziś! \n
URL:https://pcastm.pl/wydarzenie/silownia-63/
LOCATION:Powiatowe Centrum Animacji Społecznej\, Farbiarska 20/24\, Tomaszów Mazowiecki\, Łódzkie\, 97-200\, Polska
ATTACH;FMTTYPE=image/jpeg:https://pcastm.pl/files/2024/09/siłownia-2-2.jpg
END:VEVENT
BEGIN:VEVENT
DTSTART;TZID=Europe/Warsaw:20241003T150000
DTEND;TZID=Europe/Warsaw:20241003T170000
DTSTAMP:20260425T141259
CREATED:20240930T101824Z
LAST-MODIFIED:20240930T101824Z
UID:21172-1727967600-1727974800@pcastm.pl
SUMMARY:Gitara
DESCRIPTION:Podczas nauki gry na gitarze dowiesz się jak wyglądają podstawowe akordy\, jak zagrać prosty rytm na przykładach znanych utworów oraz wiele więcej. \n
URL:https://pcastm.pl/wydarzenie/gitara-128/
LOCATION:Powiatowe Centrum Animacji Społecznej\, Farbiarska 20/24\, Tomaszów Mazowiecki\, Łódzkie\, 97-200\, Polska
ATTACH;FMTTYPE=image/jpeg:https://pcastm.pl/files/2024/09/IMG_5076.jpg
END:VEVENT
BEGIN:VEVENT
DTSTART;TZID=Europe/Warsaw:20241003T160000
DTEND;TZID=Europe/Warsaw:20241003T190000
DTSTAMP:20260425T141259
CREATED:20240930T111601Z
LAST-MODIFIED:20240930T111601Z
UID:21174-1727971200-1727982000@pcastm.pl
SUMMARY:Film i animacja
DESCRIPTION:Zajęcia przeznaczone dla dzieci i młodzieży. To świetna zabawa i mnóstwo wrażeń\, które zawsze towarzyszą pracy na planie. Do dyspozycji uczestników jest profesjonalny sprzęt. Co ciekawego robimy? \n  \n
URL:https://pcastm.pl/wydarzenie/film-i-animacja-68/
LOCATION:Powiatowe Centrum Animacji Społecznej\, Farbiarska 20/24\, Tomaszów Mazowiecki\, Łódzkie\, 97-200\, Polska
ATTACH;FMTTYPE=image/jpeg:https://pcastm.pl/files/2024/09/film-otwarty.jpg
END:VEVENT
BEGIN:VEVENT
DTSTART;TZID=Europe/Warsaw:20241003T160000
DTEND;TZID=Europe/Warsaw:20241003T180000
DTSTAMP:20260425T141259
CREATED:20240930T111836Z
LAST-MODIFIED:20240930T111836Z
UID:21180-1727971200-1727978400@pcastm.pl
SUMMARY:Wspinaczka
DESCRIPTION:Zajęcia odbywają się na nowej profesjonalnej ściance wspinaczkowej. Zapraszamy ! \nhttps://www.facebook.com/reel/551705307112430 \n
URL:https://pcastm.pl/wydarzenie/wspinaczka-98/
LOCATION:Powiatowe Centrum Animacji Społecznej\, Farbiarska 20/24\, Tomaszów Mazowiecki\, Łódzkie\, 97-200\, Polska
ATTACH;FMTTYPE=image/jpeg:https://pcastm.pl/files/2024/09/wspinaczka-otwarty-1.jpg
END:VEVENT
BEGIN:VEVENT
DTSTART;TZID=Europe/Warsaw:20241003T162000
DTEND;TZID=Europe/Warsaw:20241003T175000
DTSTAMP:20260425T141259
CREATED:20240930T112106Z
LAST-MODIFIED:20240930T112106Z
UID:21182-1727972400-1727977800@pcastm.pl
SUMMARY:Taniec - grupa początkująca
DESCRIPTION:To super propozycja zarówno dla tych\, którzy mieli z tańcem do czynienia\, jak i tych którzy chcieliby rozpocząć swoją taneczną przygodę. \n
URL:https://pcastm.pl/wydarzenie/taniec-grupa-poczatkujaca-4/
LOCATION:Powiatowe Centrum Animacji Społecznej\, Farbiarska 20/24\, Tomaszów Mazowiecki\, Łódzkie\, 97-200\, Polska
ATTACH;FMTTYPE=image/jpeg:https://pcastm.pl/files/2024/09/taniec-czw-1204.jpg
END:VEVENT
BEGIN:VEVENT
DTSTART;TZID=Europe/Warsaw:20241003T170000
DTEND;TZID=Europe/Warsaw:20241003T183000
DTSTAMP:20260425T141259
CREATED:20241002T093622Z
LAST-MODIFIED:20241002T093622Z
UID:21298-1727974800-1727980200@pcastm.pl
SUMMARY:Hiszpański dla początkujących
DESCRIPTION:\nChcesz nauczyć się języka hiszpańskiego? Nic prostszego! Zajęcia są przeznaczone dla dorosłych. Ich koszt to jedynie 50 zł/miesiąc. \n\n
URL:https://pcastm.pl/wydarzenie/hiszpanski-dla-poczatkujacych/
LOCATION:Powiatowe Centrum Animacji Społecznej\, Farbiarska 20/24\, Tomaszów Mazowiecki\, Łódzkie\, 97-200\, Polska
ATTACH;FMTTYPE=image/jpeg:https://pcastm.pl/files/2024/09/spain-gb592fafd5_1280.jpg
END:VEVENT
END:VCALENDAR