BEGIN:VCALENDAR
VERSION:2.0
PRODID:-//Powiatowe Centrum Animacji Społecznej - ECPv4.9.10//NONSGML v1.0//EN
CALSCALE:GREGORIAN
METHOD:PUBLISH
X-WR-CALNAME:Powiatowe Centrum Animacji Społecznej
X-ORIGINAL-URL:https://pcastm.pl
X-WR-CALDESC:Events for Powiatowe Centrum Animacji Społecznej
BEGIN:VTIMEZONE
TZID:Europe/Warsaw
BEGIN:DAYLIGHT
TZOFFSETFROM:+0100
TZOFFSETTO:+0200
TZNAME:CEST
DTSTART:20240331T010000
END:DAYLIGHT
BEGIN:STANDARD
TZOFFSETFROM:+0200
TZOFFSETTO:+0100
TZNAME:CET
DTSTART:20241027T010000
END:STANDARD
END:VTIMEZONE
BEGIN:VEVENT
DTSTART;TZID=Europe/Warsaw:20241007T120000
DTEND;TZID=Europe/Warsaw:20241011T200000
DTSTAMP:20260425T141238
CREATED:20241007T064527Z
LAST-MODIFIED:20241008T120907Z
UID:21301-1728302400-1728676800@pcastm.pl
SUMMARY:Siłownia
DESCRIPTION:\nJesień to najwyższy czas\, aby zadbać o swoją figurę. Pogoda nie zawsze zachęca do spacerów i aktywności na świeżym powietrzu. Zachęcamy więc do odwiedzenia najtańszej siłowni w mieście. Zacznij już dziś! \n\n
URL:https://pcastm.pl/wydarzenie/silownia-64/
LOCATION:Powiatowe Centrum Animacji Społecznej\, Farbiarska 20/24\, Tomaszów Mazowiecki\, Łódzkie\, 97-200\, Polska
ATTACH;FMTTYPE=image/jpeg:https://pcastm.pl/files/2024/09/siłownia-2.jpg
END:VEVENT
BEGIN:VEVENT
DTSTART;TZID=Europe/Warsaw:20241008T080000
DTEND;TZID=Europe/Warsaw:20241008T170000
DTSTAMP:20260425T141238
CREATED:20241007T065709Z
LAST-MODIFIED:20241007T065709Z
UID:21317-1728374400-1728406800@pcastm.pl
SUMMARY:Gitara - odwołane
DESCRIPTION:
URL:https://pcastm.pl/wydarzenie/gitara-odwolane/
LOCATION:Łódzkie
END:VEVENT
BEGIN:VEVENT
DTSTART;TZID=Europe/Warsaw:20241008T120000
DTEND;TZID=Europe/Warsaw:20241008T170000
DTSTAMP:20260425T141238
CREATED:20241007T065632Z
LAST-MODIFIED:20241007T065632Z
UID:21315-1728388800-1728406800@pcastm.pl
SUMMARY:Wokal
DESCRIPTION:Marzą Ci się występy na scenie? Lubisz śpiewać i chcesz podszlifować swój warsztat?  Zajęcia przeznaczone są dla dzieci\, młodzieży i dorosłych. Uczestnicy sekcji prezentują placówkę w różnego rodzaju konkursach\, odnosząc duże sukcesy. \n
URL:https://pcastm.pl/wydarzenie/wokal-111/
LOCATION:Powiatowe Centrum Animacji Społecznej\, Farbiarska 20/24\, Tomaszów Mazowiecki\, Łódzkie\, 97-200\, Polska
ATTACH;FMTTYPE=image/jpeg:https://pcastm.pl/files/2024/09/IMG_5114.jpg
END:VEVENT
BEGIN:VEVENT
DTSTART;TZID=Europe/Warsaw:20241008T153000
DTEND;TZID=Europe/Warsaw:20241008T170000
DTSTAMP:20260425T141238
CREATED:20241007T065848Z
LAST-MODIFIED:20241007T065848Z
UID:21319-1728401400-1728406800@pcastm.pl
SUMMARY:Plastyka – grupa młodsza 6-9 lat
DESCRIPTION:Zajęcia rozwijają zdolności i zainteresowania plastyczne\, pobudzają kreatywność i wyobraźnię dziecka. Na zajęciach wykorzystywane są różnorodne materiały i techniki\, które umożliwiają rozwijanie zdolności manualnych i wyobraźni\, zwiększają możliwości percepcyjne oraz poszerzają pole wyobraźni i myślenia dziecka. \n
URL:https://pcastm.pl/wydarzenie/plastyka-grupa-mlodsza-6-9-lat-5/
LOCATION:Powiatowe Centrum Animacji Społecznej\, Farbiarska 20/24\, Tomaszów Mazowiecki\, Łódzkie\, 97-200\, Polska
ATTACH;FMTTYPE=image/jpeg:https://pcastm.pl/files/2024/09/plastyka-otwarty-małe.jpg
END:VEVENT
BEGIN:VEVENT
DTSTART;TZID=Europe/Warsaw:20241008T160000
DTEND;TZID=Europe/Warsaw:20241008T180000
DTSTAMP:20260425T141238
CREATED:20241007T070022Z
LAST-MODIFIED:20241007T070022Z
UID:21321-1728403200-1728410400@pcastm.pl
SUMMARY:Wspinaczka
DESCRIPTION:Zajęcia odbywają się na nowej profesjonalnej ściance wspinaczkowej. Zapraszamy ! \nhttps://www.facebook.com/reel/551705307112430 \n
URL:https://pcastm.pl/wydarzenie/wspinaczka-99/
LOCATION:Powiatowe Centrum Animacji Społecznej\, Farbiarska 20/24\, Tomaszów Mazowiecki\, Łódzkie\, 97-200\, Polska
ATTACH;FMTTYPE=image/jpeg:https://pcastm.pl/files/2024/09/wspinaczka-otwarty-1.jpg
END:VEVENT
BEGIN:VEVENT
DTSTART;TZID=Europe/Warsaw:20241008T160000
DTEND;TZID=Europe/Warsaw:20241008T180000
DTSTAMP:20260425T141238
CREATED:20241008T114851Z
LAST-MODIFIED:20241008T114851Z
UID:21340-1728403200-1728410400@pcastm.pl
SUMMARY:Wspionaczka
DESCRIPTION:Zajęcia odbywają się na nowej profesjonalnej ściance wspinaczkowej. Zapraszamy ! \nhttps://www.facebook.com/reel/551705307112430 \n
URL:https://pcastm.pl/wydarzenie/wspionaczka/
LOCATION:Powiatowe Centrum Animacji Społecznej\, Farbiarska 20/24\, Tomaszów Mazowiecki\, Łódzkie\, 97-200\, Polska
ATTACH;FMTTYPE=image/jpeg:https://pcastm.pl/files/2024/09/wspinaczka-otwarty.jpg
END:VEVENT
END:VCALENDAR