BEGIN:VCALENDAR
VERSION:2.0
PRODID:-//Powiatowe Centrum Animacji Społecznej - ECPv4.9.10//NONSGML v1.0//EN
CALSCALE:GREGORIAN
METHOD:PUBLISH
X-WR-CALNAME:Powiatowe Centrum Animacji Społecznej
X-ORIGINAL-URL:https://pcastm.pl
X-WR-CALDESC:Events for Powiatowe Centrum Animacji Społecznej
BEGIN:VTIMEZONE
TZID:Europe/Warsaw
BEGIN:DAYLIGHT
TZOFFSETFROM:+0100
TZOFFSETTO:+0200
TZNAME:CEST
DTSTART:20240331T010000
END:DAYLIGHT
BEGIN:STANDARD
TZOFFSETFROM:+0200
TZOFFSETTO:+0100
TZNAME:CET
DTSTART:20241027T010000
END:STANDARD
END:VTIMEZONE
BEGIN:VEVENT
DTSTART;TZID=Europe/Warsaw:20241007T120000
DTEND;TZID=Europe/Warsaw:20241011T200000
DTSTAMP:20260425T142157
CREATED:20241007T064527Z
LAST-MODIFIED:20241008T120907Z
UID:21301-1728302400-1728676800@pcastm.pl
SUMMARY:Siłownia
DESCRIPTION:\nJesień to najwyższy czas\, aby zadbać o swoją figurę. Pogoda nie zawsze zachęca do spacerów i aktywności na świeżym powietrzu. Zachęcamy więc do odwiedzenia najtańszej siłowni w mieście. Zacznij już dziś! \n\n
URL:https://pcastm.pl/wydarzenie/silownia-64/
LOCATION:Powiatowe Centrum Animacji Społecznej\, Farbiarska 20/24\, Tomaszów Mazowiecki\, Łódzkie\, 97-200\, Polska
ATTACH;FMTTYPE=image/jpeg:https://pcastm.pl/files/2024/09/siłownia-2.jpg
END:VEVENT
BEGIN:VEVENT
DTSTART;TZID=Europe/Warsaw:20241009T100000
DTEND;TZID=Europe/Warsaw:20241009T110000
DTSTAMP:20260425T142157
CREATED:20241008T113258Z
LAST-MODIFIED:20241008T113258Z
UID:21328-1728468000-1728471600@pcastm.pl
SUMMARY:Informatyka dla seniora
DESCRIPTION:\nZajęcia z informatyki skierowane są głównie do grupy seniorów\, którzy chcieliby nabyć podstawowe umiejętności obsługi komputera oraz zapoznać się z nowoczesnymi technologiami. Ich celem jest nauka komunikowania się przez Internet z rodziną i znajomymi\, przeglądania interesujących informacji w Internecie\, dokonywania zakupów przez Internet\, płacenia rachunków\, jak również obsługa programu do napisania pisma urzędowego. \n\n
URL:https://pcastm.pl/wydarzenie/informatyka-dla-seniora-47/
LOCATION:Powiatowe Centrum Animacji Społecznej\, Farbiarska 20/24\, Tomaszów Mazowiecki\, Łódzkie\, 97-200\, Polska
ATTACH;FMTTYPE=image/jpeg:https://pcastm.pl/files/2024/09/info-senior.jpg
END:VEVENT
BEGIN:VEVENT
DTSTART;TZID=Europe/Warsaw:20241009T120000
DTEND;TZID=Europe/Warsaw:20241009T170000
DTSTAMP:20260425T142157
CREATED:20241008T113618Z
LAST-MODIFIED:20241008T113618Z
UID:21330-1728475200-1728493200@pcastm.pl
SUMMARY:Wokal
DESCRIPTION:Marzą Ci się występy na scenie? Lubisz śpiewać i chcesz podszlifować swój warsztat?  Zajęcia przeznaczone są dla dzieci\, młodzieży i dorosłych. Uczestnicy sekcji prezentują placówkę w różnego rodzaju konkursach\, odnosząc duże sukcesy. \n
URL:https://pcastm.pl/wydarzenie/wokal-112/
LOCATION:Powiatowe Centrum Animacji Społecznej\, Farbiarska 20/24\, Tomaszów Mazowiecki\, Łódzkie\, 97-200\, Polska
ATTACH;FMTTYPE=image/jpeg:https://pcastm.pl/files/2024/09/wokal-2.jpg
END:VEVENT
BEGIN:VEVENT
DTSTART;TZID=Europe/Warsaw:20241009T150000
DTEND;TZID=Europe/Warsaw:20241009T170000
DTSTAMP:20260425T142157
CREATED:20241008T113902Z
LAST-MODIFIED:20241008T113902Z
UID:21332-1728486000-1728493200@pcastm.pl
SUMMARY:Gitara - zajęcia odwołane
DESCRIPTION:
URL:https://pcastm.pl/wydarzenie/gitara-zajecia-odwolane/
LOCATION:Powiatowe Centrum Animacji Społecznej\, Farbiarska 20/24\, Tomaszów Mazowiecki\, Łódzkie\, 97-200\, Polska
ATTACH;FMTTYPE=image/jpeg:https://pcastm.pl/files/2024/09/gitara-2.jpg
END:VEVENT
BEGIN:VEVENT
DTSTART;TZID=Europe/Warsaw:20241009T153000
DTEND;TZID=Europe/Warsaw:20241009T170000
DTSTAMP:20260425T142157
CREATED:20241007T070259Z
LAST-MODIFIED:20241007T070259Z
UID:21323-1728487800-1728493200@pcastm.pl
SUMMARY:Plastyka – grupa starsza 10+
DESCRIPTION:Zajęcia rozwijają zdolności i zainteresowania plastyczne\, pobudzają kreatywność i wyobraźnię dziecka. Na zajęciach wykorzystywane są różnorodne materiały i techniki\, które umożliwiają rozwijanie zdolności manualnych i wyobraźni\, zwiększają możliwości percepcyjne oraz poszerzają pole wyobraźni i myślenia dziecka. \n
URL:https://pcastm.pl/wydarzenie/plastyka-grupa-starsza-10-5/
LOCATION:Powiatowe Centrum Animacji Społecznej\, Farbiarska 20/24\, Tomaszów Mazowiecki\, Łódzkie\, 97-200\, Polska
ATTACH;FMTTYPE=image/jpeg:https://pcastm.pl/files/2024/10/plastyka-1.jpg
END:VEVENT
BEGIN:VEVENT
DTSTART;TZID=Europe/Warsaw:20241009T170000
DTEND;TZID=Europe/Warsaw:20241009T190000
DTSTAMP:20260425T142157
CREATED:20241008T114339Z
LAST-MODIFIED:20241008T114339Z
UID:21334-1728493200-1728500400@pcastm.pl
SUMMARY:Teatr
DESCRIPTION:\nZajęcia teatralne dla dzieci i młodzieży to połączenie nauki i zabawy\, które doskonalą umiejętności sceniczne oraz uczą wyrażać emocje\, co pozytywnie wpływa na relacje z rówieśnikami. \n\n
URL:https://pcastm.pl/wydarzenie/teatr-73/
LOCATION:Powiatowe Centrum Animacji Społecznej\, Farbiarska 20/24\, Tomaszów Mazowiecki\, Łódzkie\, 97-200\, Polska
ATTACH;FMTTYPE=image/jpeg:https://pcastm.pl/files/2024/10/DSC00290.jpg
END:VEVENT
END:VCALENDAR