BEGIN:VCALENDAR
VERSION:2.0
PRODID:-//Powiatowe Centrum Animacji Społecznej - ECPv4.9.10//NONSGML v1.0//EN
CALSCALE:GREGORIAN
METHOD:PUBLISH
X-WR-CALNAME:Powiatowe Centrum Animacji Społecznej
X-ORIGINAL-URL:https://pcastm.pl
X-WR-CALDESC:Events for Powiatowe Centrum Animacji Społecznej
BEGIN:VTIMEZONE
TZID:Europe/Warsaw
BEGIN:DAYLIGHT
TZOFFSETFROM:+0100
TZOFFSETTO:+0200
TZNAME:CEST
DTSTART:20240331T010000
END:DAYLIGHT
BEGIN:STANDARD
TZOFFSETFROM:+0200
TZOFFSETTO:+0100
TZNAME:CET
DTSTART:20241027T010000
END:STANDARD
END:VTIMEZONE
BEGIN:VEVENT
DTSTART;TZID=Europe/Warsaw:20241007T120000
DTEND;TZID=Europe/Warsaw:20241011T200000
DTSTAMP:20260425T141157
CREATED:20241007T064527Z
LAST-MODIFIED:20241008T120907Z
UID:21301-1728302400-1728676800@pcastm.pl
SUMMARY:Siłownia
DESCRIPTION:\nJesień to najwyższy czas\, aby zadbać o swoją figurę. Pogoda nie zawsze zachęca do spacerów i aktywności na świeżym powietrzu. Zachęcamy więc do odwiedzenia najtańszej siłowni w mieście. Zacznij już dziś! \n\n
URL:https://pcastm.pl/wydarzenie/silownia-64/
LOCATION:Powiatowe Centrum Animacji Społecznej\, Farbiarska 20/24\, Tomaszów Mazowiecki\, Łódzkie\, 97-200\, Polska
ATTACH;FMTTYPE=image/jpeg:https://pcastm.pl/files/2024/09/siłownia-2.jpg
END:VEVENT
BEGIN:VEVENT
DTSTART;TZID=Europe/Warsaw:20241010T150000
DTEND;TZID=Europe/Warsaw:20241010T170000
DTSTAMP:20260425T141157
CREATED:20241008T114547Z
LAST-MODIFIED:20241008T114547Z
UID:21336-1728572400-1728579600@pcastm.pl
SUMMARY:Gitara -odwołane
DESCRIPTION:
URL:https://pcastm.pl/wydarzenie/gitara-odwolane-2/
LOCATION:Powiatowe Centrum Animacji Społecznej\, Farbiarska 20/24\, Tomaszów Mazowiecki\, Łódzkie\, 97-200\, Polska
ATTACH;FMTTYPE=image/jpeg:https://pcastm.pl/files/2024/06/gitara-1.jpg
END:VEVENT
BEGIN:VEVENT
DTSTART;TZID=Europe/Warsaw:20241010T160000
DTEND;TZID=Europe/Warsaw:20241010T190000
DTSTAMP:20260425T141157
CREATED:20241008T114746Z
LAST-MODIFIED:20241008T114746Z
UID:21338-1728576000-1728586800@pcastm.pl
SUMMARY:Film i animacja
DESCRIPTION:Zajęcia przeznaczone dla dzieci i młodzieży. To świetna zabawa i mnóstwo wrażeń\, które zawsze towarzyszą pracy na planie. Do dyspozycji uczestników jest profesjonalny sprzęt. Co ciekawego robimy? \n
URL:https://pcastm.pl/wydarzenie/film-i-animacja-69/
LOCATION:Powiatowe Centrum Animacji Społecznej\, Farbiarska 20/24\, Tomaszów Mazowiecki\, Łódzkie\, 97-200\, Polska
ATTACH;FMTTYPE=image/jpeg:https://pcastm.pl/files/2024/06/IMG_1512.jpg
END:VEVENT
BEGIN:VEVENT
DTSTART;TZID=Europe/Warsaw:20241010T160000
DTEND;TZID=Europe/Warsaw:20241010T180000
DTSTAMP:20260425T141157
CREATED:20241008T115211Z
LAST-MODIFIED:20241008T115211Z
UID:21342-1728576000-1728583200@pcastm.pl
SUMMARY:Wspinaczka
DESCRIPTION:Zajęcia odbywają się na nowej profesjonalnej ściance wspinaczkowej. Zapraszamy ! \nhttps://www.facebook.com/reel/551705307112430 \n
URL:https://pcastm.pl/wydarzenie/wspinaczka-100/
LOCATION:Powiatowe Centrum Animacji Społecznej\, Farbiarska 20/24\, Tomaszów Mazowiecki\, Łódzkie\, 97-200\, Polska
ATTACH;FMTTYPE=image/jpeg:https://pcastm.pl/files/2024/09/wspinaczka-otwarty.jpg
END:VEVENT
BEGIN:VEVENT
DTSTART;TZID=Europe/Warsaw:20241010T162000
DTEND;TZID=Europe/Warsaw:20241010T175000
DTSTAMP:20260425T141157
CREATED:20241008T115329Z
LAST-MODIFIED:20241008T115329Z
UID:21345-1728577200-1728582600@pcastm.pl
SUMMARY:Taniec - grupa początkująca
DESCRIPTION:\nTo super propozycja zarówno dla tych\, którzy mieli z tańcem do czynienia\, jak i tych którzy chcieliby rozpocząć swoją taneczną przygodę. \n\n
URL:https://pcastm.pl/wydarzenie/taniec-grupa-poczatkujaca-5/
LOCATION:Powiatowe Centrum Animacji Społecznej\, Farbiarska 20/24\, Tomaszów Mazowiecki\, Łódzkie\, 97-200\, Polska
ATTACH;FMTTYPE=image/jpeg:https://pcastm.pl/files/2024/09/taniec-czw-1204.jpg
END:VEVENT
BEGIN:VEVENT
DTSTART;TZID=Europe/Warsaw:20241010T170000
DTEND;TZID=Europe/Warsaw:20241010T183000
DTSTAMP:20260425T141157
CREATED:20241008T120018Z
LAST-MODIFIED:20241008T120018Z
UID:21347-1728579600-1728585000@pcastm.pl
SUMMARY:Hiszpański dla początkujących
DESCRIPTION:\n\nChcesz nauczyć się języka hiszpańskiego? Nic prostszego! Zajęcia są przeznaczone dla dorosłych. Ich koszt to jedynie 50 zł/miesiąc. \n\n\n
URL:https://pcastm.pl/wydarzenie/hiszpanski-dla-poczatkujacych-2/
LOCATION:Powiatowe Centrum Animacji Społecznej\, Farbiarska 20/24\, Tomaszów Mazowiecki\, Łódzkie\, 97-200\, Polska
ATTACH;FMTTYPE=image/jpeg:https://pcastm.pl/files/2024/09/spain-gb592fafd5_1280.jpg
END:VEVENT
END:VCALENDAR