BEGIN:VCALENDAR
VERSION:2.0
PRODID:-//Powiatowe Centrum Animacji Społecznej - ECPv4.9.10//NONSGML v1.0//EN
CALSCALE:GREGORIAN
METHOD:PUBLISH
X-WR-CALNAME:Powiatowe Centrum Animacji Społecznej
X-ORIGINAL-URL:https://pcastm.pl
X-WR-CALDESC:Events for Powiatowe Centrum Animacji Społecznej
BEGIN:VTIMEZONE
TZID:Europe/Warsaw
BEGIN:DAYLIGHT
TZOFFSETFROM:+0100
TZOFFSETTO:+0200
TZNAME:CEST
DTSTART:20240331T010000
END:DAYLIGHT
BEGIN:STANDARD
TZOFFSETFROM:+0200
TZOFFSETTO:+0100
TZNAME:CET
DTSTART:20241027T010000
END:STANDARD
END:VTIMEZONE
BEGIN:VEVENT
DTSTART;TZID=Europe/Warsaw:20241014T120000
DTEND;TZID=Europe/Warsaw:20241018T200000
DTSTAMP:20260425T141353
CREATED:20241008T121827Z
LAST-MODIFIED:20241008T121827Z
UID:21358-1728907200-1729281600@pcastm.pl
SUMMARY:Siłownia
DESCRIPTION:Jesień to najwyższy czas\, aby zadbać o swoją figurę. Pogoda nie zawsze zachęca do spacerów i aktywności na świeżym powietrzu. Zachęcamy więc do odwiedzenia najtańszej siłowni w mieście. Zacznij już dziś! \n
URL:https://pcastm.pl/wydarzenie/silownia-65/
LOCATION:Powiatowe Centrum Animacji Społecznej\, Farbiarska 20/24\, Tomaszów Mazowiecki\, Łódzkie\, 97-200\, Polska
ATTACH;FMTTYPE=image/jpeg:https://pcastm.pl/files/2024/09/siłownia-2.jpg
END:VEVENT
BEGIN:VEVENT
DTSTART;TZID=Europe/Warsaw:20241015T120000
DTEND;TZID=Europe/Warsaw:20241015T170000
DTSTAMP:20260425T141353
CREATED:20241015T104050Z
LAST-MODIFIED:20241015T104050Z
UID:21390-1728993600-1729011600@pcastm.pl
SUMMARY:Wokal
DESCRIPTION:
URL:https://pcastm.pl/wydarzenie/wokal-113/
LOCATION:Powiatowe Centrum Animacji Społecznej\, Farbiarska 20/24\, Tomaszów Mazowiecki\, Łódzkie\, 97-200\, Polska
ATTACH;FMTTYPE=image/jpeg:https://pcastm.pl/files/2024/10/462212363_1008182311286873_5396485643900401407_n.jpg
END:VEVENT
BEGIN:VEVENT
DTSTART;TZID=Europe/Warsaw:20241015T153000
DTEND;TZID=Europe/Warsaw:20241015T170000
DTSTAMP:20260425T141353
CREATED:20241015T105812Z
LAST-MODIFIED:20241015T105812Z
UID:21404-1729006200-1729011600@pcastm.pl
SUMMARY:Plastyka – grupa młodsza 6-9 lat
DESCRIPTION:Zajęcia rozwijają zdolności i zainteresowania plastyczne\, pobudzają kreatywność i wyobraźnię dziecka. Na zajęciach wykorzystywane są różnorodne materiały i techniki\, które umożliwiają rozwijanie zdolności manualnych i wyobraźni\, zwiększają możliwości percepcyjne oraz poszerzają pole wyobraźni i myślenia dziecka. \n
URL:https://pcastm.pl/wydarzenie/plastyka-grupa-mlodsza-6-9-lat-6/
LOCATION:Powiatowe Centrum Animacji Społecznej\, Farbiarska 20/24\, Tomaszów Mazowiecki\, Łódzkie\, 97-200\, Polska
ATTACH;FMTTYPE=image/jpeg:https://pcastm.pl/files/2024/09/plastyka-otwarty-duże-1.jpg
END:VEVENT
BEGIN:VEVENT
DTSTART;TZID=Europe/Warsaw:20241015T160000
DTEND;TZID=Europe/Warsaw:20241015T180000
DTSTAMP:20260425T141353
CREATED:20241015T110022Z
LAST-MODIFIED:20241015T110022Z
UID:21408-1729008000-1729015200@pcastm.pl
SUMMARY:Wspinaczka
DESCRIPTION:Zajęcia odbywają się na nowej profesjonalnej ściance wspinaczkowej. Zapraszamy ! https://www.facebook.com/reel/551705307112430 \n
URL:https://pcastm.pl/wydarzenie/wspinaczka-101/
LOCATION:Powiatowe Centrum Animacji Społecznej\, Farbiarska 20/24\, Tomaszów Mazowiecki\, Łódzkie\, 97-200\, Polska
ATTACH;FMTTYPE=image/jpeg:https://pcastm.pl/files/2024/09/wspinaczka-otwarty-1.jpg
END:VEVENT
BEGIN:VEVENT
DTSTART;TZID=Europe/Warsaw:20241015T160000
DTEND;TZID=Europe/Warsaw:20241015T190000
DTSTAMP:20260425T141353
CREATED:20241015T132643Z
LAST-MODIFIED:20241015T132643Z
UID:21460-1729008000-1729018800@pcastm.pl
SUMMARY:Film i animacja
DESCRIPTION:Zajęcia przeznaczone dla dzieci i młodzieży. To świetna zabawa i mnóstwo wrażeń\, które zawsze towarzyszą pracy na planie. Do dyspozycji uczestników jest profesjonalny sprzęt. \nCo ciekawego robimy? \nhttps://www.facebook.com/pcastomaszowmaz/videos/1147705443323060/ \n
URL:https://pcastm.pl/wydarzenie/film-i-animacja-72/
LOCATION:Powiatowe Centrum Animacji Społecznej\, Farbiarska 20/24\, Tomaszów Mazowiecki\, Łódzkie\, 97-200\, Polska
ATTACH;FMTTYPE=image/jpeg:https://pcastm.pl/files/2024/09/film-otwarty.jpg
END:VEVENT
BEGIN:VEVENT
DTSTART;TZID=Europe/Warsaw:20241015T160000
DTEND;TZID=Europe/Warsaw:20241015T190000
DTSTAMP:20260425T141353
CREATED:20241015T132647Z
LAST-MODIFIED:20241015T132647Z
UID:21457-1729008000-1729018800@pcastm.pl
SUMMARY:Film i animacja
DESCRIPTION:Zajęcia przeznaczone dla dzieci i młodzieży. To świetna zabawa i mnóstwo wrażeń\, które zawsze towarzyszą pracy na planie. Do dyspozycji uczestników jest profesjonalny sprzęt. \nCo ciekawego robimy? \nhttps://www.facebook.com/pcastomaszowmaz/videos/1147705443323060/ \n
URL:https://pcastm.pl/wydarzenie/film-i-animacja-73/
LOCATION:Powiatowe Centrum Animacji Społecznej\, Farbiarska 20/24\, Tomaszów Mazowiecki\, Łódzkie\, 97-200\, Polska
ATTACH;FMTTYPE=image/jpeg:https://pcastm.pl/files/2024/09/film-otwarty.jpg
END:VEVENT
END:VCALENDAR