BEGIN:VCALENDAR
VERSION:2.0
PRODID:-//Powiatowe Centrum Animacji Społecznej - ECPv4.9.10//NONSGML v1.0//EN
CALSCALE:GREGORIAN
METHOD:PUBLISH
X-WR-CALNAME:Powiatowe Centrum Animacji Społecznej
X-ORIGINAL-URL:https://pcastm.pl
X-WR-CALDESC:Events for Powiatowe Centrum Animacji Społecznej
BEGIN:VTIMEZONE
TZID:Europe/Warsaw
BEGIN:DAYLIGHT
TZOFFSETFROM:+0100
TZOFFSETTO:+0200
TZNAME:CEST
DTSTART:20240331T010000
END:DAYLIGHT
BEGIN:STANDARD
TZOFFSETFROM:+0200
TZOFFSETTO:+0100
TZNAME:CET
DTSTART:20241027T010000
END:STANDARD
END:VTIMEZONE
BEGIN:VEVENT
DTSTART;TZID=Europe/Warsaw:20241014T120000
DTEND;TZID=Europe/Warsaw:20241018T200000
DTSTAMP:20260425T155227
CREATED:20241008T121827Z
LAST-MODIFIED:20241008T121827Z
UID:21358-1728907200-1729281600@pcastm.pl
SUMMARY:Siłownia
DESCRIPTION:Jesień to najwyższy czas\, aby zadbać o swoją figurę. Pogoda nie zawsze zachęca do spacerów i aktywności na świeżym powietrzu. Zachęcamy więc do odwiedzenia najtańszej siłowni w mieście. Zacznij już dziś! \n
URL:https://pcastm.pl/wydarzenie/silownia-65/
LOCATION:Powiatowe Centrum Animacji Społecznej\, Farbiarska 20/24\, Tomaszów Mazowiecki\, Łódzkie\, 97-200\, Polska
ATTACH;FMTTYPE=image/jpeg:https://pcastm.pl/files/2024/09/siłownia-2.jpg
END:VEVENT
BEGIN:VEVENT
DTSTART;TZID=Europe/Warsaw:20241018T120000
DTEND;TZID=Europe/Warsaw:20241018T200000
DTSTAMP:20260425T155227
CREATED:20241015T131125Z
LAST-MODIFIED:20241015T131125Z
UID:21447-1729252800-1729281600@pcastm.pl
SUMMARY:Dzierlatki
DESCRIPTION:\n\n\n\n\n\nSpotkanie sekcji regionalno-turystycznej. Dołączyć może każdy\, kto chciałby poznać nowe osoby. lubi prace manualne\, wycieczki tematyczne czy występy na scenie. \n\n\n\n\n\n\n
URL:https://pcastm.pl/wydarzenie/dzierlatki-52/
LOCATION:Powiatowe Centrum Animacji Społecznej\, Farbiarska 20/24\, Tomaszów Mazowiecki\, Łódzkie\, 97-200\, Polska
ATTACH;FMTTYPE=image/jpeg:https://pcastm.pl/files/2024/07/dzierlatki-miód-24.jpg
END:VEVENT
BEGIN:VEVENT
DTSTART;TZID=Europe/Warsaw:20241018T160000
DTEND;TZID=Europe/Warsaw:20241018T200000
DTSTAMP:20260425T155227
CREATED:20241015T132219Z
LAST-MODIFIED:20241015T132247Z
UID:21454-1729267200-1729281600@pcastm.pl
SUMMARY:Teatr
DESCRIPTION:\n\n\n\n\n\nZajęcia teatralne dla dzieci i młodzieży to połączenie nauki i zabawy\, które doskonalą umiejętności sceniczne oraz uczą wyrażać emocje\, co pozytywnie wpływa na relacje z rówieśnikami. \n\n\n\n\n\n\n
URL:https://pcastm.pl/wydarzenie/teatr-77/
LOCATION:Powiatowe Centrum Animacji Społecznej\, Farbiarska 20/24\, Tomaszów Mazowiecki\, Łódzkie\, 97-200\, Polska
ATTACH;FMTTYPE=image/jpeg:https://pcastm.pl/files/2024/10/DSC09991.jpg
END:VEVENT
END:VCALENDAR