BEGIN:VCALENDAR
VERSION:2.0
PRODID:-//Powiatowe Centrum Animacji Społecznej - ECPv4.9.10//NONSGML v1.0//EN
CALSCALE:GREGORIAN
METHOD:PUBLISH
X-WR-CALNAME:Powiatowe Centrum Animacji Społecznej
X-ORIGINAL-URL:https://pcastm.pl
X-WR-CALDESC:Events for Powiatowe Centrum Animacji Społecznej
BEGIN:VTIMEZONE
TZID:Europe/Warsaw
BEGIN:DAYLIGHT
TZOFFSETFROM:+0100
TZOFFSETTO:+0200
TZNAME:CEST
DTSTART:20240331T010000
END:DAYLIGHT
BEGIN:STANDARD
TZOFFSETFROM:+0200
TZOFFSETTO:+0100
TZNAME:CET
DTSTART:20241027T010000
END:STANDARD
END:VTIMEZONE
BEGIN:VEVENT
DTSTART;TZID=Europe/Warsaw:20241021T080000
DTEND;TZID=Europe/Warsaw:20241025T170000
DTSTAMP:20260425T141156
CREATED:20241015T103936Z
LAST-MODIFIED:20241015T103936Z
UID:21387-1729497600-1729875600@pcastm.pl
SUMMARY:Siłownia
DESCRIPTION:\nJesień to najwyższy czas\, aby zadbać o swoją figurę. Pogoda nie zawsze zachęca do spacerów i aktywności na świeżym powietrzu. Zachęcamy więc do odwiedzenia najtańszej siłowni w mieście. Zacznij już dziś! \n\n
URL:https://pcastm.pl/wydarzenie/silownia-66/
LOCATION:Powiatowe Centrum Animacji Społecznej\, Farbiarska 20/24\, Tomaszów Mazowiecki\, Łódzkie\, 97-200\, Polska
ATTACH;FMTTYPE=image/jpeg:https://pcastm.pl/files/2024/09/siłownia-2.jpg
END:VEVENT
BEGIN:VEVENT
DTSTART;TZID=Europe/Warsaw:20241024T160000
DTEND;TZID=Europe/Warsaw:20241024T180000
DTSTAMP:20260425T141156
CREATED:20241015T111534Z
LAST-MODIFIED:20241015T111534Z
UID:21432-1729785600-1729792800@pcastm.pl
SUMMARY:Wspinaczka
DESCRIPTION:Zajęcia odbywają się na nowej profesjonalnej ściance wspinaczkowej. Zapraszamy ! \nhttps://www.facebook.com/reel/551705307112430 \n
URL:https://pcastm.pl/wydarzenie/wspinaczka-104/
LOCATION:Powiatowe Centrum Animacji Społecznej\, Farbiarska 20/24\, Tomaszów Mazowiecki\, Łódzkie\, 97-200\, Polska
ATTACH;FMTTYPE=image/jpeg:https://pcastm.pl/files/2024/09/wspinaczka-otwarty-1.jpg
END:VEVENT
BEGIN:VEVENT
DTSTART;TZID=Europe/Warsaw:20241024T160000
DTEND;TZID=Europe/Warsaw:20241024T190000
DTSTAMP:20260425T141156
CREATED:20241015T125812Z
LAST-MODIFIED:20241015T125812Z
UID:21436-1729785600-1729796400@pcastm.pl
SUMMARY:Film i animacja
DESCRIPTION:\nZajęcia przeznaczone dla dzieci i młodzieży. To świetna zabawa i mnóstwo wrażeń\, które zawsze towarzyszą pracy na planie. Do dyspozycji uczestników jest profesjonalny sprzęt. Co ciekawego robimy? \n\n
URL:https://pcastm.pl/wydarzenie/film-i-animacja-71/
LOCATION:Powiatowe Centrum Animacji Społecznej\, Farbiarska 20/24\, Tomaszów Mazowiecki\, Łódzkie\, 97-200\, Polska
ATTACH;FMTTYPE=image/jpeg:https://pcastm.pl/files/2024/06/IMG_1512.jpg
END:VEVENT
BEGIN:VEVENT
DTSTART;TZID=Europe/Warsaw:20241024T162000
DTEND;TZID=Europe/Warsaw:20241024T175000
DTSTAMP:20260425T141156
CREATED:20241015T130306Z
LAST-MODIFIED:20241015T130306Z
UID:21440-1729786800-1729792200@pcastm.pl
SUMMARY:Taniec - grupa początkująca
DESCRIPTION:\n\nTo super propozycja zarówno dla tych\, którzy mieli z tańcem do czynienia\, jak i tych którzy chcieliby rozpocząć swoją taneczną przygodę. \n\n\n
URL:https://pcastm.pl/wydarzenie/taniec-grupa-poczatkujaca-6/
LOCATION:Powiatowe Centrum Animacji Społecznej\, Farbiarska 20/24\, Tomaszów Mazowiecki\, Łódzkie\, 97-200\, Polska
ATTACH;FMTTYPE=image/jpeg:https://pcastm.pl/files/2024/09/taniec-czw-1204-1.jpg
END:VEVENT
BEGIN:VEVENT
DTSTART;TZID=Europe/Warsaw:20241024T170000
DTEND;TZID=Europe/Warsaw:20241024T183000
DTSTAMP:20260425T141156
CREATED:20241015T130538Z
LAST-MODIFIED:20241015T130538Z
UID:21444-1729789200-1729794600@pcastm.pl
SUMMARY:Hiszpański dla początkujących
DESCRIPTION:\n\n\nChcesz nauczyć się języka hiszpańskiego? Nic prostszego! Zajęcia są przeznaczone dla dorosłych. Ich koszt to jedynie 50 zł/miesiąc. \n\n\n\n
URL:https://pcastm.pl/wydarzenie/hiszpanski-dla-poczatkujacych-4/
LOCATION:Powiatowe Centrum Animacji Społecznej\, Farbiarska 20/24\, Tomaszów Mazowiecki\, Łódzkie\, 97-200\, Polska
ATTACH;FMTTYPE=image/jpeg:https://pcastm.pl/files/2024/09/spain-gb592fafd5_1280.jpg
END:VEVENT
END:VCALENDAR