BEGIN:VCALENDAR
VERSION:2.0
PRODID:-//Powiatowe Centrum Animacji Społecznej - ECPv4.9.10//NONSGML v1.0//EN
CALSCALE:GREGORIAN
METHOD:PUBLISH
X-WR-CALNAME:Powiatowe Centrum Animacji Społecznej
X-ORIGINAL-URL:https://pcastm.pl
X-WR-CALDESC:Events for Powiatowe Centrum Animacji Społecznej
BEGIN:VTIMEZONE
TZID:Europe/Warsaw
BEGIN:DAYLIGHT
TZOFFSETFROM:+0100
TZOFFSETTO:+0200
TZNAME:CEST
DTSTART:20240331T010000
END:DAYLIGHT
BEGIN:STANDARD
TZOFFSETFROM:+0200
TZOFFSETTO:+0100
TZNAME:CET
DTSTART:20241027T010000
END:STANDARD
END:VTIMEZONE
BEGIN:VEVENT
DTSTART;TZID=Europe/Warsaw:20241028T090000
DTEND;TZID=Europe/Warsaw:20241028T100000
DTSTAMP:20260425T123840
CREATED:20241008T120757Z
LAST-MODIFIED:20241008T120801Z
UID:21355-1730106000-1730109600@pcastm.pl
SUMMARY:"Dziady cz. II - Upiór"
DESCRIPTION:Druga odsłona spektaklu pt. “Dziady\, część II – Upiór”. Autorką scenariusza i reżyserką przedstawienia jest p. Joanna Domalik-Dróżdż\, a w mickiewiczowskie postacie wcielą oczywiście nasi młodsi i starsi aktorzy. \n
URL:https://pcastm.pl/wydarzenie/dziady-cz-ii-upior/
LOCATION:Powiatowe Centrum Animacji Społecznej\, Farbiarska 20/24\, Tomaszów Mazowiecki\, Łódzkie\, 97-200\, Polska
ATTACH;FMTTYPE=image/jpeg:https://pcastm.pl/files/2024/10/upiór.jpg
END:VEVENT
BEGIN:VEVENT
DTSTART;TZID=Europe/Warsaw:20241028T120000
DTEND;TZID=Europe/Warsaw:20241031T200000
DTSTAMP:20260425T123840
CREATED:20241028T081421Z
LAST-MODIFIED:20241028T081421Z
UID:21496-1730116800-1730404800@pcastm.pl
SUMMARY:Siłownia
DESCRIPTION:\n\nJesień to najwyższy czas\, aby zadbać o swoją figurę. Pogoda nie zawsze zachęca do spacerów i aktywności na świeżym powietrzu. Zachęcamy więc do odwiedzenia najtańszej siłowni w mieście. Zacznij już dziś! \n\n\n
URL:https://pcastm.pl/wydarzenie/silownia-67/
LOCATION:Powiatowe Centrum Animacji Społecznej\, Farbiarska 20/24\, Tomaszów Mazowiecki\, Łódzkie\, 97-200\, Polska
ATTACH;FMTTYPE=image/jpeg:https://pcastm.pl/files/2024/09/siłownia-2.jpg
END:VEVENT
BEGIN:VEVENT
DTSTART;TZID=Europe/Warsaw:20241028T120000
DTEND;TZID=Europe/Warsaw:20241028T180000
DTSTAMP:20260425T123840
CREATED:20241028T081702Z
LAST-MODIFIED:20241028T081702Z
UID:21498-1730116800-1730138400@pcastm.pl
SUMMARY:Malarstwo i rysunek
DESCRIPTION:Lubisz rysować\, malować? To propozycja dla Ciebie! Zajęcia przeznaczone są dla dzieci\, młodzieży i dorosłych. Może wziąć w nich udział każdy\, kto chce się sprawdzić\, realizować swoją pasję\, postawić pierwsze kreski lub wybiera się do szkoły artystycznej. Grupy: 12.00-14.00 – dorośli 16.00-1800 – dzieci i młodzież Zobaczcie co robimy na zajęciach: \nwww.facebook.com/pcastomaszowmaz/posts/764564602315313 \n
URL:https://pcastm.pl/wydarzenie/malarstwo-i-rysunek-113/
LOCATION:Powiatowe Centrum Animacji Społecznej\, Farbiarska 20/24\, Tomaszów Mazowiecki\, Łódzkie\, 97-200\, Polska
ATTACH;FMTTYPE=image/jpeg:https://pcastm.pl/files/2024/09/1.jpg
END:VEVENT
BEGIN:VEVENT
DTSTART;TZID=Europe/Warsaw:20241028T120000
DTEND;TZID=Europe/Warsaw:20241028T170000
DTSTAMP:20260425T123840
CREATED:20241028T081808Z
LAST-MODIFIED:20241028T081808Z
UID:21500-1730116800-1730134800@pcastm.pl
SUMMARY:Wokal
DESCRIPTION:
URL:https://pcastm.pl/wydarzenie/wokal-119/
LOCATION:Powiatowe Centrum Animacji Społecznej\, Farbiarska 20/24\, Tomaszów Mazowiecki\, Łódzkie\, 97-200\, Polska
ATTACH;FMTTYPE=image/jpeg:https://pcastm.pl/files/2024/10/462210950_1008182591286845_6050542467587798986_n.jpg
END:VEVENT
BEGIN:VEVENT
DTSTART;TZID=Europe/Warsaw:20241028T160000
DTEND;TZID=Europe/Warsaw:20241028T164500
DTSTAMP:20260425T123840
CREATED:20241028T082011Z
LAST-MODIFIED:20241028T082011Z
UID:21502-1730131200-1730133900@pcastm.pl
SUMMARY:Akademia Małolata z tańcem
DESCRIPTION:\nZajęcia rytmiczno-muzyczne przeznaczone dla dzieci od 4 roku życia\, na których maluchy uczą się też podstaw różnych tańców ludowych. \n\n
URL:https://pcastm.pl/wydarzenie/akademia-malolata-z-tancem-46/
LOCATION:Powiatowe Centrum Animacji Społecznej\, Farbiarska 20/24\, Tomaszów Mazowiecki\, Łódzkie\, 97-200\, Polska
ATTACH;FMTTYPE=image/jpeg:https://pcastm.pl/files/2024/09/małolata-taniec.jpg
END:VEVENT
BEGIN:VEVENT
DTSTART;TZID=Europe/Warsaw:20241028T160000
DTEND;TZID=Europe/Warsaw:20241028T183000
DTSTAMP:20260425T123840
CREATED:20241028T082208Z
LAST-MODIFIED:20241028T082208Z
UID:21504-1730131200-1730140200@pcastm.pl
SUMMARY:Ceramika
DESCRIPTION:Lubisz prace manualne? Zajęcia z gliną będą dla Ciebie! Wyciszysz się\, nauczysz cierpliwości i stworzysz coś wyjątkowego. Spotkania mają charakter zabawy. To świetna propozycja zarówno dla dzieci\, młodzieży i dorosłych. I grupa – 16.00-17.00 II grupa 17.30-18.30 Tak spędzamy czas na zajęciach. \nwww.facebook.com/pcastomaszowmaz/posts/681995613905546 \n
URL:https://pcastm.pl/wydarzenie/ceramika-90/
LOCATION:Powiatowe Centrum Animacji Społecznej\, Farbiarska 20/24\, Tomaszów Mazowiecki\, Łódzkie\, 97-200\, Polska
ATTACH;FMTTYPE=image/jpeg:https://pcastm.pl/files/2024/09/ceramika-2905.jpg
END:VEVENT
BEGIN:VEVENT
DTSTART;TZID=Europe/Warsaw:20241028T162000
DTEND;TZID=Europe/Warsaw:20241028T175000
DTSTAMP:20260425T123840
CREATED:20241028T082329Z
LAST-MODIFIED:20241028T085115Z
UID:21505-1730132400-1730137800@pcastm.pl
SUMMARY:Taniec - grupa zaawansowana
DESCRIPTION:
URL:https://pcastm.pl/wydarzenie/taniec-grupa-zaawansowana-19/
LOCATION:Powiatowe Centrum Animacji Społecznej\, Farbiarska 20/24\, Tomaszów Mazowiecki\, Łódzkie\, 97-200\, Polska
ATTACH;FMTTYPE=image/jpeg:https://pcastm.pl/files/2024/07/taniec-zaawans-1.jpg
END:VEVENT
BEGIN:VEVENT
DTSTART;TZID=Europe/Warsaw:20241028T170000
DTEND;TZID=Europe/Warsaw:20241028T183000
DTSTAMP:20260425T123840
CREATED:20241028T083830Z
LAST-MODIFIED:20241028T083830Z
UID:21508-1730134800-1730140200@pcastm.pl
SUMMARY:Hiszpański
DESCRIPTION:\nChcesz nauczyć się języka hiszpańskiego? Nic prostszego! Zajęcia są przeznaczone dla dorosłych. Ich koszt to jedynie 50 zł/miesiąc. \n\n
URL:https://pcastm.pl/wydarzenie/hiszpanski-79/
LOCATION:Powiatowe Centrum Animacji Społecznej\, Farbiarska 20/24\, Tomaszów Mazowiecki\, Łódzkie\, 97-200\, Polska
ATTACH;FMTTYPE=image/jpeg:https://pcastm.pl/files/2024/09/spain-gb592fafd5_1280.jpg
END:VEVENT
END:VCALENDAR