BEGIN:VCALENDAR
VERSION:2.0
PRODID:-//Powiatowe Centrum Animacji Społecznej - ECPv4.9.10//NONSGML v1.0//EN
CALSCALE:GREGORIAN
METHOD:PUBLISH
X-WR-CALNAME:Powiatowe Centrum Animacji Społecznej
X-ORIGINAL-URL:https://pcastm.pl
X-WR-CALDESC:Events for Powiatowe Centrum Animacji Społecznej
BEGIN:VTIMEZONE
TZID:Europe/Warsaw
BEGIN:DAYLIGHT
TZOFFSETFROM:+0100
TZOFFSETTO:+0200
TZNAME:CEST
DTSTART:20240331T010000
END:DAYLIGHT
BEGIN:STANDARD
TZOFFSETFROM:+0200
TZOFFSETTO:+0100
TZNAME:CET
DTSTART:20241027T010000
END:STANDARD
END:VTIMEZONE
BEGIN:VEVENT
DTSTART;TZID=Europe/Warsaw:20241112T120000
DTEND;TZID=Europe/Warsaw:20241115T200000
DTSTAMP:20260425T123839
CREATED:20241112T080006Z
LAST-MODIFIED:20241112T080006Z
UID:21840-1731412800-1731700800@pcastm.pl
SUMMARY:Siłownia
DESCRIPTION:Jesień to najwyższy czas\, aby zadbać o swoją figurę. Pogoda nie zawsze zachęca do spacerów i aktywności na świeżym powietrzu. Zachęcamy więc do odwiedzenia najtańszej siłowni w mieście. Zacznij już dziś! \n
URL:https://pcastm.pl/wydarzenie/silownia-69/
LOCATION:Powiatowe Centrum Animacji Społecznej\, Farbiarska 20/24\, Tomaszów Mazowiecki\, Łódzkie\, 97-200\, Polska
ATTACH;FMTTYPE=image/jpeg:https://pcastm.pl/files/2024/11/siłownia-1.jpg
END:VEVENT
BEGIN:VEVENT
DTSTART;TZID=Europe/Warsaw:20241114T160000
DTEND;TZID=Europe/Warsaw:20241114T180000
DTSTAMP:20260425T123839
CREATED:20241112T081022Z
LAST-MODIFIED:20241112T081022Z
UID:21857-1731600000-1731607200@pcastm.pl
SUMMARY:Wspinaczka
DESCRIPTION:Zajęcia odbywają się na nowej profesjonalnej ściance wspinaczkowej. Zapraszamy ! https://www.facebook.com/reel/551705307112430 \n
URL:https://pcastm.pl/wydarzenie/wspinaczka-110/
LOCATION:Powiatowe Centrum Animacji Społecznej\, Farbiarska 20/24\, Tomaszów Mazowiecki\, Łódzkie\, 97-200\, Polska
ATTACH;FMTTYPE=image/jpeg:https://pcastm.pl/files/2024/11/wspinaczka-otwarty.jpg
END:VEVENT
BEGIN:VEVENT
DTSTART;TZID=Europe/Warsaw:20241114T160000
DTEND;TZID=Europe/Warsaw:20241114T190000
DTSTAMP:20260425T123839
CREATED:20241112T081849Z
LAST-MODIFIED:20241112T081858Z
UID:21859-1731600000-1731610800@pcastm.pl
SUMMARY:Film i animacja
DESCRIPTION:Zajęcia przeznaczone dla dzieci i młodzieży. To świetna zabawa i mnóstwo wrażeń\, które zawsze towarzyszą pracy na planie. Do dyspozycji uczestników jest profesjonalny sprzęt. Co ciekawego robimy? \n
URL:https://pcastm.pl/wydarzenie/film-i-animacja-80/
LOCATION:Powiatowe Centrum Animacji Społecznej\, Farbiarska 20/24\, Tomaszów Mazowiecki\, Łódzkie\, 97-200\, Polska
ATTACH;FMTTYPE=image/jpeg:https://pcastm.pl/files/2024/11/animacja-foto-zdj.jpg
END:VEVENT
BEGIN:VEVENT
DTSTART;TZID=Europe/Warsaw:20241114T162000
DTEND;TZID=Europe/Warsaw:20241114T175000
DTSTAMP:20260425T123839
CREATED:20241112T082901Z
LAST-MODIFIED:20241112T082901Z
UID:21867-1731601200-1731606600@pcastm.pl
SUMMARY:Taniec – grupa początkująca
DESCRIPTION:
URL:https://pcastm.pl/wydarzenie/taniec-grupa-poczatkujaca-9/
LOCATION:Powiatowe Centrum Animacji Społecznej\, Farbiarska 20/24\, Tomaszów Mazowiecki\, Łódzkie\, 97-200\, Polska
ATTACH;FMTTYPE=image/jpeg:https://pcastm.pl/files/2024/09/taniec-czw-1204.jpg
END:VEVENT
BEGIN:VEVENT
DTSTART;TZID=Europe/Warsaw:20241114T170000
DTEND;TZID=Europe/Warsaw:20241114T183000
DTSTAMP:20260425T123839
CREATED:20241112T083006Z
LAST-MODIFIED:20241112T083006Z
UID:21869-1731603600-1731609000@pcastm.pl
SUMMARY:Hiszpański
DESCRIPTION:\nChcesz nauczyć się języka hiszpańskiego? Nic prostszego! Zajęcia są przeznaczone dla dorosłych. Ich koszt to jedynie 50 zł/miesiąc. \n\n
URL:https://pcastm.pl/wydarzenie/hiszpanski-82/
LOCATION:Powiatowe Centrum Animacji Społecznej\, Farbiarska 20/24\, Tomaszów Mazowiecki\, Łódzkie\, 97-200\, Polska
ATTACH;FMTTYPE=image/png:https://pcastm.pl/files/2024/11/flag-g97b51ad64_1280.png
END:VEVENT
END:VCALENDAR