BEGIN:VCALENDAR
VERSION:2.0
PRODID:-//Powiatowe Centrum Animacji Społecznej - ECPv4.9.10//NONSGML v1.0//EN
CALSCALE:GREGORIAN
METHOD:PUBLISH
X-WR-CALNAME:Powiatowe Centrum Animacji Społecznej
X-ORIGINAL-URL:https://pcastm.pl
X-WR-CALDESC:Events for Powiatowe Centrum Animacji Społecznej
BEGIN:VTIMEZONE
TZID:Europe/Warsaw
BEGIN:DAYLIGHT
TZOFFSETFROM:+0100
TZOFFSETTO:+0200
TZNAME:CEST
DTSTART:20240331T010000
END:DAYLIGHT
BEGIN:STANDARD
TZOFFSETFROM:+0200
TZOFFSETTO:+0100
TZNAME:CET
DTSTART:20241027T010000
END:STANDARD
END:VTIMEZONE
BEGIN:VEVENT
DTSTART;TZID=Europe/Warsaw:20241202T120000
DTEND;TZID=Europe/Warsaw:20241206T200000
DTSTAMP:20260425T105824
CREATED:20241129T085512Z
LAST-MODIFIED:20241129T085512Z
UID:22175-1733140800-1733515200@pcastm.pl
SUMMARY:Siłownia
DESCRIPTION:Jesień to najwyższy czas\, aby zadbać o swoją figurę. Pogoda nie zawsze zachęca do spacerów i aktywności na świeżym powietrzu. Zachęcamy więc do odwiedzenia najtańszej siłowni w mieście. Zacznij już dziś! \n
URL:https://pcastm.pl/wydarzenie/silownia-72/
LOCATION:Powiatowe Centrum Animacji Społecznej\, Farbiarska 20/24\, Tomaszów Mazowiecki\, Łódzkie\, 97-200\, Polska
ATTACH;FMTTYPE=image/jpeg:https://pcastm.pl/files/2024/03/siłownia-2.jpg
END:VEVENT
BEGIN:VEVENT
DTSTART;TZID=Europe/Warsaw:20241206T120000
DTEND;TZID=Europe/Warsaw:20241206T200000
DTSTAMP:20260425T105824
CREATED:20241203T083436Z
LAST-MODIFIED:20241203T083436Z
UID:22218-1733486400-1733515200@pcastm.pl
SUMMARY:Dzierlatki
DESCRIPTION:Spotkanie sekcji regionalno-turystycznej. Dołączyć może każdy\, kto chciałby poznać nowe osoby. lubi prace manualne\, wycieczki tematyczne czy występy na scenie. \n
URL:https://pcastm.pl/wydarzenie/dzierlatki-57/
LOCATION:Powiatowe Centrum Animacji Społecznej\, Farbiarska 20/24\, Tomaszów Mazowiecki\, Łódzkie\, 97-200\, Polska
ATTACH;FMTTYPE=image/jpeg:https://pcastm.pl/files/2024/11/LUK-3.jpg
END:VEVENT
BEGIN:VEVENT
DTSTART;TZID=Europe/Warsaw:20241206T160000
DTEND;TZID=Europe/Warsaw:20241206T200000
DTSTAMP:20260425T105824
CREATED:20241203T084606Z
LAST-MODIFIED:20241203T084606Z
UID:22222-1733500800-1733515200@pcastm.pl
SUMMARY:Teatr
DESCRIPTION:Zajęcia teatralne dla dzieci i młodzieży to połączenie nauki i zabawy\, które doskonalą umiejętności sceniczne oraz uczą wyrażać emocje\, co pozytywnie wpływa na relacje z rówieśnikami. \n
URL:https://pcastm.pl/wydarzenie/teatr-88/
LOCATION:Powiatowe Centrum Animacji Społecznej\, Farbiarska 20/24\, Tomaszów Mazowiecki\, Łódzkie\, 97-200\, Polska
ATTACH;FMTTYPE=image/jpeg:https://pcastm.pl/files/2024/10/IMG_8215.jpg
END:VEVENT
BEGIN:VEVENT
DTSTART;TZID=Europe/Warsaw:20241206T160000
DTEND;TZID=Europe/Warsaw:20241206T180000
DTSTAMP:20260425T105824
CREATED:20241203T084827Z
LAST-MODIFIED:20241203T084827Z
UID:22224-1733500800-1733508000@pcastm.pl
SUMMARY:Fotografia
DESCRIPTION:Chcesz poznać tajniki fotografii? Lubisz robić zdjęcia? Ta propozycja jest dla Ciebie! Zobacz co ciekawego robimy: https://www.facebook.com/pcastomaszowmaz/posts/1025777576194013 \n
URL:https://pcastm.pl/wydarzenie/fotografia-63/
LOCATION:Powiatowe Centrum Animacji Społecznej\, Farbiarska 20/24\, Tomaszów Mazowiecki\, Łódzkie\, 97-200\, Polska
ATTACH;FMTTYPE=image/jpeg:https://pcastm.pl/files/2024/07/foto-zdj-aparat.jpg
END:VEVENT
END:VCALENDAR