BEGIN:VCALENDAR
VERSION:2.0
PRODID:-//Powiatowe Centrum Animacji Społecznej - ECPv4.9.10//NONSGML v1.0//EN
CALSCALE:GREGORIAN
METHOD:PUBLISH
X-WR-CALNAME:Powiatowe Centrum Animacji Społecznej
X-ORIGINAL-URL:https://pcastm.pl
X-WR-CALDESC:Events for Powiatowe Centrum Animacji Społecznej
BEGIN:VTIMEZONE
TZID:Europe/Warsaw
BEGIN:DAYLIGHT
TZOFFSETFROM:+0100
TZOFFSETTO:+0200
TZNAME:CEST
DTSTART:20240331T010000
END:DAYLIGHT
BEGIN:STANDARD
TZOFFSETFROM:+0200
TZOFFSETTO:+0100
TZNAME:CET
DTSTART:20241027T010000
END:STANDARD
END:VTIMEZONE
BEGIN:VEVENT
DTSTART;TZID=Europe/Warsaw:20241209T120000
DTEND;TZID=Europe/Warsaw:20241213T200000
DTSTAMP:20260425T105921
CREATED:20241210T071332Z
LAST-MODIFIED:20241210T071332Z
UID:22231-1733745600-1734120000@pcastm.pl
SUMMARY:Siłownia
DESCRIPTION:\nJesień to najwyższy czas\, aby zadbać o swoją figurę. Pogoda nie zawsze zachęca do spacerów i aktywności na świeżym powietrzu. Zachęcamy więc do odwiedzenia najtańszej siłowni w mieście. Zacznij już dziś! \n\n
URL:https://pcastm.pl/wydarzenie/silownia-73/
LOCATION:Powiatowe Centrum Animacji Społecznej\, Farbiarska 20/24\, Tomaszów Mazowiecki\, Łódzkie\, 97-200\, Polska
ATTACH;FMTTYPE=image/jpeg:https://pcastm.pl/files/2024/11/siłownia-1.jpg
END:VEVENT
BEGIN:VEVENT
DTSTART;TZID=Europe/Warsaw:20241209T120000
DTEND;TZID=Europe/Warsaw:20241209T180000
DTSTAMP:20260425T105921
CREATED:20241210T071459Z
LAST-MODIFIED:20241210T071459Z
UID:22233-1733745600-1733767200@pcastm.pl
SUMMARY:Malarstwo i rysunek
DESCRIPTION:\nLubisz rysować\, malować? To propozycja dla Ciebie! Zajęcia przeznaczone są dla dzieci\, młodzieży i dorosłych. Może wziąć w nich udział każdy\, kto chce się sprawdzić\, realizować swoją pasję\, postawić pierwsze kreski lub wybiera się do szkoły artystycznej. Grupy: 12.00-14.00 – dorośli 16.00-1800 – dzieci i młodzież Zobaczcie co robimy na zajęciach: www.facebook.com/pcastomaszowmaz/posts/764564602315313 \n\n
URL:https://pcastm.pl/wydarzenie/malarstwo-i-rysunek-118/
LOCATION:Powiatowe Centrum Animacji Społecznej\, Farbiarska 20/24\, Tomaszów Mazowiecki\, Łódzkie\, 97-200\, Polska
ATTACH;FMTTYPE=image/jpeg:https://pcastm.pl/files/2024/11/malarstwo-06.jpg
END:VEVENT
BEGIN:VEVENT
DTSTART;TZID=Europe/Warsaw:20241209T120000
DTEND;TZID=Europe/Warsaw:20241209T170000
DTSTAMP:20260425T105921
CREATED:20241210T071603Z
LAST-MODIFIED:20241210T071603Z
UID:22235-1733745600-1733763600@pcastm.pl
SUMMARY:Wokal
DESCRIPTION:\nMarzą Ci się występy na scenie? Lubisz śpiewać i chcesz podszlifować swój warsztat?  Zajęcia przeznaczone są dla dzieci\, młodzieży i dorosłych. Uczestnicy sekcji prezentują placówkę w różnego rodzaju konkursach\, odnosząc duże sukcesy. \n\n
URL:https://pcastm.pl/wydarzenie/wokal-134/
LOCATION:Powiatowe Centrum Animacji Społecznej\, Farbiarska 20/24\, Tomaszów Mazowiecki\, Łódzkie\, 97-200\, Polska
ATTACH;FMTTYPE=image/jpeg:https://pcastm.pl/files/2024/11/LUK-57.jpg
END:VEVENT
BEGIN:VEVENT
DTSTART;TZID=Europe/Warsaw:20241209T140000
DTEND;TZID=Europe/Warsaw:20241209T170000
DTSTAMP:20260425T105921
CREATED:20241210T080138Z
LAST-MODIFIED:20241210T080138Z
UID:22251-1733752800-1733763600@pcastm.pl
SUMMARY:Gitara
DESCRIPTION:Chcesz doskonalić swoje umiejętności albo rozpocząć swoją przygodę z gitarą? Zapraszamy! \n
URL:https://pcastm.pl/wydarzenie/gitara-129/
LOCATION:Powiatowe Centrum Animacji Społecznej\, Farbiarska 20/24\, Tomaszów Mazowiecki\, Łódzkie\, 97-200\, Polska
ATTACH;FMTTYPE=image/jpeg:https://pcastm.pl/files/2024/09/IMG_5025.jpg
END:VEVENT
BEGIN:VEVENT
DTSTART;TZID=Europe/Warsaw:20241209T160000
DTEND;TZID=Europe/Warsaw:20241209T164500
DTSTAMP:20260425T105921
CREATED:20241210T071725Z
LAST-MODIFIED:20241210T071725Z
UID:22237-1733760000-1733762700@pcastm.pl
SUMMARY:Akademia Małolata z tańcem
DESCRIPTION:Zajęcia rytmiczno-muzyczne przeznaczone dla dzieci od 4 roku życia\, na których maluchy uczą się też podstaw różnych tańców ludowych. \n
URL:https://pcastm.pl/wydarzenie/akademia-malolata-z-tancem-51/
LOCATION:Powiatowe Centrum Animacji Społecznej\, Farbiarska 20/24\, Tomaszów Mazowiecki\, Łódzkie\, 97-200\, Polska
ATTACH;FMTTYPE=image/jpeg:https://pcastm.pl/files/2024/11/akademia-malolata-taniec.jpg
END:VEVENT
BEGIN:VEVENT
DTSTART;TZID=Europe/Warsaw:20241209T160000
DTEND;TZID=Europe/Warsaw:20241209T183000
DTSTAMP:20260425T105921
CREATED:20241210T071932Z
LAST-MODIFIED:20241210T071932Z
UID:22239-1733760000-1733769000@pcastm.pl
SUMMARY:Ceramika
DESCRIPTION:Lubisz prace manualne? Zajęcia z gliną będą dla Ciebie! Wyciszysz się\, nauczysz cierpliwości i stworzysz coś wyjątkowego. Spotkania mają charakter zabawy. To świetna propozycja zarówno dla dzieci\, młodzieży i dorosłych. I grupa – 16.00-17.00 II grupa 17.30-18.30 Tak spędzamy czas na zajęciach. www.facebook.com/pcastomaszowmaz/posts/681995613905546 \n
URL:https://pcastm.pl/wydarzenie/ceramika-94/
LOCATION:Powiatowe Centrum Animacji Społecznej\, Farbiarska 20/24\, Tomaszów Mazowiecki\, Łódzkie\, 97-200\, Polska
ATTACH;FMTTYPE=image/jpeg:https://pcastm.pl/files/2024/09/ceramika-2905.jpg
END:VEVENT
BEGIN:VEVENT
DTSTART;TZID=Europe/Warsaw:20241209T162000
DTEND;TZID=Europe/Warsaw:20241209T175000
DTSTAMP:20260425T105921
CREATED:20241210T072033Z
LAST-MODIFIED:20241210T072033Z
UID:22243-1733761200-1733766600@pcastm.pl
SUMMARY:Taniec - grupa zaawansowana
DESCRIPTION:Na zajęciach uczestnicy poznają i uczą się różnego rodzaju układów\, które są potem prezentowane podczas imprez\, organizowanych przez placówkę\, jak Turniej Kół Gospodyń Wiejskich i Miejskich. \n
URL:https://pcastm.pl/wydarzenie/taniec-grupa-zaawansowana-24/
LOCATION:Powiatowe Centrum Animacji Społecznej\, Farbiarska 20/24\, Tomaszów Mazowiecki\, Łódzkie\, 97-200\, Polska
ATTACH;FMTTYPE=image/jpeg:https://pcastm.pl/files/2024/11/IMG_0125.jpg
END:VEVENT
BEGIN:VEVENT
DTSTART;TZID=Europe/Warsaw:20241209T170000
DTEND;TZID=Europe/Warsaw:20241209T183000
DTSTAMP:20260425T105921
CREATED:20241210T072152Z
LAST-MODIFIED:20241210T072152Z
UID:22245-1733763600-1733769000@pcastm.pl
SUMMARY:Hiszpański
DESCRIPTION:Chcesz nauczyć się języka hiszpańskiego? Nic prostszego! Zajęcia są przeznaczone dla dorosłych. Ich koszt to jedynie 50 zł/miesiąc. \n
URL:https://pcastm.pl/wydarzenie/hiszpanski-89/
LOCATION:Powiatowe Centrum Animacji Społecznej\, Farbiarska 20/24\, Tomaszów Mazowiecki\, Łódzkie\, 97-200\, Polska
ATTACH;FMTTYPE=image/png:https://pcastm.pl/files/2024/11/flag-g97b51ad64_1280.png
END:VEVENT
END:VCALENDAR