BEGIN:VCALENDAR
VERSION:2.0
PRODID:-//Powiatowe Centrum Animacji Społecznej - ECPv4.9.10//NONSGML v1.0//EN
CALSCALE:GREGORIAN
METHOD:PUBLISH
X-WR-CALNAME:Powiatowe Centrum Animacji Społecznej
X-ORIGINAL-URL:https://pcastm.pl
X-WR-CALDESC:Events for Powiatowe Centrum Animacji Społecznej
BEGIN:VTIMEZONE
TZID:Europe/Warsaw
BEGIN:DAYLIGHT
TZOFFSETFROM:+0100
TZOFFSETTO:+0200
TZNAME:CEST
DTSTART:20240331T010000
END:DAYLIGHT
BEGIN:STANDARD
TZOFFSETFROM:+0200
TZOFFSETTO:+0100
TZNAME:CET
DTSTART:20241027T010000
END:STANDARD
END:VTIMEZONE
BEGIN:VEVENT
DTSTART;TZID=Europe/Warsaw:20241209T120000
DTEND;TZID=Europe/Warsaw:20241213T200000
DTSTAMP:20260425T105854
CREATED:20241210T071332Z
LAST-MODIFIED:20241210T071332Z
UID:22231-1733745600-1734120000@pcastm.pl
SUMMARY:Siłownia
DESCRIPTION:\nJesień to najwyższy czas\, aby zadbać o swoją figurę. Pogoda nie zawsze zachęca do spacerów i aktywności na świeżym powietrzu. Zachęcamy więc do odwiedzenia najtańszej siłowni w mieście. Zacznij już dziś! \n\n
URL:https://pcastm.pl/wydarzenie/silownia-73/
LOCATION:Powiatowe Centrum Animacji Społecznej\, Farbiarska 20/24\, Tomaszów Mazowiecki\, Łódzkie\, 97-200\, Polska
ATTACH;FMTTYPE=image/jpeg:https://pcastm.pl/files/2024/11/siłownia-1.jpg
END:VEVENT
BEGIN:VEVENT
DTSTART;TZID=Europe/Warsaw:20241212T130000
DTEND;TZID=Europe/Warsaw:20241212T190000
DTSTAMP:20260425T105854
CREATED:20241210T080622Z
LAST-MODIFIED:20241210T080622Z
UID:22259-1734008400-1734030000@pcastm.pl
SUMMARY:Gitara
DESCRIPTION:Chcesz doskonalić swoje umiejętności albo rozpocząć swoją przygodę z gitarą? Zapraszamy! \n
URL:https://pcastm.pl/wydarzenie/gitara-132/
LOCATION:Powiatowe Centrum Animacji Społecznej\, Farbiarska 20/24\, Tomaszów Mazowiecki\, Łódzkie\, 97-200\, Polska
ATTACH;FMTTYPE=image/jpeg:https://pcastm.pl/files/2024/12/gitara.jpg
END:VEVENT
BEGIN:VEVENT
DTSTART;TZID=Europe/Warsaw:20241212T160000
DTEND;TZID=Europe/Warsaw:20241212T180000
DTSTAMP:20260425T105854
CREATED:20241210T080915Z
LAST-MODIFIED:20241210T080915Z
UID:22265-1734019200-1734026400@pcastm.pl
SUMMARY:Wspinaczka - przeniesiona na 9.12
DESCRIPTION:
URL:https://pcastm.pl/wydarzenie/wspinaczka-przeniesiona-na-9-12/
LOCATION:Powiatowe Centrum Animacji Społecznej\, Farbiarska 20/24\, Tomaszów Mazowiecki\, Łódzkie\, 97-200\, Polska
ATTACH;FMTTYPE=image/png:https://pcastm.pl/files/2024/12/UWAGA-pomarańczowe.png
END:VEVENT
BEGIN:VEVENT
DTSTART;TZID=Europe/Warsaw:20241212T160000
DTEND;TZID=Europe/Warsaw:20241212T190000
DTSTAMP:20260425T105854
CREATED:20241210T081700Z
LAST-MODIFIED:20241210T081700Z
UID:22282-1734019200-1734030000@pcastm.pl
SUMMARY:Film i animacja
DESCRIPTION:Zajęcia przeznaczone dla dzieci i młodzieży. To świetna zabawa i mnóstwo wrażeń\, które zawsze towarzyszą pracy na planie. Do dyspozycji uczestników jest profesjonalny sprzęt. Co ciekawego robimy? Przyjdź i się przekonaj! \n
URL:https://pcastm.pl/wydarzenie/film-i-animacja-89/
LOCATION:Powiatowe Centrum Animacji Społecznej\, Farbiarska 20/24\, Tomaszów Mazowiecki\, Łódzkie\, 97-200\, Polska
ATTACH;FMTTYPE=image/jpeg:https://pcastm.pl/files/2024/11/DSC_0288.jpg
END:VEVENT
BEGIN:VEVENT
DTSTART;TZID=Europe/Warsaw:20241212T162000
DTEND;TZID=Europe/Warsaw:20241212T175000
DTSTAMP:20260425T105854
CREATED:20241210T081906Z
LAST-MODIFIED:20241210T081906Z
UID:22284-1734020400-1734025800@pcastm.pl
SUMMARY:Taniec - grupa początkująca
DESCRIPTION:Jeżeli lubisz tańczyć\, chciałabyś poznać nowe style i spędzić czas w miłym gronie\, ta propozycja jest dla Ciebie! \n
URL:https://pcastm.pl/wydarzenie/taniec-grupa-poczatkujaca-13/
LOCATION:Powiatowe Centrum Animacji Społecznej\, Farbiarska 20/24\, Tomaszów Mazowiecki\, Łódzkie\, 97-200\, Polska
ATTACH;FMTTYPE=image/jpeg:https://pcastm.pl/files/2024/09/taniec-czw-1204-1.jpg
END:VEVENT
BEGIN:VEVENT
DTSTART;TZID=Europe/Warsaw:20241212T170000
DTEND;TZID=Europe/Warsaw:20241212T183000
DTSTAMP:20260425T105854
CREATED:20241210T082040Z
LAST-MODIFIED:20241210T082040Z
UID:22286-1734022800-1734028200@pcastm.pl
SUMMARY:Hiszpański
DESCRIPTION:Chcesz nauczyć się języka hiszpańskiego? Nic prostszego! Zajęcia są przeznaczone dla dorosłych. Ich koszt to jedynie 50 zł/miesiąc. \n
URL:https://pcastm.pl/wydarzenie/hiszpanski-90/
LOCATION:Powiatowe Centrum Animacji Społecznej\, Farbiarska 20/24\, Tomaszów Mazowiecki\, Łódzkie\, 97-200\, Polska
ATTACH;FMTTYPE=image/png:https://pcastm.pl/files/2024/11/flag-g97b51ad64_1280.png
END:VEVENT
END:VCALENDAR