BEGIN:VCALENDAR
VERSION:2.0
PRODID:-//Powiatowe Centrum Animacji Społecznej - ECPv4.9.10//NONSGML v1.0//EN
CALSCALE:GREGORIAN
METHOD:PUBLISH
X-WR-CALNAME:Powiatowe Centrum Animacji Społecznej
X-ORIGINAL-URL:https://pcastm.pl
X-WR-CALDESC:Events for Powiatowe Centrum Animacji Społecznej
BEGIN:VTIMEZONE
TZID:Europe/Warsaw
BEGIN:DAYLIGHT
TZOFFSETFROM:+0100
TZOFFSETTO:+0200
TZNAME:CEST
DTSTART:20240331T010000
END:DAYLIGHT
BEGIN:STANDARD
TZOFFSETFROM:+0200
TZOFFSETTO:+0100
TZNAME:CET
DTSTART:20241027T010000
END:STANDARD
END:VTIMEZONE
BEGIN:VEVENT
DTSTART;TZID=Europe/Warsaw:20241216T120000
DTEND;TZID=Europe/Warsaw:20241220T200000
DTSTAMP:20260425T105855
CREATED:20241216T074204Z
LAST-MODIFIED:20241216T074204Z
UID:22337-1734350400-1734724800@pcastm.pl
SUMMARY:Siłownia
DESCRIPTION:\n\nJesień to najwyższy czas\, aby zadbać o swoją figurę. Pogoda nie zawsze zachęca do spacerów i aktywności na świeżym powietrzu. Zachęcamy więc do odwiedzenia najtańszej siłowni w mieście. Zacznij już dziś! \n\n\n
URL:https://pcastm.pl/wydarzenie/silownia-74/
LOCATION:Powiatowe Centrum Animacji Społecznej\, Farbiarska 20/24\, Tomaszów Mazowiecki\, Łódzkie\, 97-200\, Polska
ATTACH;FMTTYPE=image/jpeg:https://pcastm.pl/files/2024/11/siłownia-1.jpg
END:VEVENT
BEGIN:VEVENT
DTSTART;TZID=Europe/Warsaw:20241216T120000
DTEND;TZID=Europe/Warsaw:20241216T180000
DTSTAMP:20260425T105855
CREATED:20241216T074324Z
LAST-MODIFIED:20241216T074324Z
UID:22339-1734350400-1734372000@pcastm.pl
SUMMARY:Malarstwo i rysunek
DESCRIPTION:\n\nJesień to najwyższy czas\, aby zadbać o swoją figurę. Pogoda nie zawsze zachęca do spacerów i aktywności na świeżym powietrzu. Zachęcamy więc do odwiedzenia najtańszej siłowni w mieście. Zacznij już dziś! \n\n\n
URL:https://pcastm.pl/wydarzenie/malarstwo-i-rysunek-119/
LOCATION:Powiatowe Centrum Animacji Społecznej\, Farbiarska 20/24\, Tomaszów Mazowiecki\, Łódzkie\, 97-200\, Polska
ATTACH;FMTTYPE=image/jpeg:https://pcastm.pl/files/2024/11/malarstwo-06.jpg
END:VEVENT
BEGIN:VEVENT
DTSTART;TZID=Europe/Warsaw:20241216T120000
DTEND;TZID=Europe/Warsaw:20241216T170000
DTSTAMP:20260425T105855
CREATED:20241216T074457Z
LAST-MODIFIED:20241216T074457Z
UID:22342-1734350400-1734368400@pcastm.pl
SUMMARY:Wokal
DESCRIPTION:\n\nMarzą Ci się występy na scenie? Lubisz śpiewać i chcesz podszlifować swój warsztat?  Zajęcia przeznaczone są dla dzieci\, młodzieży i dorosłych. Uczestnicy sekcji prezentują placówkę w różnego rodzaju konkursach\, odnosząc duże sukcesy. \n\n\n
URL:https://pcastm.pl/wydarzenie/wokal-137/
LOCATION:Powiatowe Centrum Animacji Społecznej\, Farbiarska 20/24\, Tomaszów Mazowiecki\, Łódzkie\, 97-200\, Polska
ATTACH;FMTTYPE=image/jpeg:https://pcastm.pl/files/2024/10/464687516_1025065809598523_1057946900485210493_n.jpg
END:VEVENT
BEGIN:VEVENT
DTSTART;TZID=Europe/Warsaw:20241216T140000
DTEND;TZID=Europe/Warsaw:20241216T170000
DTSTAMP:20260425T105855
CREATED:20241216T074909Z
LAST-MODIFIED:20241216T074909Z
UID:22348-1734357600-1734368400@pcastm.pl
SUMMARY:Gitara
DESCRIPTION:Chcesz doskonalić swoje umiejętności albo rozpocząć swoją przygodę z gitarą? Zapraszamy! \n
URL:https://pcastm.pl/wydarzenie/gitara-133/
LOCATION:Powiatowe Centrum Animacji Społecznej\, Farbiarska 20/24\, Tomaszów Mazowiecki\, Łódzkie\, 97-200\, Polska
ATTACH;FMTTYPE=image/jpeg:https://pcastm.pl/files/2024/12/gitara.jpg
END:VEVENT
BEGIN:VEVENT
DTSTART;TZID=Europe/Warsaw:20241216T160000
DTEND;TZID=Europe/Warsaw:20241216T164500
DTSTAMP:20260425T105855
CREATED:20241216T075118Z
LAST-MODIFIED:20241216T075557Z
UID:22353-1734364800-1734367500@pcastm.pl
SUMMARY:Akademia Małolata z tańcem
DESCRIPTION:\nZajęcia rytmiczno-muzyczne przeznaczone dla dzieci od 4 roku życia\, na których maluchy uczą się też podstaw różnych tańców ludowych. \n\n
URL:https://pcastm.pl/wydarzenie/22353/
LOCATION:Powiatowe Centrum Animacji Społecznej\, Farbiarska 20/24\, Tomaszów Mazowiecki\, Łódzkie\, 97-200\, Polska
ATTACH;FMTTYPE=image/jpeg:https://pcastm.pl/files/2024/09/małolata-taniec.jpg
END:VEVENT
BEGIN:VEVENT
DTSTART;TZID=Europe/Warsaw:20241216T160000
DTEND;TZID=Europe/Warsaw:20241216T183000
DTSTAMP:20260425T105855
CREATED:20241216T080107Z
LAST-MODIFIED:20241216T080107Z
UID:22361-1734364800-1734373800@pcastm.pl
SUMMARY:Ceramika
DESCRIPTION:\nLubisz prace manualne? Zajęcia z gliną będą dla Ciebie! Wyciszysz się\, nauczysz cierpliwości i stworzysz coś wyjątkowego. Spotkania mają charakter zabawy. To świetna propozycja zarówno dla dzieci\, młodzieży i dorosłych. I grupa – 16.00-17.00 II grupa 17.30-18.30 Tak spędzamy czas na zajęciach. www.facebook.com/pcastomaszowmaz/posts/681995613905546 \n\n
URL:https://pcastm.pl/wydarzenie/ceramika-95/
LOCATION:Powiatowe Centrum Animacji Społecznej\, Farbiarska 20/24\, Tomaszów Mazowiecki\, Łódzkie\, 97-200\, Polska
ATTACH;FMTTYPE=image/jpeg:https://pcastm.pl/files/2024/12/ceramika-3_24.jpg
END:VEVENT
BEGIN:VEVENT
DTSTART;TZID=Europe/Warsaw:20241216T162000
DTEND;TZID=Europe/Warsaw:20241216T175000
DTSTAMP:20260425T105855
CREATED:20241216T080204Z
LAST-MODIFIED:20241216T080204Z
UID:22364-1734366000-1734371400@pcastm.pl
SUMMARY:Taniec - grupa zaawansowana
DESCRIPTION:\nNa zajęciach uczestnicy poznają i uczą się różnego rodzaju układów\, które są potem prezentowane podczas imprez\, organizowanych przez placówkę\, jak Turniej Kół Gospodyń Wiejskich i Miejskich. \n\n
URL:https://pcastm.pl/wydarzenie/taniec-grupa-zaawansowana-25/
LOCATION:Powiatowe Centrum Animacji Społecznej\, Farbiarska 20/24\, Tomaszów Mazowiecki\, Łódzkie\, 97-200\, Polska
ATTACH;FMTTYPE=image/jpeg:https://pcastm.pl/files/2024/11/IMG_0654.jpg
END:VEVENT
BEGIN:VEVENT
DTSTART;TZID=Europe/Warsaw:20241216T170000
DTEND;TZID=Europe/Warsaw:20241216T183000
DTSTAMP:20260425T105855
CREATED:20241216T080437Z
LAST-MODIFIED:20241216T080437Z
UID:22367-1734368400-1734373800@pcastm.pl
SUMMARY:Hiszpański
DESCRIPTION:Chcesz nauczyć się języka hiszpańskiego? Nic prostszego! Zajęcia są przeznaczone dla dorosłych. Ich koszt to jedynie 50 zł/miesiąc. \n
URL:https://pcastm.pl/wydarzenie/hiszpanski-91/
LOCATION:Powiatowe Centrum Animacji Społecznej\, Farbiarska 20/24\, Tomaszów Mazowiecki\, Łódzkie\, 97-200\, Polska
ATTACH;FMTTYPE=image/png:https://pcastm.pl/files/2024/11/flag-g97b51ad64_1280.png
END:VEVENT
END:VCALENDAR