BEGIN:VCALENDAR
VERSION:2.0
PRODID:-//Powiatowe Centrum Animacji Społecznej - ECPv4.9.10//NONSGML v1.0//EN
CALSCALE:GREGORIAN
METHOD:PUBLISH
X-WR-CALNAME:Powiatowe Centrum Animacji Społecznej
X-ORIGINAL-URL:https://pcastm.pl
X-WR-CALDESC:Events for Powiatowe Centrum Animacji Społecznej
BEGIN:VTIMEZONE
TZID:Europe/Warsaw
BEGIN:DAYLIGHT
TZOFFSETFROM:+0100
TZOFFSETTO:+0200
TZNAME:CEST
DTSTART:20240331T010000
END:DAYLIGHT
BEGIN:STANDARD
TZOFFSETFROM:+0200
TZOFFSETTO:+0100
TZNAME:CET
DTSTART:20241027T010000
END:STANDARD
END:VTIMEZONE
BEGIN:VEVENT
DTSTART;TZID=Europe/Warsaw:20241216T120000
DTEND;TZID=Europe/Warsaw:20241220T200000
DTSTAMP:20260425T105855
CREATED:20241216T074204Z
LAST-MODIFIED:20241216T074204Z
UID:22337-1734350400-1734724800@pcastm.pl
SUMMARY:Siłownia
DESCRIPTION:\n\nJesień to najwyższy czas\, aby zadbać o swoją figurę. Pogoda nie zawsze zachęca do spacerów i aktywności na świeżym powietrzu. Zachęcamy więc do odwiedzenia najtańszej siłowni w mieście. Zacznij już dziś! \n\n\n
URL:https://pcastm.pl/wydarzenie/silownia-74/
LOCATION:Powiatowe Centrum Animacji Społecznej\, Farbiarska 20/24\, Tomaszów Mazowiecki\, Łódzkie\, 97-200\, Polska
ATTACH;FMTTYPE=image/jpeg:https://pcastm.pl/files/2024/11/siłownia-1.jpg
END:VEVENT
BEGIN:VEVENT
DTSTART;TZID=Europe/Warsaw:20241219T130000
DTEND;TZID=Europe/Warsaw:20241219T190000
DTSTAMP:20260425T105855
CREATED:20241216T075816Z
LAST-MODIFIED:20241216T075816Z
UID:22357-1734613200-1734634800@pcastm.pl
SUMMARY:Gitara
DESCRIPTION:
URL:https://pcastm.pl/wydarzenie/gitara-136/
LOCATION:Powiatowe Centrum Animacji Społecznej\, Farbiarska 20/24\, Tomaszów Mazowiecki\, Łódzkie\, 97-200\, Polska
ATTACH;FMTTYPE=image/jpeg:https://pcastm.pl/files/2024/12/gitara.jpg
END:VEVENT
BEGIN:VEVENT
DTSTART;TZID=Europe/Warsaw:20241219T160000
DTEND;TZID=Europe/Warsaw:20241219T180000
DTSTAMP:20260425T105855
CREATED:20241216T105456Z
LAST-MODIFIED:20241216T105456Z
UID:22373-1734624000-1734631200@pcastm.pl
SUMMARY:Wspinaczka
DESCRIPTION:Zajęcia odbywają się na nowej profesjonalnej ściance wspinaczkowej. Zapraszamy ! https://www.facebook.com/reel/551705307112430 \n
URL:https://pcastm.pl/wydarzenie/wspinaczka-119/
LOCATION:Powiatowe Centrum Animacji Społecznej\, Farbiarska 20/24\, Tomaszów Mazowiecki\, Łódzkie\, 97-200\, Polska
ATTACH;FMTTYPE=image/jpeg:https://pcastm.pl/files/2024/11/wspinaczka-otwarty.jpg
END:VEVENT
BEGIN:VEVENT
DTSTART;TZID=Europe/Warsaw:20241219T160000
DTEND;TZID=Europe/Warsaw:20241219T190000
DTSTAMP:20260425T105855
CREATED:20241216T105810Z
LAST-MODIFIED:20241216T105810Z
UID:22377-1734624000-1734634800@pcastm.pl
SUMMARY:Film i animacja
DESCRIPTION:Zajęcia przeznaczone dla dzieci i młodzieży. To świetna zabawa i mnóstwo wrażeń\, które zawsze towarzyszą pracy na planie. Do dyspozycji uczestników jest profesjonalny sprzęt. Co ciekawego robimy? https://www.facebook.com/pcastomaszowmaz/videos/1147705443323060/ \n
URL:https://pcastm.pl/wydarzenie/film-i-animacja-90/
LOCATION:Powiatowe Centrum Animacji Społecznej\, Farbiarska 20/24\, Tomaszów Mazowiecki\, Łódzkie\, 97-200\, Polska
ATTACH;FMTTYPE=image/jpeg:https://pcastm.pl/files/2024/09/film-otwarty.jpg
END:VEVENT
BEGIN:VEVENT
DTSTART;TZID=Europe/Warsaw:20241219T162000
DTEND;TZID=Europe/Warsaw:20241219T175000
DTSTAMP:20260425T105855
CREATED:20241216T110658Z
LAST-MODIFIED:20241216T110658Z
UID:22387-1734625200-1734630600@pcastm.pl
SUMMARY:Taniec - grupa początkująca
DESCRIPTION:Jeżeli lubisz tańczyć\, chciałabyś poznać nowe style i spędzić czas w miłym gronie\, ta propozycja jest dla Ciebie! \n
URL:https://pcastm.pl/wydarzenie/taniec-grupa-poczatkujaca-14/
LOCATION:Powiatowe Centrum Animacji Społecznej\, Farbiarska 20/24\, Tomaszów Mazowiecki\, Łódzkie\, 97-200\, Polska
ATTACH;FMTTYPE=image/jpeg:https://pcastm.pl/files/2024/12/taniec-czw-1204.jpg
END:VEVENT
BEGIN:VEVENT
DTSTART;TZID=Europe/Warsaw:20241219T170000
DTEND;TZID=Europe/Warsaw:20241219T183000
DTSTAMP:20260425T105855
CREATED:20241216T110759Z
LAST-MODIFIED:20241216T110759Z
UID:22390-1734627600-1734633000@pcastm.pl
SUMMARY:Hiszpański
DESCRIPTION:Jeżeli lubisz tańczyć\, chciałabyś poznać nowe style i spędzić czas w miłym gronie\, ta propozycja jest dla Ciebie! \n
URL:https://pcastm.pl/wydarzenie/hiszpanski-92/
LOCATION:Powiatowe Centrum Animacji Społecznej\, Farbiarska 20/24\, Tomaszów Mazowiecki\, Łódzkie\, 97-200\, Polska
ATTACH;FMTTYPE=image/png:https://pcastm.pl/files/2024/11/flag-g97b51ad64_1280.png
END:VEVENT
END:VCALENDAR