BEGIN:VCALENDAR
VERSION:2.0
PRODID:-//Powiatowe Centrum Animacji Społecznej - ECPv4.9.10//NONSGML v1.0//EN
CALSCALE:GREGORIAN
METHOD:PUBLISH
X-WR-CALNAME:Powiatowe Centrum Animacji Społecznej
X-ORIGINAL-URL:https://pcastm.pl
X-WR-CALDESC:Events for Powiatowe Centrum Animacji Społecznej
BEGIN:VTIMEZONE
TZID:Europe/Warsaw
BEGIN:DAYLIGHT
TZOFFSETFROM:+0100
TZOFFSETTO:+0200
TZNAME:CEST
DTSTART:20250330T010000
END:DAYLIGHT
BEGIN:STANDARD
TZOFFSETFROM:+0200
TZOFFSETTO:+0100
TZNAME:CET
DTSTART:20251026T010000
END:STANDARD
END:VTIMEZONE
BEGIN:VEVENT
DTSTART;TZID=Europe/Warsaw:20250109T130000
DTEND;TZID=Europe/Warsaw:20250109T190000
DTSTAMP:20260425T105922
CREATED:20250107T072504Z
LAST-MODIFIED:20250107T072504Z
UID:22446-1736427600-1736449200@pcastm.pl
SUMMARY:Gitara
DESCRIPTION:Chcesz doskonalić swoje umiejętności albo rozpocząć swoją przygodę z gitarą? Zapraszamy! \n
URL:https://pcastm.pl/wydarzenie/gitara-139/
LOCATION:Powiatowe Centrum Animacji Społecznej\, Farbiarska 20/24\, Tomaszów Mazowiecki\, Łódzkie\, 97-200\, Polska
ATTACH;FMTTYPE=image/jpeg:https://pcastm.pl/files/2024/06/gitara-1.jpg
END:VEVENT
BEGIN:VEVENT
DTSTART;TZID=Europe/Warsaw:20250109T162000
DTEND;TZID=Europe/Warsaw:20250109T175000
DTSTAMP:20260425T105922
CREATED:20250107T072701Z
LAST-MODIFIED:20250107T072701Z
UID:22448-1736439600-1736445000@pcastm.pl
SUMMARY:Taniec - grupa początkująca
DESCRIPTION:Jeżeli lubisz tańczyć\, chciałabyś poznać nowe style i spędzić czas w miłym gronie\, ta propozycja jest dla Ciebie! \n
URL:https://pcastm.pl/wydarzenie/taniec-grupa-poczatkujaca-15/
LOCATION:Powiatowe Centrum Animacji Społecznej\, Farbiarska 20/24\, Tomaszów Mazowiecki\, Łódzkie\, 97-200\, Polska
ATTACH;FMTTYPE=image/jpeg:https://pcastm.pl/files/2024/12/taniec-czw-1204.jpg
END:VEVENT
BEGIN:VEVENT
DTSTART;TZID=Europe/Warsaw:20250109T170000
DTEND;TZID=Europe/Warsaw:20250109T183000
DTSTAMP:20260425T105922
CREATED:20250107T073329Z
LAST-MODIFIED:20250107T073329Z
UID:22450-1736442000-1736447400@pcastm.pl
SUMMARY:Hiszpański
DESCRIPTION:Chcesz nauczyć się języka hiszpańskiego? Nic prostszego! Zajęcia są przeznaczone dla dorosłych. Ich koszt to jedynie 50 zł/miesiąc. \n
URL:https://pcastm.pl/wydarzenie/hiszpanski-94/
LOCATION:Powiatowe Centrum Animacji Społecznej\, Farbiarska 20/24\, Tomaszów Mazowiecki\, Łódzkie\, 97-200\, Polska
ATTACH;FMTTYPE=image/png:https://pcastm.pl/files/2024/11/flag-g97b51ad64_1280.png
END:VEVENT
END:VCALENDAR