BEGIN:VCALENDAR
VERSION:2.0
PRODID:-//Powiatowe Centrum Animacji Społecznej - ECPv4.9.10//NONSGML v1.0//EN
CALSCALE:GREGORIAN
METHOD:PUBLISH
X-WR-CALNAME:Powiatowe Centrum Animacji Społecznej
X-ORIGINAL-URL:https://pcastm.pl
X-WR-CALDESC:Events for Powiatowe Centrum Animacji Społecznej
BEGIN:VTIMEZONE
TZID:Europe/Warsaw
BEGIN:DAYLIGHT
TZOFFSETFROM:+0100
TZOFFSETTO:+0200
TZNAME:CEST
DTSTART:20250330T010000
END:DAYLIGHT
BEGIN:STANDARD
TZOFFSETFROM:+0200
TZOFFSETTO:+0100
TZNAME:CET
DTSTART:20251026T010000
END:STANDARD
END:VTIMEZONE
BEGIN:VEVENT
DTSTART;TZID=Europe/Warsaw:20250303T120000
DTEND;TZID=Europe/Warsaw:20250307T200000
DTSTAMP:20260425T035624
CREATED:20250303T074344Z
LAST-MODIFIED:20250303T074344Z
UID:23106-1741003200-1741377600@pcastm.pl
SUMMARY:Siłownia
DESCRIPTION:Zima to najwyższy czas\, aby zadbać o swoją figurę. Pogoda nie zawsze zachęca do spacerów i aktywności na świeżym powietrzu. Zachęcamy więc do odwiedzenia najtańszej siłowni w mieście. Zacznij już dziś! \n
URL:https://pcastm.pl/wydarzenie/silownia-82/
LOCATION:Powiatowe Centrum Animacji Społecznej\, Farbiarska 20/24\, Tomaszów Mazowiecki\, Łódzkie\, 97-200\, Polska
ATTACH;FMTTYPE=image/jpeg:https://pcastm.pl/files/2025/01/0e064942-e247-48a9-9458-a526ffbf8be2.jpg
END:VEVENT
BEGIN:VEVENT
DTSTART;TZID=Europe/Warsaw:20250303T120000
DTEND;TZID=Europe/Warsaw:20250303T200000
DTSTAMP:20260425T035624
CREATED:20250303T074531Z
LAST-MODIFIED:20250303T074531Z
UID:23109-1741003200-1741032000@pcastm.pl
SUMMARY:Malarstwo i rysunek
DESCRIPTION:Lubisz rysować\, malować? To propozycja dla Ciebie! Zajęcia przeznaczone są dla dzieci\, młodzieży i dorosłych. Może wziąć w nich udział każdy\, kto chce się sprawdzić\, realizować swoją pasję\, postawić pierwsze kreski lub wybiera się do szkoły artystycznej. Grupy: 12.00-14.00 – dorośli 16.00-1800 – dzieci i młodzież Zobaczcie co robimy na zajęciach: www.facebook.com/pcastomaszowmaz/posts/764564602315313 \n
URL:https://pcastm.pl/wydarzenie/malarstwo-i-rysunek-124/
LOCATION:Powiatowe Centrum Animacji Społecznej\, Farbiarska 20/24\, Tomaszów Mazowiecki\, Łódzkie\, 97-200\, Polska
ATTACH;FMTTYPE=image/jpeg:https://pcastm.pl/files/2024/11/malarstwo-06.jpg
END:VEVENT
BEGIN:VEVENT
DTSTART;TZID=Europe/Warsaw:20250303T120000
DTEND;TZID=Europe/Warsaw:20250303T170000
DTSTAMP:20260425T035624
CREATED:20250303T074635Z
LAST-MODIFIED:20250303T080314Z
UID:23111-1741003200-1741021200@pcastm.pl
SUMMARY:Wokal
DESCRIPTION:Marzą Ci się występy na scenie? Lubisz śpiewać i chcesz podszlifować swój warsztat?  Zajęcia przeznaczone są dla dzieci\, młodzieży i dorosłych. Uczestnicy sekcji prezentują placówkę w różnego rodzaju konkursach\, odnosząc duże sukcesy. \n
URL:https://pcastm.pl/wydarzenie/wokal-157/
LOCATION:Powiatowe Centrum Animacji Społecznej\, Farbiarska 20/24\, Tomaszów Mazowiecki\, Łódzkie\, 97-200\, Polska
ATTACH;FMTTYPE=image/jpeg:https://pcastm.pl/files/2025/01/IMG_8323.jpg
END:VEVENT
BEGIN:VEVENT
DTSTART;TZID=Europe/Warsaw:20250303T140000
DTEND;TZID=Europe/Warsaw:20250303T170000
DTSTAMP:20260425T035624
CREATED:20250303T080441Z
LAST-MODIFIED:20250303T080441Z
UID:23113-1741010400-1741021200@pcastm.pl
SUMMARY:Gitara
DESCRIPTION:Chcesz doskonalić swoje umiejętności albo rozpocząć swoją przygodę z gitarą? Zapraszamy! \n
URL:https://pcastm.pl/wydarzenie/gitara-157/
LOCATION:Powiatowe Centrum Animacji Społecznej\, Farbiarska 20/24\, Tomaszów Mazowiecki\, Łódzkie\, 97-200\, Polska
ATTACH;FMTTYPE=image/jpeg:https://pcastm.pl/files/2024/09/IMG_5182.jpg
END:VEVENT
BEGIN:VEVENT
DTSTART;TZID=Europe/Warsaw:20250303T160000
DTEND;TZID=Europe/Warsaw:20250303T183000
DTSTAMP:20260425T035624
CREATED:20250303T080638Z
LAST-MODIFIED:20250303T080638Z
UID:23114-1741017600-1741026600@pcastm.pl
SUMMARY:Ceramika
DESCRIPTION:Lubisz prace manualne? Zajęcia z gliną będą dla Ciebie! Wyciszysz się\, nauczysz cierpliwości i stworzysz coś wyjątkowego. Spotkania mają charakter zabawy. To świetna propozycja zarówno dla dzieci\, młodzieży i dorosłych. I grupa – 16.00-17.00 II grupa 17.30-18.30 Tak spędzamy czas na zajęciach. www.facebook.com/pcastomaszowmaz/posts/681995613905546 \n
URL:https://pcastm.pl/wydarzenie/ceramika-101/
LOCATION:Powiatowe Centrum Animacji Społecznej\, Farbiarska 20/24\, Tomaszów Mazowiecki\, Łódzkie\, 97-200\, Polska
ATTACH;FMTTYPE=image/jpeg:https://pcastm.pl/files/2025/01/ceramika_2025.jpg
END:VEVENT
BEGIN:VEVENT
DTSTART;TZID=Europe/Warsaw:20250303T162000
DTEND;TZID=Europe/Warsaw:20250303T175000
DTSTAMP:20260425T035624
CREATED:20250303T080957Z
LAST-MODIFIED:20250303T080957Z
UID:23117-1741018800-1741024200@pcastm.pl
SUMMARY:Taniec - grupa zaawansowana
DESCRIPTION:Lubisz prace manualne? Zajęcia z gliną będą dla Ciebie! Wyciszysz się\, nauczysz cierpliwości i stworzysz coś wyjątkowego. Spotkania mają charakter zabawy. To świetna propozycja zarówno dla dzieci\, młodzieży i dorosłych. I grupa – 16.00-17.00 II grupa 17.30-18.30 Tak spędzamy czas na zajęciach. www.facebook.com/pcastomaszowmaz/posts/681995613905546 \n
URL:https://pcastm.pl/wydarzenie/taniec-grupa-zaawansowana-30/
LOCATION:Powiatowe Centrum Animacji Społecznej\, Farbiarska 20/24\, Tomaszów Mazowiecki\, Łódzkie\, 97-200\, Polska
ATTACH;FMTTYPE=image/jpeg:https://pcastm.pl/files/2024/11/IMG_0653.jpg
END:VEVENT
BEGIN:VEVENT
DTSTART;TZID=Europe/Warsaw:20250303T170000
DTEND;TZID=Europe/Warsaw:20250303T183000
DTSTAMP:20260425T035624
CREATED:20250303T082132Z
LAST-MODIFIED:20250303T082132Z
UID:23119-1741021200-1741026600@pcastm.pl
SUMMARY:Hiszpański
DESCRIPTION:Chcesz nauczyć się języka hiszpańskiego? Nic prostszego! Zajęcia są przeznaczone dla dorosłych. Ich koszt to jedynie 50 zł/miesiąc. \n
URL:https://pcastm.pl/wydarzenie/hiszpanski-104/
LOCATION:Powiatowe Centrum Animacji Społecznej\, Farbiarska 20/24\, Tomaszów Mazowiecki\, Łódzkie\, 97-200\, Polska
ATTACH;FMTTYPE=image/png:https://pcastm.pl/files/2024/11/flag-g97b51ad64_1280.png
END:VEVENT
END:VCALENDAR