BEGIN:VCALENDAR
VERSION:2.0
PRODID:-//Powiatowe Centrum Animacji Społecznej - ECPv4.9.10//NONSGML v1.0//EN
CALSCALE:GREGORIAN
METHOD:PUBLISH
X-WR-CALNAME:Powiatowe Centrum Animacji Społecznej
X-ORIGINAL-URL:https://pcastm.pl
X-WR-CALDESC:Events for Powiatowe Centrum Animacji Społecznej
BEGIN:VTIMEZONE
TZID:Europe/Warsaw
BEGIN:DAYLIGHT
TZOFFSETFROM:+0100
TZOFFSETTO:+0200
TZNAME:CEST
DTSTART:20250330T010000
END:DAYLIGHT
BEGIN:STANDARD
TZOFFSETFROM:+0200
TZOFFSETTO:+0100
TZNAME:CET
DTSTART:20251026T010000
END:STANDARD
END:VTIMEZONE
BEGIN:VEVENT
DTSTART;TZID=Europe/Warsaw:20250303T120000
DTEND;TZID=Europe/Warsaw:20250307T200000
DTSTAMP:20260425T035618
CREATED:20250303T074344Z
LAST-MODIFIED:20250303T074344Z
UID:23106-1741003200-1741377600@pcastm.pl
SUMMARY:Siłownia
DESCRIPTION:Zima to najwyższy czas\, aby zadbać o swoją figurę. Pogoda nie zawsze zachęca do spacerów i aktywności na świeżym powietrzu. Zachęcamy więc do odwiedzenia najtańszej siłowni w mieście. Zacznij już dziś! \n
URL:https://pcastm.pl/wydarzenie/silownia-82/
LOCATION:Powiatowe Centrum Animacji Społecznej\, Farbiarska 20/24\, Tomaszów Mazowiecki\, Łódzkie\, 97-200\, Polska
ATTACH;FMTTYPE=image/jpeg:https://pcastm.pl/files/2025/01/0e064942-e247-48a9-9458-a526ffbf8be2.jpg
END:VEVENT
BEGIN:VEVENT
DTSTART;TZID=Europe/Warsaw:20250307T140000
DTEND;TZID=Europe/Warsaw:20250307T170000
DTSTAMP:20260425T035618
CREATED:20250303T102150Z
LAST-MODIFIED:20250303T102150Z
UID:23151-1741356000-1741366800@pcastm.pl
SUMMARY:Gitara
DESCRIPTION:Chcesz doskonalić swoje umiejętności albo rozpocząć swoją przygodę z gitarą? Zapraszamy! \n
URL:https://pcastm.pl/wydarzenie/gitara-161/
LOCATION:Powiatowe Centrum Animacji Społecznej\, Farbiarska 20/24\, Tomaszów Mazowiecki\, Łódzkie\, 97-200\, Polska
ATTACH;FMTTYPE=image/jpeg:https://pcastm.pl/files/2025/01/IMG_8273.jpg
END:VEVENT
BEGIN:VEVENT
DTSTART;TZID=Europe/Warsaw:20250307T160000
DTEND;TZID=Europe/Warsaw:20250307T200000
DTSTAMP:20260425T035618
CREATED:20250303T102355Z
LAST-MODIFIED:20250303T102355Z
UID:23153-1741363200-1741377600@pcastm.pl
SUMMARY:Teatr
DESCRIPTION:Zajęcia teatralne dla dzieci i młodzieży to połączenie nauki i zabawy\, które doskonalą umiejętności sceniczne oraz uczą wyrażać emocje\, co pozytywnie wpływa na relacje z rówieśnikami. \n
URL:https://pcastm.pl/wydarzenie/teatr-107/
LOCATION:Powiatowe Centrum Animacji Społecznej\, Farbiarska 20/24\, Tomaszów Mazowiecki\, Łódzkie\, 97-200\, Polska
ATTACH;FMTTYPE=image/jpeg:https://pcastm.pl/files/2025/02/IMG_8399.jpg
END:VEVENT
BEGIN:VEVENT
DTSTART;TZID=Europe/Warsaw:20250307T160000
DTEND;TZID=Europe/Warsaw:20250307T180000
DTSTAMP:20260425T035618
CREATED:20250303T102851Z
LAST-MODIFIED:20250303T102851Z
UID:23155-1741363200-1741370400@pcastm.pl
SUMMARY:Fotografia
DESCRIPTION:Chcesz poznać tajniki fotografii? Lubisz robić zdjęcia? Ta propozycja jest dla Ciebie! Zobacz co ciekawego robimy: https://www.facebook.com/pcastomaszowmaz/posts/1025777576194013 \n
URL:https://pcastm.pl/wydarzenie/fotografia-72/
LOCATION:Powiatowe Centrum Animacji Społecznej\, Farbiarska 20/24\, Tomaszów Mazowiecki\, Łódzkie\, 97-200\, Polska
ATTACH;FMTTYPE=image/jpeg:https://pcastm.pl/files/2024/11/foto-zaj-2.jpg
END:VEVENT
END:VCALENDAR