BEGIN:VCALENDAR
VERSION:2.0
PRODID:-//Powiatowe Centrum Animacji Społecznej - ECPv4.9.10//NONSGML v1.0//EN
CALSCALE:GREGORIAN
METHOD:PUBLISH
X-WR-CALNAME:Powiatowe Centrum Animacji Społecznej
X-ORIGINAL-URL:https://pcastm.pl
X-WR-CALDESC:Events for Powiatowe Centrum Animacji Społecznej
BEGIN:VTIMEZONE
TZID:Europe/Warsaw
BEGIN:DAYLIGHT
TZOFFSETFROM:+0100
TZOFFSETTO:+0200
TZNAME:CEST
DTSTART:20250330T010000
END:DAYLIGHT
BEGIN:STANDARD
TZOFFSETFROM:+0200
TZOFFSETTO:+0100
TZNAME:CET
DTSTART:20251026T010000
END:STANDARD
END:VTIMEZONE
BEGIN:VEVENT
DTSTART;TZID=Europe/Warsaw:20250310T120000
DTEND;TZID=Europe/Warsaw:20250314T200000
DTSTAMP:20260425T035522
CREATED:20250310T134417Z
LAST-MODIFIED:20250310T134417Z
UID:23310-1741608000-1741982400@pcastm.pl
SUMMARY:Siłownia
DESCRIPTION:
URL:https://pcastm.pl/wydarzenie/silownia-83/
LOCATION:Powiatowe Centrum Animacji Społecznej\, Farbiarska 20/24\, Tomaszów Mazowiecki\, Łódzkie\, 97-200\, Polska
ATTACH;FMTTYPE=image/jpeg:https://pcastm.pl/files/2025/03/0e064942-e247-48a9-9458-a526ffbf8be2.jpg
END:VEVENT
BEGIN:VEVENT
DTSTART;TZID=Europe/Warsaw:20250311T120000
DTEND;TZID=Europe/Warsaw:20250311T170000
DTSTAMP:20260425T035522
CREATED:20250311T070629Z
LAST-MODIFIED:20250311T070629Z
UID:23331-1741694400-1741712400@pcastm.pl
SUMMARY:Wokal
DESCRIPTION:Marzą Ci się występy na scenie? Lubisz śpiewać i chcesz podszlifować swój warsztat?  Zajęcia przeznaczone są dla dzieci\, młodzieży i dorosłych. Uczestnicy sekcji prezentują placówkę w różnego rodzaju konkursach\, odnosząc duże sukcesy. \n
URL:https://pcastm.pl/wydarzenie/wokal-161/
LOCATION:Powiatowe Centrum Animacji Społecznej\, Farbiarska 20/24\, Tomaszów Mazowiecki\, Łódzkie\, 97-200\, Polska
ATTACH;FMTTYPE=image/jpeg:https://pcastm.pl/files/2025/03/38fd87b4-5121-434a-91ce-b798e2b789db.jpg
END:VEVENT
BEGIN:VEVENT
DTSTART;TZID=Europe/Warsaw:20250311T130000
DTEND;TZID=Europe/Warsaw:20250311T180000
DTSTAMP:20260425T035522
CREATED:20250311T070713Z
LAST-MODIFIED:20250311T070713Z
UID:23333-1741698000-1741716000@pcastm.pl
SUMMARY:Gitara
DESCRIPTION:Chcesz doskonalić swoje umiejętności albo rozpocząć swoją przygodę z gitarą? Zapraszamy! \n
URL:https://pcastm.pl/wydarzenie/gitara-163/
LOCATION:Powiatowe Centrum Animacji Społecznej\, Farbiarska 20/24\, Tomaszów Mazowiecki\, Łódzkie\, 97-200\, Polska
ATTACH;FMTTYPE=image/jpeg:https://pcastm.pl/files/2025/03/gitara-2.jpg
END:VEVENT
BEGIN:VEVENT
DTSTART;TZID=Europe/Warsaw:20250311T153000
DTEND;TZID=Europe/Warsaw:20250311T170000
DTSTAMP:20260425T035522
CREATED:20250311T070858Z
LAST-MODIFIED:20250311T070858Z
UID:23335-1741707000-1741712400@pcastm.pl
SUMMARY:Plastyka – grupa młodsza 6-9 lat
DESCRIPTION:Zajęcia rozwijają zdolności i zainteresowania plastyczne\, pobudzają kreatywność i wyobraźnię dziecka. Na zajęciach wykorzystywane są różnorodne materiały i techniki\, które umożliwiają rozwijanie zdolności manualnych i wyobraźni\, zwiększają możliwości percepcyjne oraz poszerzają pole wyobraźni i myślenia dziecka. \n
URL:https://pcastm.pl/wydarzenie/plastyka-grupa-mlodsza-6-9-lat-23/
LOCATION:Powiatowe Centrum Animacji Społecznej\, Farbiarska 20/24\, Tomaszów Mazowiecki\, Łódzkie\, 97-200\, Polska
ATTACH;FMTTYPE=image/jpeg:https://pcastm.pl/files/2025/03/plastyka-otwarty-małe.jpg
END:VEVENT
BEGIN:VEVENT
DTSTART;TZID=Europe/Warsaw:20250311T160000
DTEND;TZID=Europe/Warsaw:20250311T180000
DTSTAMP:20260425T035522
CREATED:20250311T072507Z
LAST-MODIFIED:20250311T072543Z
UID:23363-1741708800-1741716000@pcastm.pl
SUMMARY:Wspinaczka
DESCRIPTION:Zajęcia odbywają się na nowej profesjonalnej ściance wspinaczkowej. Zapraszamy ! https://www.facebook.com/reel/551705307112430 \n
URL:https://pcastm.pl/wydarzenie/wspinaczka-134/
LOCATION:Powiatowe Centrum Animacji Społecznej\, Farbiarska 20/24\, Tomaszów Mazowiecki\, Łódzkie\, 97-200\, Polska
ATTACH;FMTTYPE=image/jpeg:https://pcastm.pl/files/2025/03/wspinaczka-wakacje.jpg
END:VEVENT
BEGIN:VEVENT
DTSTART;TZID=Europe/Warsaw:20250311T173000
DTEND;TZID=Europe/Warsaw:20250311T190000
DTSTAMP:20260425T035522
CREATED:20250311T071649Z
LAST-MODIFIED:20250311T071649Z
UID:23341-1741714200-1741719600@pcastm.pl
SUMMARY:Włoski
DESCRIPTION:Chcesz do nas dołączyć? Koszt to tylko 50 zł. miesięcznie! Zajęcia odbywają się raz w tygodniu i trwają aż dwie godziny lekcyjne. Tworzymy również grupę dla dzieci. Szczegóły w sekretariacie oraz pod nr telefonu 44 724 63 34. Zapraszamy! \n
URL:https://pcastm.pl/wydarzenie/wloski-45/
LOCATION:Powiatowe Centrum Animacji Społecznej\, Farbiarska 20/24\, Tomaszów Mazowiecki\, Łódzkie\, 97-200\, Polska
ATTACH;FMTTYPE=image/jpeg:https://pcastm.pl/files/2025/03/włoski-język.jpg
END:VEVENT
END:VCALENDAR