BEGIN:VCALENDAR
VERSION:2.0
PRODID:-//Powiatowe Centrum Animacji Społecznej - ECPv4.9.10//NONSGML v1.0//EN
CALSCALE:GREGORIAN
METHOD:PUBLISH
X-WR-CALNAME:Powiatowe Centrum Animacji Społecznej
X-ORIGINAL-URL:https://pcastm.pl
X-WR-CALDESC:Events for Powiatowe Centrum Animacji Społecznej
BEGIN:VTIMEZONE
TZID:Europe/Warsaw
BEGIN:DAYLIGHT
TZOFFSETFROM:+0100
TZOFFSETTO:+0200
TZNAME:CEST
DTSTART:20250330T010000
END:DAYLIGHT
BEGIN:STANDARD
TZOFFSETFROM:+0200
TZOFFSETTO:+0100
TZNAME:CET
DTSTART:20251026T010000
END:STANDARD
END:VTIMEZONE
BEGIN:VEVENT
DTSTART;TZID=Europe/Warsaw:20250324T120000
DTEND;TZID=Europe/Warsaw:20250328T200000
DTSTAMP:20260425T035523
CREATED:20250324T071235Z
LAST-MODIFIED:20250324T071716Z
UID:23462-1742817600-1743192000@pcastm.pl
SUMMARY:Siłownia
DESCRIPTION:\nWiosna to najwyższy czas\, aby zadbać o swoją figurę. Pogoda nie zawsze zachęca do spacerów i aktywności na świeżym powietrzu. Zachęcamy więc do odwiedzenia najtańszej siłowni w mieście. Zacznij już dziś! \n\n
URL:https://pcastm.pl/wydarzenie/silownia-85/
LOCATION:Powiatowe Centrum Animacji Społecznej\, Farbiarska 20/24\, Tomaszów Mazowiecki\, Łódzkie\, 97-200\, Polska
ATTACH;FMTTYPE=image/jpeg:https://pcastm.pl/files/2025/01/65ab297b-9658-4659-baac-f61366fc7820.jpg
END:VEVENT
BEGIN:VEVENT
DTSTART;TZID=Europe/Warsaw:20250324T120000
DTEND;TZID=Europe/Warsaw:20250324T200000
DTSTAMP:20260425T035523
CREATED:20250324T071611Z
LAST-MODIFIED:20250324T071611Z
UID:23464-1742817600-1742846400@pcastm.pl
SUMMARY:Malarstwo i rysunek
DESCRIPTION:Lubisz rysować\, malować? To propozycja dla Ciebie! Zajęcia przeznaczone są dla dzieci\, młodzieży i dorosłych. Może wziąć w nich udział każdy\, kto chce się sprawdzić\, realizować swoją pasję\, postawić pierwsze kreski lub wybiera się do szkoły artystycznej. Grupy: 12.00-14.00 – dorośli 16.00-1800 – dzieci i młodzież Zobaczcie co robimy na zajęciach: \nhttps://www.facebook.com/pcastomaszowmaz/posts/1135896535182116 \n
URL:https://pcastm.pl/wydarzenie/malarstwo-i-rysunek-127/
LOCATION:Powiatowe Centrum Animacji Społecznej\, Farbiarska 20/24\, Tomaszów Mazowiecki\, Łódzkie\, 97-200\, Polska
ATTACH;FMTTYPE=image/jpeg:https://pcastm.pl/files/2025/03/484795501_1135895098515593_4019288531146357831_n.jpg
END:VEVENT
BEGIN:VEVENT
DTSTART;TZID=Europe/Warsaw:20250324T120000
DTEND;TZID=Europe/Warsaw:20250324T170000
DTSTAMP:20260425T035523
CREATED:20250324T071834Z
LAST-MODIFIED:20250324T071834Z
UID:23467-1742817600-1742835600@pcastm.pl
SUMMARY:Wokal
DESCRIPTION:Marzą Ci się występy na scenie? Lubisz śpiewać i chcesz podszlifować swój warsztat?  Zajęcia przeznaczone są dla dzieci\, młodzieży i dorosłych. Uczestnicy sekcji prezentują placówkę w różnego rodzaju konkursach\, odnosząc duże sukcesy. \n
URL:https://pcastm.pl/wydarzenie/wokal-166/
LOCATION:Powiatowe Centrum Animacji Społecznej\, Farbiarska 20/24\, Tomaszów Mazowiecki\, Łódzkie\, 97-200\, Polska
ATTACH;FMTTYPE=image/jpeg:https://pcastm.pl/files/2025/03/IMG_3031.jpg
END:VEVENT
BEGIN:VEVENT
DTSTART;TZID=Europe/Warsaw:20250324T140000
DTEND;TZID=Europe/Warsaw:20250324T170000
DTSTAMP:20260425T035523
CREATED:20250324T072122Z
LAST-MODIFIED:20250324T072122Z
UID:23469-1742824800-1742835600@pcastm.pl
SUMMARY:Gitara
DESCRIPTION:  \nChcesz doskonalić swoje umiejętności albo rozpocząć swoją przygodę z gitarą? Zapraszamy! \n
URL:https://pcastm.pl/wydarzenie/gitara-172/
LOCATION:Powiatowe Centrum Animacji Społecznej\, Farbiarska 20/24\, Tomaszów Mazowiecki\, Łódzkie\, 97-200\, Polska
ATTACH;FMTTYPE=image/jpeg:https://pcastm.pl/files/2025/01/IMG_8282.jpg
END:VEVENT
BEGIN:VEVENT
DTSTART;TZID=Europe/Warsaw:20250324T160000
DTEND;TZID=Europe/Warsaw:20250324T183000
DTSTAMP:20260425T035523
CREATED:20250324T072224Z
LAST-MODIFIED:20250324T072224Z
UID:23471-1742832000-1742841000@pcastm.pl
SUMMARY:Ceramika
DESCRIPTION:Lubisz prace manualne? Zajęcia z gliną będą dla Ciebie! Wyciszysz się\, nauczysz cierpliwości i stworzysz coś wyjątkowego. Spotkania mają charakter zabawy. To świetna propozycja zarówno dla dzieci\, młodzieży i dorosłych. I grupa – 16.00-17.00 II grupa 17.30-18.30 Tak spędzamy czas na zajęciach. www.facebook.com/pcastomaszowmaz/posts/681995613905546 \n
URL:https://pcastm.pl/wydarzenie/ceramika-104/
LOCATION:Powiatowe Centrum Animacji Społecznej\, Farbiarska 20/24\, Tomaszów Mazowiecki\, Łódzkie\, 97-200\, Polska
ATTACH;FMTTYPE=image/jpeg:https://pcastm.pl/files/2025/03/ceramika_2025.jpg
END:VEVENT
BEGIN:VEVENT
DTSTART;TZID=Europe/Warsaw:20250324T162000
DTEND;TZID=Europe/Warsaw:20250324T175000
DTSTAMP:20260425T035523
CREATED:20250324T072332Z
LAST-MODIFIED:20250324T072332Z
UID:23473-1742833200-1742838600@pcastm.pl
SUMMARY:Taniec – grupa zaawansowana
DESCRIPTION:
URL:https://pcastm.pl/wydarzenie/taniec-grupa-zaawansowana-33/
LOCATION:Powiatowe Centrum Animacji Społecznej\, Farbiarska 20/24\, Tomaszów Mazowiecki\, Łódzkie\, 97-200\, Polska
ATTACH;FMTTYPE=image/jpeg:https://pcastm.pl/files/2025/03/taniec-zaawansowana.jpg
END:VEVENT
BEGIN:VEVENT
DTSTART;TZID=Europe/Warsaw:20250324T170000
DTEND;TZID=Europe/Warsaw:20250324T183000
DTSTAMP:20260425T035523
CREATED:20250324T072452Z
LAST-MODIFIED:20250324T072452Z
UID:23475-1742835600-1742841000@pcastm.pl
SUMMARY:Hiszpański
DESCRIPTION:Chcesz nauczyć się języka hiszpańskiego? Nic prostszego! Zajęcia są przeznaczone dla dorosłych. Ich koszt to jedynie 50 zł/miesiąc. \n
URL:https://pcastm.pl/wydarzenie/hiszpanski-110/
LOCATION:Powiatowe Centrum Animacji Społecznej\, Farbiarska 20/24\, Tomaszów Mazowiecki\, Łódzkie\, 97-200\, Polska
ATTACH;FMTTYPE=image/jpeg:https://pcastm.pl/files/2025/03/spain-gb592fafd5_1280.jpg
END:VEVENT
END:VCALENDAR