BEGIN:VCALENDAR
VERSION:2.0
PRODID:-//Powiatowe Centrum Animacji Społecznej - ECPv4.9.10//NONSGML v1.0//EN
CALSCALE:GREGORIAN
METHOD:PUBLISH
X-WR-CALNAME:Powiatowe Centrum Animacji Społecznej
X-ORIGINAL-URL:https://pcastm.pl
X-WR-CALDESC:Events for Powiatowe Centrum Animacji Społecznej
BEGIN:VTIMEZONE
TZID:Europe/Warsaw
BEGIN:DAYLIGHT
TZOFFSETFROM:+0100
TZOFFSETTO:+0200
TZNAME:CEST
DTSTART:20250330T010000
END:DAYLIGHT
BEGIN:STANDARD
TZOFFSETFROM:+0200
TZOFFSETTO:+0100
TZNAME:CET
DTSTART:20251026T010000
END:STANDARD
END:VTIMEZONE
BEGIN:VEVENT
DTSTART;TZID=Europe/Warsaw:20250324T120000
DTEND;TZID=Europe/Warsaw:20250328T200000
DTSTAMP:20260425T035522
CREATED:20250324T071235Z
LAST-MODIFIED:20250324T071716Z
UID:23462-1742817600-1743192000@pcastm.pl
SUMMARY:Siłownia
DESCRIPTION:\nWiosna to najwyższy czas\, aby zadbać o swoją figurę. Pogoda nie zawsze zachęca do spacerów i aktywności na świeżym powietrzu. Zachęcamy więc do odwiedzenia najtańszej siłowni w mieście. Zacznij już dziś! \n\n
URL:https://pcastm.pl/wydarzenie/silownia-85/
LOCATION:Powiatowe Centrum Animacji Społecznej\, Farbiarska 20/24\, Tomaszów Mazowiecki\, Łódzkie\, 97-200\, Polska
ATTACH;FMTTYPE=image/jpeg:https://pcastm.pl/files/2025/01/65ab297b-9658-4659-baac-f61366fc7820.jpg
END:VEVENT
BEGIN:VEVENT
DTSTART;TZID=Europe/Warsaw:20250326T100000
DTEND;TZID=Europe/Warsaw:20250326T110000
DTSTAMP:20260425T035522
CREATED:20250324T073305Z
LAST-MODIFIED:20250324T073305Z
UID:23488-1742983200-1742986800@pcastm.pl
SUMMARY:Informatyka dla seniora
DESCRIPTION:Zajęcia z informatyki skierowane są głównie do grupy seniorów\, którzy chcieliby nabyć podstawowe umiejętności obsługi komputera oraz zapoznać się z nowoczesnymi technologiami. Ich celem jest nauka komunikowania się przez Internet z rodziną i znajomymi\, przeglądania interesujących informacji w Internecie\, dokonywania zakupów przez Internet\, płacenia rachunków\, jak również obsługa programu do napisania pisma urzędowego. \n
URL:https://pcastm.pl/wydarzenie/informatyka-dla-seniora-65/
LOCATION:Powiatowe Centrum Animacji Społecznej\, Farbiarska 20/24\, Tomaszów Mazowiecki\, Łódzkie\, 97-200\, Polska
ATTACH;FMTTYPE=image/jpeg:https://pcastm.pl/files/2024/12/seniorzy-inf.jpg
END:VEVENT
BEGIN:VEVENT
DTSTART;TZID=Europe/Warsaw:20250326T120000
DTEND;TZID=Europe/Warsaw:20250326T170000
DTSTAMP:20260425T035522
CREATED:20250324T073355Z
LAST-MODIFIED:20250324T073355Z
UID:23490-1742990400-1743008400@pcastm.pl
SUMMARY:Wokal
DESCRIPTION:Marzą Ci się występy na scenie? Lubisz śpiewać i chcesz podszlifować swój warsztat?  Zajęcia przeznaczone są dla dzieci\, młodzieży i dorosłych. Uczestnicy sekcji prezentują placówkę w różnego rodzaju konkursach\, odnosząc duże sukcesy. \n
URL:https://pcastm.pl/wydarzenie/wokal-168/
LOCATION:Powiatowe Centrum Animacji Społecznej\, Farbiarska 20/24\, Tomaszów Mazowiecki\, Łódzkie\, 97-200\, Polska
ATTACH;FMTTYPE=image/jpeg:https://pcastm.pl/files/2025/03/IMG_3070.jpg
END:VEVENT
BEGIN:VEVENT
DTSTART;TZID=Europe/Warsaw:20250326T120000
DTEND;TZID=Europe/Warsaw:20250326T170000
DTSTAMP:20260425T035522
CREATED:20250324T073457Z
LAST-MODIFIED:20250324T073457Z
UID:23492-1742990400-1743008400@pcastm.pl
SUMMARY:Gitara
DESCRIPTION:Chcesz doskonalić swoje umiejętności albo rozpocząć swoją przygodę z gitarą? Zapraszamy! \n
URL:https://pcastm.pl/wydarzenie/gitara-174/
LOCATION:Powiatowe Centrum Animacji Społecznej\, Farbiarska 20/24\, Tomaszów Mazowiecki\, Łódzkie\, 97-200\, Polska
ATTACH;FMTTYPE=image/jpeg:https://pcastm.pl/files/2025/03/gitara-2.jpg
END:VEVENT
BEGIN:VEVENT
DTSTART;TZID=Europe/Warsaw:20250326T153000
DTEND;TZID=Europe/Warsaw:20250326T170000
DTSTAMP:20260425T035522
CREATED:20250324T073606Z
LAST-MODIFIED:20250324T073606Z
UID:23494-1743003000-1743008400@pcastm.pl
SUMMARY:Plastyka – grupa starsza 10+
DESCRIPTION:Zajęcia rozwijają zdolności i zainteresowania plastyczne\, pobudzają kreatywność i wyobraźnię dziecka. Na zajęciach wykorzystywane są różnorodne materiały i techniki\, które umożliwiają rozwijanie zdolności manualnych i wyobraźni\, zwiększają możliwości percepcyjne oraz poszerzają pole wyobraźni i myślenia dziecka. \n
URL:https://pcastm.pl/wydarzenie/plastyka-grupa-starsza-10-25/
LOCATION:Powiatowe Centrum Animacji Społecznej\, Farbiarska 20/24\, Tomaszów Mazowiecki\, Łódzkie\, 97-200\, Polska
ATTACH;FMTTYPE=image/jpeg:https://pcastm.pl/files/2025/03/plastyka-2105.jpg
END:VEVENT
BEGIN:VEVENT
DTSTART;TZID=Europe/Warsaw:20250326T170000
DTEND;TZID=Europe/Warsaw:20250326T190000
DTSTAMP:20260425T035522
CREATED:20250324T073950Z
LAST-MODIFIED:20250324T073950Z
UID:23497-1743008400-1743015600@pcastm.pl
SUMMARY:Teatr
DESCRIPTION:Zajęcia teatralne dla dzieci i młodzieży to połączenie nauki i zabawy\, które doskonalą umiejętności sceniczne oraz uczą wyrażać emocje\, co pozytywnie wpływa na relacje z rówieśnikami. \n
URL:https://pcastm.pl/wydarzenie/teatr-112/
LOCATION:Powiatowe Centrum Animacji Społecznej\, Farbiarska 20/24\, Tomaszów Mazowiecki\, Łódzkie\, 97-200\, Polska
ATTACH;FMTTYPE=image/jpeg:https://pcastm.pl/files/2025/02/IMG_8490.jpg
END:VEVENT
END:VCALENDAR