BEGIN:VCALENDAR
VERSION:2.0
PRODID:-//Powiatowe Centrum Animacji Społecznej - ECPv4.9.10//NONSGML v1.0//EN
CALSCALE:GREGORIAN
METHOD:PUBLISH
X-WR-CALNAME:Powiatowe Centrum Animacji Społecznej
X-ORIGINAL-URL:https://pcastm.pl
X-WR-CALDESC:Events for Powiatowe Centrum Animacji Społecznej
BEGIN:VTIMEZONE
TZID:Europe/Warsaw
BEGIN:DAYLIGHT
TZOFFSETFROM:+0100
TZOFFSETTO:+0200
TZNAME:CEST
DTSTART:20250330T010000
END:DAYLIGHT
BEGIN:STANDARD
TZOFFSETFROM:+0200
TZOFFSETTO:+0100
TZNAME:CET
DTSTART:20251026T010000
END:STANDARD
END:VTIMEZONE
BEGIN:VEVENT
DTSTART;TZID=Europe/Warsaw:20250401T120000
DTEND;TZID=Europe/Warsaw:20250401T170000
DTSTAMP:20260424T212119
CREATED:20250331T065155Z
LAST-MODIFIED:20250331T065155Z
UID:23550-1743508800-1743526800@pcastm.pl
SUMMARY:Wokal
DESCRIPTION:Marzą Ci się występy na scenie? Lubisz śpiewać i chcesz podszlifować swój warsztat?  Zajęcia przeznaczone są dla dzieci\, młodzieży i dorosłych. Uczestnicy sekcji prezentują placówkę w różnego rodzaju konkursach\, odnosząc duże sukcesy. \n
URL:https://pcastm.pl/wydarzenie/wokal-171/
LOCATION:Powiatowe Centrum Animacji Społecznej\, Farbiarska 20/24\, Tomaszów Mazowiecki\, Łódzkie\, 97-200\, Polska
ATTACH;FMTTYPE=image/jpeg:https://pcastm.pl/files/2025/03/IMG_3070.jpg
END:VEVENT
BEGIN:VEVENT
DTSTART;TZID=Europe/Warsaw:20250401T130000
DTEND;TZID=Europe/Warsaw:20250401T180000
DTSTAMP:20260424T212119
CREATED:20250331T064646Z
LAST-MODIFIED:20250331T064646Z
UID:23540-1743512400-1743530400@pcastm.pl
SUMMARY:Gitara
DESCRIPTION:Chcesz doskonalić swoje umiejętności albo rozpocząć swoją przygodę z gitarą? Zapraszamy! \n
URL:https://pcastm.pl/wydarzenie/gitara-178/
LOCATION:Powiatowe Centrum Animacji Społecznej\, Farbiarska 20/24\, Tomaszów Mazowiecki\, Łódzkie\, 97-200\, Polska
ATTACH;FMTTYPE=image/jpeg:https://pcastm.pl/files/2025/03/gitara-2.jpg
END:VEVENT
BEGIN:VEVENT
DTSTART;TZID=Europe/Warsaw:20250401T140000
DTEND;TZID=Europe/Warsaw:20250401T180000
DTSTAMP:20260424T212119
CREATED:20250401T062807Z
LAST-MODIFIED:20250401T062807Z
UID:23591-1743516000-1743530400@pcastm.pl
SUMMARY:Dzierlatki
DESCRIPTION:Spotkanie sekcji regionalno-turystycznej. Dołączyć może każdy\, kto chciałby poznać nowe osoby. lubi prace manualne\, wycieczki tematyczne czy występy na scenie. \n
URL:https://pcastm.pl/wydarzenie/dzierlatki-67/
LOCATION:Powiatowe Centrum Animacji Społecznej\, Farbiarska 20/24\, Tomaszów Mazowiecki\, Łódzkie\, 97-200\, Polska
ATTACH;FMTTYPE=image/jpeg:https://pcastm.pl/files/2024/11/LUK-3.jpg
END:VEVENT
BEGIN:VEVENT
DTSTART;TZID=Europe/Warsaw:20250401T153000
DTEND;TZID=Europe/Warsaw:20250401T170000
DTSTAMP:20260424T212119
CREATED:20250331T064734Z
LAST-MODIFIED:20250331T064734Z
UID:23542-1743521400-1743526800@pcastm.pl
SUMMARY:Plastyka – grupa młodsza 6-9 lat
DESCRIPTION:Zajęcia rozwijają zdolności i zainteresowania plastyczne\, pobudzają kreatywność i wyobraźnię dziecka. Na zajęciach wykorzystywane są różnorodne materiały i techniki\, które umożliwiają rozwijanie zdolności manualnych i wyobraźni\, zwiększają możliwości percepcyjne oraz poszerzają pole wyobraźni i myślenia dziecka. \n
URL:https://pcastm.pl/wydarzenie/plastyka-grupa-mlodsza-6-9-lat-26/
LOCATION:Powiatowe Centrum Animacji Społecznej\, Farbiarska 20/24\, Tomaszów Mazowiecki\, Łódzkie\, 97-200\, Polska
ATTACH;FMTTYPE=image/jpeg:https://pcastm.pl/files/2025/03/plastyka-otwarty-małe.jpg
END:VEVENT
BEGIN:VEVENT
DTSTART;TZID=Europe/Warsaw:20250401T160000
DTEND;TZID=Europe/Warsaw:20250401T180000
DTSTAMP:20260424T212119
CREATED:20250331T064834Z
LAST-MODIFIED:20250331T064834Z
UID:23544-1743523200-1743530400@pcastm.pl
SUMMARY:Wspinaczka
DESCRIPTION:Zajęcia odbywają się na nowej profesjonalnej ściance wspinaczkowej. Zapraszamy ! https://www.facebook.com/pcastomaszowmaz/posts/1129787019126401 \n
URL:https://pcastm.pl/wydarzenie/wspinaczka-140/
LOCATION:Powiatowe Centrum Animacji Społecznej\, Farbiarska 20/24\, Tomaszów Mazowiecki\, Łódzkie\, 97-200\, Polska
ATTACH;FMTTYPE=image/jpeg:https://pcastm.pl/files/2025/03/wspinaczka-032025.jpg
END:VEVENT
BEGIN:VEVENT
DTSTART;TZID=Europe/Warsaw:20250401T173000
DTEND;TZID=Europe/Warsaw:20250401T190000
DTSTAMP:20260424T212119
CREATED:20250331T064921Z
LAST-MODIFIED:20250331T064921Z
UID:23546-1743528600-1743534000@pcastm.pl
SUMMARY:Włoski
DESCRIPTION:Chcesz do nas dołączyć? Koszt to tylko 50 zł. miesięcznie! Zajęcia odbywają się raz w tygodniu i trwają aż dwie godziny lekcyjne. Tworzymy również grupę dla dzieci. Szczegóły w sekretariacie oraz pod nr telefonu 44 724 63 34. Zapraszamy! \n
URL:https://pcastm.pl/wydarzenie/wloski-48/
LOCATION:Powiatowe Centrum Animacji Społecznej\, Farbiarska 20/24\, Tomaszów Mazowiecki\, Łódzkie\, 97-200\, Polska
ATTACH;FMTTYPE=image/jpeg:https://pcastm.pl/files/2025/03/włoski-język.jpg
END:VEVENT
END:VCALENDAR