BEGIN:VCALENDAR
VERSION:2.0
PRODID:-//Powiatowe Centrum Animacji Społecznej - ECPv4.9.10//NONSGML v1.0//EN
CALSCALE:GREGORIAN
METHOD:PUBLISH
X-WR-CALNAME:Powiatowe Centrum Animacji Społecznej
X-ORIGINAL-URL:https://pcastm.pl
X-WR-CALDESC:Events for Powiatowe Centrum Animacji Społecznej
BEGIN:VTIMEZONE
TZID:Europe/Warsaw
BEGIN:DAYLIGHT
TZOFFSETFROM:+0100
TZOFFSETTO:+0200
TZNAME:CEST
DTSTART:20250330T010000
END:DAYLIGHT
BEGIN:STANDARD
TZOFFSETFROM:+0200
TZOFFSETTO:+0100
TZNAME:CET
DTSTART:20251026T010000
END:STANDARD
END:VTIMEZONE
BEGIN:VEVENT
DTSTART;TZID=Europe/Warsaw:20250422T120000
DTEND;TZID=Europe/Warsaw:20250425T200000
DTSTAMP:20260424T212153
CREATED:20250422T093738Z
LAST-MODIFIED:20250422T093738Z
UID:23934-1745323200-1745611200@pcastm.pl
SUMMARY:Siłownia
DESCRIPTION:Wiosna to najwyższy czas\, aby zadbać o swoją figurę. Pogoda nie zawsze zachęca do spacerów i aktywności na świeżym powietrzu. Zachęcamy więc do odwiedzenia najtańszej siłowni w mieście. Zacznij już dziś! \n
URL:https://pcastm.pl/wydarzenie/silownia-89/
LOCATION:Powiatowe Centrum Animacji Społecznej\, Farbiarska 20/24\, Tomaszów Mazowiecki\, Łódzkie\, 97-200\, Polska
ATTACH;FMTTYPE=image/jpeg:https://pcastm.pl/files/2025/01/0e064942-e247-48a9-9458-a526ffbf8be2.jpg
END:VEVENT
BEGIN:VEVENT
DTSTART;TZID=Europe/Warsaw:20250424T120000
DTEND;TZID=Europe/Warsaw:20250424T180000
DTSTAMP:20260424T212153
CREATED:20250423T064652Z
LAST-MODIFIED:20250423T064652Z
UID:23974-1745496000-1745517600@pcastm.pl
SUMMARY:Malarstwo i rysunek
DESCRIPTION:\n\n\nLubisz rysować\, malować? To propozycja dla Ciebie! Zajęcia przeznaczone są dla dzieci\, młodzieży i dorosłych. Może wziąć w nich udział każdy\, kto chce się sprawdzić\, realizować swoją pasję\, postawić pierwsze kreski lub wybiera się do szkoły artystycznej. Grupy: 12.00-14.00 – dorośli 16.00-1800 – dzieci i młodzież. \nZobaczcie co robimy na zajęciach: www.facebook.com/pcastomaszowmaz/posts/764564602315313 \n\n\n\n
URL:https://pcastm.pl/wydarzenie/malarstwo-i-rysunek-131/
LOCATION:Powiatowe Centrum Animacji Społecznej\, Farbiarska 20/24\, Tomaszów Mazowiecki\, Łódzkie\, 97-200\, Polska
ATTACH;FMTTYPE=image/jpeg:https://pcastm.pl/files/2025/04/malarstwo-rysunek.jpg
END:VEVENT
BEGIN:VEVENT
DTSTART;TZID=Europe/Warsaw:20250424T130000
DTEND;TZID=Europe/Warsaw:20250424T190000
DTSTAMP:20260424T212153
CREATED:20250423T062012Z
LAST-MODIFIED:20250423T062012Z
UID:23960-1745499600-1745521200@pcastm.pl
SUMMARY:Gitara
DESCRIPTION:\nChcesz doskonalić swoje umiejętności albo rozpocząć swoją przygodę z gitarą? Zapraszamy! \n\n
URL:https://pcastm.pl/wydarzenie/gitara-190/
LOCATION:Powiatowe Centrum Animacji Społecznej\, Farbiarska 20/24\, Tomaszów Mazowiecki\, Łódzkie\, 97-200\, Polska
ATTACH;FMTTYPE=image/jpeg:https://pcastm.pl/files/2025/03/gitara-2.jpg
END:VEVENT
BEGIN:VEVENT
DTSTART;TZID=Europe/Warsaw:20250424T160000
DTEND;TZID=Europe/Warsaw:20250424T180000
DTSTAMP:20260424T212153
CREATED:20250423T062135Z
LAST-MODIFIED:20250423T062135Z
UID:23962-1745510400-1745517600@pcastm.pl
SUMMARY:Wspinaczka
DESCRIPTION:Zajęcia odbywają się na nowej profesjonalnej ściance wspinaczkowej. Zapraszamy ! https://www.facebook.com/pcastomaszowmaz/posts/1129787019126401 \n
URL:https://pcastm.pl/wydarzenie/wspinaczka-148/
LOCATION:Powiatowe Centrum Animacji Społecznej\, Farbiarska 20/24\, Tomaszów Mazowiecki\, Łódzkie\, 97-200\, Polska
ATTACH;FMTTYPE=image/jpeg:https://pcastm.pl/files/2025/03/wspinaczka-wakacje.jpg
END:VEVENT
BEGIN:VEVENT
DTSTART;TZID=Europe/Warsaw:20250424T160000
DTEND;TZID=Europe/Warsaw:20250424T180000
DTSTAMP:20260424T212153
CREATED:20250423T063907Z
LAST-MODIFIED:20250423T063907Z
UID:23967-1745510400-1745517600@pcastm.pl
SUMMARY:Teatr
DESCRIPTION:\n\nZajęcia teatralne dla dzieci i młodzieży to połączenie nauki i zabawy\, które doskonalą umiejętności sceniczne oraz uczą wyrażać emocje\, co pozytywnie wpływa na relacje z rówieśnikami. \n\n\n
URL:https://pcastm.pl/wydarzenie/teatr-120/
LOCATION:Powiatowe Centrum Animacji Społecznej\, Farbiarska 20/24\, Tomaszów Mazowiecki\, Łódzkie\, 97-200\, Polska
ATTACH;FMTTYPE=image/jpeg:https://pcastm.pl/files/2025/04/IMG_3869.jpg
END:VEVENT
BEGIN:VEVENT
DTSTART;TZID=Europe/Warsaw:20250424T162000
DTEND;TZID=Europe/Warsaw:20250424T175000
DTSTAMP:20260424T212153
CREATED:20250423T064053Z
LAST-MODIFIED:20250423T064053Z
UID:23971-1745511600-1745517000@pcastm.pl
SUMMARY:Taniec
DESCRIPTION:
URL:https://pcastm.pl/wydarzenie/taniec-69/
LOCATION:Powiatowe Centrum Animacji Społecznej\, Farbiarska 20/24\, Tomaszów Mazowiecki\, Łódzkie\, 97-200\, Polska
END:VEVENT
BEGIN:VEVENT
DTSTART;TZID=Europe/Warsaw:20250424T170000
DTEND;TZID=Europe/Warsaw:20250424T183000
DTSTAMP:20260424T212153
CREATED:20250423T062231Z
LAST-MODIFIED:20250423T062231Z
UID:23963-1745514000-1745519400@pcastm.pl
SUMMARY:Hiszpański
DESCRIPTION:Chcesz nauczyć się języka hiszpańskiego? Nic prostszego! Zajęcia są przeznaczone dla dorosłych. Ich koszt to jedynie 50 zł/miesiąc. \n
URL:https://pcastm.pl/wydarzenie/hiszpanski-117/
LOCATION:Powiatowe Centrum Animacji Społecznej\, Farbiarska 20/24\, Tomaszów Mazowiecki\, Łódzkie\, 97-200\, Polska
ATTACH;FMTTYPE=image/png:https://pcastm.pl/files/2025/03/flag-g97b51ad64_1280.png
END:VEVENT
END:VCALENDAR