BEGIN:VCALENDAR
VERSION:2.0
PRODID:-//Powiatowe Centrum Animacji Społecznej - ECPv4.9.10//NONSGML v1.0//EN
CALSCALE:GREGORIAN
METHOD:PUBLISH
X-WR-CALNAME:Powiatowe Centrum Animacji Społecznej
X-ORIGINAL-URL:https://pcastm.pl
X-WR-CALDESC:Events for Powiatowe Centrum Animacji Społecznej
BEGIN:VTIMEZONE
TZID:Europe/Warsaw
BEGIN:DAYLIGHT
TZOFFSETFROM:+0100
TZOFFSETTO:+0200
TZNAME:CEST
DTSTART:20250330T010000
END:DAYLIGHT
BEGIN:STANDARD
TZOFFSETFROM:+0200
TZOFFSETTO:+0100
TZNAME:CET
DTSTART:20251026T010000
END:STANDARD
END:VTIMEZONE
BEGIN:VEVENT
DTSTART;TZID=Europe/Warsaw:20250505T120000
DTEND;TZID=Europe/Warsaw:20250509T200000
DTSTAMP:20260424T194256
CREATED:20250505T122610Z
LAST-MODIFIED:20250505T122610Z
UID:24375-1746446400-1746820800@pcastm.pl
SUMMARY:Siłownia
DESCRIPTION:\nWiosna to najwyższy czas\, aby zadbać o swoją figurę. Pogoda nie zawsze zachęca do spacerów i aktywności na świeżym powietrzu. Zachęcamy więc do odwiedzenia najtańszej siłowni w mieście. Zacznij już dziś! \n\n
URL:https://pcastm.pl/wydarzenie/silownia-90/
LOCATION:Powiatowe Centrum Animacji Społecznej\, Farbiarska 20/24\, Tomaszów Mazowiecki\, Łódzkie\, 97-200\, Polska
ATTACH;FMTTYPE=image/jpeg:https://pcastm.pl/files/2025/04/siłownia-2.jpg
END:VEVENT
BEGIN:VEVENT
DTSTART;TZID=Europe/Warsaw:20250507T100000
DTEND;TZID=Europe/Warsaw:20250507T110000
DTSTAMP:20260424T194256
CREATED:20250505T131431Z
LAST-MODIFIED:20250505T131431Z
UID:24401-1746612000-1746615600@pcastm.pl
SUMMARY:Informatyka dla seniora
DESCRIPTION:Zajęcia z informatyki skierowane są głównie do grupy seniorów\, którzy chcieliby nabyć podstawowe umiejętności obsługi komputera oraz zapoznać się z nowoczesnymi technologiami. Ich celem jest nauka komunikowania się przez Internet z rodziną i znajomymi\, przeglądania interesujących informacji w Internecie\, dokonywania zakupów przez Internet\, płacenia rachunków\, jak również obsługa programu do napisania pisma urzędowego. \n
URL:https://pcastm.pl/wydarzenie/informatyka-dla-seniora-71/
LOCATION:Powiatowe Centrum Animacji Społecznej\, Farbiarska 20/24\, Tomaszów Mazowiecki\, Łódzkie\, 97-200\, Polska
ATTACH;FMTTYPE=image/jpeg:https://pcastm.pl/files/2025/04/shop-foto.jpg
END:VEVENT
BEGIN:VEVENT
DTSTART;TZID=Europe/Warsaw:20250507T120000
DTEND;TZID=Europe/Warsaw:20250507T170000
DTSTAMP:20260424T194256
CREATED:20250505T131812Z
LAST-MODIFIED:20250505T131812Z
UID:24405-1746619200-1746637200@pcastm.pl
SUMMARY:Gitara
DESCRIPTION:Chcesz doskonalić swoje umiejętności albo rozpocząć swoją przygodę z gitarą? Zapraszamy! \n
URL:https://pcastm.pl/wydarzenie/gitara-196/
LOCATION:Powiatowe Centrum Animacji Społecznej\, Farbiarska 20/24\, Tomaszów Mazowiecki\, Łódzkie\, 97-200\, Polska
ATTACH;FMTTYPE=image/jpeg:https://pcastm.pl/files/2025/03/gitara-2.jpg
END:VEVENT
BEGIN:VEVENT
DTSTART;TZID=Europe/Warsaw:20250507T130000
DTEND;TZID=Europe/Warsaw:20250507T170000
DTSTAMP:20260424T194256
CREATED:20250505T131533Z
LAST-MODIFIED:20250505T131533Z
UID:24403-1746622800-1746637200@pcastm.pl
SUMMARY:Wokal
DESCRIPTION:Marzą Ci się występy na scenie? Lubisz śpiewać i chcesz podszlifować swój warsztat?  Zajęcia przeznaczone są dla dzieci\, młodzieży i dorosłych. Uczestnicy sekcji prezentują placówkę w różnego rodzaju konkursach\, odnosząc duże sukcesy. \n
URL:https://pcastm.pl/wydarzenie/wokal-185/
LOCATION:Powiatowe Centrum Animacji Społecznej\, Farbiarska 20/24\, Tomaszów Mazowiecki\, Łódzkie\, 97-200\, Polska
ATTACH;FMTTYPE=image/jpeg:https://pcastm.pl/files/2025/05/LUK-70.jpg
END:VEVENT
BEGIN:VEVENT
DTSTART;TZID=Europe/Warsaw:20250507T153000
DTEND;TZID=Europe/Warsaw:20250507T170000
DTSTAMP:20260424T194256
CREATED:20250505T132414Z
LAST-MODIFIED:20250505T132414Z
UID:24407-1746631800-1746637200@pcastm.pl
SUMMARY:Plastyka – grupa starsza 10+
DESCRIPTION:Zajęcia rozwijają zdolności i zainteresowania plastyczne\, pobudzają kreatywność i wyobraźnię dziecka. Na zajęciach wykorzystywane są różnorodne materiały i techniki\, które umożliwiają rozwijanie zdolności manualnych i wyobraźni\, zwiększają możliwości percepcyjne oraz poszerzają pole wyobraźni i myślenia dziecka. \n
URL:https://pcastm.pl/wydarzenie/plastyka-grupa-starsza-10-31/
LOCATION:Powiatowe Centrum Animacji Społecznej\, Farbiarska 20/24\, Tomaszów Mazowiecki\, Łódzkie\, 97-200\, Polska
ATTACH;FMTTYPE=image/jpeg:https://pcastm.pl/files/2025/04/plastyka-otwarty-duże.jpg
END:VEVENT
BEGIN:VEVENT
DTSTART;TZID=Europe/Warsaw:20250507T170000
DTEND;TZID=Europe/Warsaw:20250507T190000
DTSTAMP:20260424T194256
CREATED:20250505T132745Z
LAST-MODIFIED:20250505T132745Z
UID:24409-1746637200-1746644400@pcastm.pl
SUMMARY:Teatr
DESCRIPTION:Zajęcia teatralne dla dzieci i młodzieży to połączenie nauki i zabawy\, które doskonalą umiejętności sceniczne oraz uczą wyrażać emocje\, co pozytywnie wpływa na relacje z rówieśnikami. \n
URL:https://pcastm.pl/wydarzenie/teatr-122/
LOCATION:Powiatowe Centrum Animacji Społecznej\, Farbiarska 20/24\, Tomaszów Mazowiecki\, Łódzkie\, 97-200\, Polska
ATTACH;FMTTYPE=image/jpeg:https://pcastm.pl/files/2025/05/LUK-81.jpg
END:VEVENT
END:VCALENDAR