BEGIN:VCALENDAR
VERSION:2.0
PRODID:-//Powiatowe Centrum Animacji Społecznej - ECPv4.9.10//NONSGML v1.0//EN
CALSCALE:GREGORIAN
METHOD:PUBLISH
X-WR-CALNAME:Powiatowe Centrum Animacji Społecznej
X-ORIGINAL-URL:https://pcastm.pl
X-WR-CALDESC:Events for Powiatowe Centrum Animacji Społecznej
BEGIN:VTIMEZONE
TZID:Europe/Warsaw
BEGIN:DAYLIGHT
TZOFFSETFROM:+0100
TZOFFSETTO:+0200
TZNAME:CEST
DTSTART:20250330T010000
END:DAYLIGHT
BEGIN:STANDARD
TZOFFSETFROM:+0200
TZOFFSETTO:+0100
TZNAME:CET
DTSTART:20251026T010000
END:STANDARD
END:VTIMEZONE
BEGIN:VEVENT
DTSTART;TZID=Europe/Warsaw:20250602T120000
DTEND;TZID=Europe/Warsaw:20250606T200000
DTSTAMP:20260424T180202
CREATED:20250602T065332Z
LAST-MODIFIED:20250602T065332Z
UID:25059-1748865600-1749240000@pcastm.pl
SUMMARY:Siłownia
DESCRIPTION:Wiosna to najwyższy czas\, aby zadbać o swoją figurę. Pogoda nie zawsze zachęca do spacerów i aktywności na świeżym powietrzu. Zachęcamy więc do odwiedzenia najtańszej siłowni w mieście. Zacznij już dziś! \n
URL:https://pcastm.pl/wydarzenie/silownia-94/
LOCATION:Powiatowe Centrum Animacji Społecznej\, Farbiarska 20/24\, Tomaszów Mazowiecki\, Łódzkie\, 97-200\, Polska
ATTACH;FMTTYPE=image/jpeg:https://pcastm.pl/files/2025/04/siłownia-2.jpg
END:VEVENT
BEGIN:VEVENT
DTSTART;TZID=Europe/Warsaw:20250603T120000
DTEND;TZID=Europe/Warsaw:20250603T170000
DTSTAMP:20260424T180202
CREATED:20250602T070333Z
LAST-MODIFIED:20250602T070333Z
UID:25075-1748952000-1748970000@pcastm.pl
SUMMARY:Wokal
DESCRIPTION:Marzą Ci się występy na scenie? Lubisz śpiewać i chcesz podszlifować swój warsztat?  Zajęcia przeznaczone są dla dzieci\, młodzieży i dorosłych. Uczestnicy sekcji prezentują placówkę w różnego rodzaju konkursach\, odnosząc duże sukcesy. \n
URL:https://pcastm.pl/wydarzenie/wokal-196/
LOCATION:Powiatowe Centrum Animacji Społecznej\, Farbiarska 20/24\, Tomaszów Mazowiecki\, Łódzkie\, 97-200\, Polska
ATTACH;FMTTYPE=image/jpeg:https://pcastm.pl/files/2025/05/wokal-1.jpg
END:VEVENT
BEGIN:VEVENT
DTSTART;TZID=Europe/Warsaw:20250603T130000
DTEND;TZID=Europe/Warsaw:20250603T180000
DTSTAMP:20260424T180202
CREATED:20250602T070426Z
LAST-MODIFIED:20250602T070426Z
UID:25076-1748955600-1748973600@pcastm.pl
SUMMARY:Gitara
DESCRIPTION:Chcesz doskonalić swoje umiejętności albo rozpocząć swoją przygodę z gitarą? Zapraszamy! \n
URL:https://pcastm.pl/wydarzenie/gitara-211/
LOCATION:Powiatowe Centrum Animacji Społecznej\, Farbiarska 20/24\, Tomaszów Mazowiecki\, Łódzkie\, 97-200\, Polska
ATTACH;FMTTYPE=image/jpeg:https://pcastm.pl/files/2025/05/gitara.jpg
END:VEVENT
BEGIN:VEVENT
DTSTART;TZID=Europe/Warsaw:20250603T140000
DTEND;TZID=Europe/Warsaw:20250603T180000
DTSTAMP:20260424T180202
CREATED:20250602T070621Z
LAST-MODIFIED:20250602T070621Z
UID:25079-1748959200-1748973600@pcastm.pl
SUMMARY:Dzierlatki
DESCRIPTION:Spotkanie sekcji regionalno-turystycznej. Dołączyć może każdy\, kto chciałby poznać nowe osoby. lubi prace manualne\, wycieczki tematyczne czy występy na scenie. \n
URL:https://pcastm.pl/wydarzenie/dzierlatki-76/
LOCATION:Powiatowe Centrum Animacji Społecznej\, Farbiarska 20/24\, Tomaszów Mazowiecki\, Łódzkie\, 97-200\, Polska
ATTACH;FMTTYPE=image/jpeg:https://pcastm.pl/files/2025/04/kgw-dzierlatki-7.jpg
END:VEVENT
BEGIN:VEVENT
DTSTART;TZID=Europe/Warsaw:20250603T153000
DTEND;TZID=Europe/Warsaw:20250603T170000
DTSTAMP:20260424T180202
CREATED:20250602T070830Z
LAST-MODIFIED:20250602T070830Z
UID:25080-1748964600-1748970000@pcastm.pl
SUMMARY:Plastyka – grupa młodsza 6-9 lat
DESCRIPTION:Zajęcia rozwijają zdolności i zainteresowania plastyczne\, pobudzają kreatywność i wyobraźnię dziecka. Na zajęciach wykorzystywane są różnorodne materiały i techniki\, które umożliwiają rozwijanie zdolności manualnych i wyobraźni\, zwiększają możliwości percepcyjne oraz poszerzają pole wyobraźni i myślenia dziecka. \n
URL:https://pcastm.pl/wydarzenie/plastyka-grupa-mlodsza-6-9-lat-34/
LOCATION:Powiatowe Centrum Animacji Społecznej\, Farbiarska 20/24\, Tomaszów Mazowiecki\, Łódzkie\, 97-200\, Polska
ATTACH;FMTTYPE=image/jpeg:https://pcastm.pl/files/2025/04/plast.jpg
END:VEVENT
BEGIN:VEVENT
DTSTART;TZID=Europe/Warsaw:20250603T160000
DTEND;TZID=Europe/Warsaw:20250603T164500
DTSTAMP:20260424T180202
CREATED:20250602T071040Z
LAST-MODIFIED:20250602T071040Z
UID:25082-1748966400-1748969100@pcastm.pl
SUMMARY:Akademia Małolata
DESCRIPTION:Zajęcia są przeznaczone dla najmłodszych.  Składają się z plastyki\, muzyki\, rytmiki oraz zajęć sensorycznych. To kreatywne działania\, w których dzieci mogą uruchomić swoją wyobraźnię i po prostu tworzyć. \n
URL:https://pcastm.pl/wydarzenie/akademia-malolata-63/
LOCATION:Powiatowe Centrum Animacji Społecznej\, Farbiarska 20/24\, Tomaszów Mazowiecki\, Łódzkie\, 97-200\, Polska
ATTACH;FMTTYPE=image/jpeg:https://pcastm.pl/files/2025/04/małolat-4.jpg
END:VEVENT
BEGIN:VEVENT
DTSTART;TZID=Europe/Warsaw:20250603T160000
DTEND;TZID=Europe/Warsaw:20250603T180000
DTSTAMP:20260424T180202
CREATED:20250602T101458Z
LAST-MODIFIED:20250602T101458Z
UID:25109-1748966400-1748973600@pcastm.pl
SUMMARY:Wspinaczka
DESCRIPTION:Zajęcia odbywają się na nowej profesjonalnej ściance wspinaczkowej. Zapraszamy ! https://www.facebook.com/pcastomaszowmaz/posts/1129787019126401 \n
URL:https://pcastm.pl/wydarzenie/wspinaczka-154/
LOCATION:Powiatowe Centrum Animacji Społecznej\, Farbiarska 20/24\, Tomaszów Mazowiecki\, Łódzkie\, 97-200\, Polska
ATTACH;FMTTYPE=image/jpeg:https://pcastm.pl/files/2025/06/now-scianka-1.jpg
END:VEVENT
BEGIN:VEVENT
DTSTART;TZID=Europe/Warsaw:20250603T173000
DTEND;TZID=Europe/Warsaw:20250603T190000
DTSTAMP:20260424T180202
CREATED:20250602T095704Z
LAST-MODIFIED:20250602T095704Z
UID:25086-1748971800-1748977200@pcastm.pl
SUMMARY:Włoski
DESCRIPTION:Chcesz do nas dołączyć? Koszt to tylko 50 zł. miesięcznie! Zajęcia odbywają się raz w tygodniu i trwają aż dwie godziny lekcyjne. Tworzymy również grupę dla dzieci. Szczegóły w sekretariacie oraz pod nr telefonu 44 724 63 34. Zapraszamy! \n
URL:https://pcastm.pl/wydarzenie/wloski-57/
LOCATION:Powiatowe Centrum Animacji Społecznej\, Farbiarska 20/24\, Tomaszów Mazowiecki\, Łódzkie\, 97-200\, Polska
ATTACH;FMTTYPE=image/jpeg:https://pcastm.pl/files/2025/06/cf391bc3-50bf-4e51-a56d-080796786560.jpg
END:VEVENT
END:VCALENDAR