BEGIN:VCALENDAR
VERSION:2.0
PRODID:-//Powiatowe Centrum Animacji Społecznej - ECPv4.9.10//NONSGML v1.0//EN
CALSCALE:GREGORIAN
METHOD:PUBLISH
X-WR-CALNAME:Powiatowe Centrum Animacji Społecznej
X-ORIGINAL-URL:https://pcastm.pl
X-WR-CALDESC:Events for Powiatowe Centrum Animacji Społecznej
BEGIN:VTIMEZONE
TZID:Europe/Warsaw
BEGIN:DAYLIGHT
TZOFFSETFROM:+0100
TZOFFSETTO:+0200
TZNAME:CEST
DTSTART:20250330T010000
END:DAYLIGHT
BEGIN:STANDARD
TZOFFSETFROM:+0200
TZOFFSETTO:+0100
TZNAME:CET
DTSTART:20251026T010000
END:STANDARD
END:VTIMEZONE
BEGIN:VEVENT
DTSTART;TZID=Europe/Warsaw:20250616T120000
DTEND;TZID=Europe/Warsaw:20250618T200000
DTSTAMP:20260424T180058
CREATED:20250616T113655Z
LAST-MODIFIED:20250618T121127Z
UID:25378-1750075200-1750276800@pcastm.pl
SUMMARY:Siłownia
DESCRIPTION:Wiosna to najwyższy czas\, aby zadbać o swoją figurę. Pogoda nie zawsze zachęca do spacerów i aktywności na świeżym powietrzu. Zachęcamy więc do odwiedzenia najtańszej siłowni w mieście. Zacznij już dziś! \n
URL:https://pcastm.pl/wydarzenie/silownia-96/
LOCATION:Powiatowe Centrum Animacji Społecznej\, Farbiarska 20/24\, Tomaszów Mazowiecki\, Łódzkie\, 97-200\, Polska
ATTACH;FMTTYPE=image/jpeg:https://pcastm.pl/files/2025/06/0e064942-e247-48a9-9458-a526ffbf8be2.jpg
END:VEVENT
BEGIN:VEVENT
DTSTART;TZID=Europe/Warsaw:20250617T120000
DTEND;TZID=Europe/Warsaw:20250617T170000
DTSTAMP:20260424T180058
CREATED:20250617T120153Z
LAST-MODIFIED:20250617T120153Z
UID:25518-1750161600-1750179600@pcastm.pl
SUMMARY:Wokal
DESCRIPTION:Marzą Ci się występy na scenie? Lubisz śpiewać i chcesz podszlifować swój warsztat?  Zajęcia przeznaczone są dla dzieci\, młodzieży i dorosłych. Uczestnicy sekcji prezentują placówkę w różnego rodzaju konkursach\, odnosząc duże sukcesy. \n
URL:https://pcastm.pl/wydarzenie/wokal-202/
LOCATION:Powiatowe Centrum Animacji Społecznej\, Farbiarska 20/24\, Tomaszów Mazowiecki\, Łódzkie\, 97-200\, Polska
ATTACH;FMTTYPE=image/jpeg:https://pcastm.pl/files/2025/06/cf391bc3-50bf-4e51-a56d-080796786560.jpg
END:VEVENT
BEGIN:VEVENT
DTSTART;TZID=Europe/Warsaw:20250617T130000
DTEND;TZID=Europe/Warsaw:20250617T180000
DTSTAMP:20260424T180058
CREATED:20250617T120303Z
LAST-MODIFIED:20250617T120303Z
UID:25520-1750165200-1750183200@pcastm.pl
SUMMARY:Gitara
DESCRIPTION:Chcesz doskonalić swoje umiejętności albo rozpocząć swoją przygodę z gitarą? Zapraszamy! \n
URL:https://pcastm.pl/wydarzenie/gitara-219/
LOCATION:Powiatowe Centrum Animacji Społecznej\, Farbiarska 20/24\, Tomaszów Mazowiecki\, Łódzkie\, 97-200\, Polska
ATTACH;FMTTYPE=image/jpeg:https://pcastm.pl/files/2025/06/gitara-2.jpg
END:VEVENT
BEGIN:VEVENT
DTSTART;TZID=Europe/Warsaw:20250617T140000
DTEND;TZID=Europe/Warsaw:20250617T180000
DTSTAMP:20260424T180058
CREATED:20250617T120351Z
LAST-MODIFIED:20250617T120351Z
UID:25523-1750168800-1750183200@pcastm.pl
SUMMARY:Dzierlatki
DESCRIPTION:Spotkanie sekcji regionalno-turystycznej. Dołączyć może każdy\, kto chciałby poznać nowe osoby. lubi prace manualne\, wycieczki tematyczne czy występy na scenie. Co robimy? https://www.facebook.com/pcastomaszowmaz/posts/1204145395023896 \n
URL:https://pcastm.pl/wydarzenie/dzierlatki-78/
LOCATION:Powiatowe Centrum Animacji Społecznej\, Farbiarska 20/24\, Tomaszów Mazowiecki\, Łódzkie\, 97-200\, Polska
ATTACH;FMTTYPE=image/jpeg:https://pcastm.pl/files/2025/06/506996320_703948645575702_3225120597978696974_n.jpg
END:VEVENT
BEGIN:VEVENT
DTSTART;TZID=Europe/Warsaw:20250617T153000
DTEND;TZID=Europe/Warsaw:20250617T170000
DTSTAMP:20260424T180058
CREATED:20250617T125100Z
LAST-MODIFIED:20250617T125100Z
UID:25525-1750174200-1750179600@pcastm.pl
SUMMARY:Plastyka – grupa młodsza 6-9 lat
DESCRIPTION:Zajęcia rozwijają zdolności i zainteresowania plastyczne\, pobudzają kreatywność i wyobraźnię dziecka. Na zajęciach wykorzystywane są różnorodne materiały i techniki\, które umożliwiają rozwijanie zdolności manualnych i wyobraźni\, zwiększają możliwości percepcyjne oraz poszerzają pole wyobraźni i myślenia dziecka. \n
URL:https://pcastm.pl/wydarzenie/plastyka-grupa-mlodsza-6-9-lat-36/
LOCATION:Powiatowe Centrum Animacji Społecznej\, Farbiarska 20/24\, Tomaszów Mazowiecki\, Łódzkie\, 97-200\, Polska
ATTACH;FMTTYPE=image/jpeg:https://pcastm.pl/files/2025/06/plast.jpg
END:VEVENT
BEGIN:VEVENT
DTSTART;TZID=Europe/Warsaw:20250617T160000
DTEND;TZID=Europe/Warsaw:20250617T164500
DTSTAMP:20260424T180058
CREATED:20250617T125241Z
LAST-MODIFIED:20250617T125241Z
UID:25682-1750176000-1750178700@pcastm.pl
SUMMARY:Akademia Małolata
DESCRIPTION:Zajęcia są przeznaczone dla najmłodszych.  Składają się z plastyki\, muzyki\, rytmiki oraz zajęć sensorycznych. To kreatywne działania\, w których dzieci mogą uruchomić swoją wyobraźnię i po prostu tworzyć. \n
URL:https://pcastm.pl/wydarzenie/akademia-malolata-65/
LOCATION:Powiatowe Centrum Animacji Społecznej\, Farbiarska 20/24\, Tomaszów Mazowiecki\, Łódzkie\, 97-200\, Polska
ATTACH;FMTTYPE=image/jpeg:https://pcastm.pl/files/2025/06/małolata-9-10.jpg
END:VEVENT
BEGIN:VEVENT
DTSTART;TZID=Europe/Warsaw:20250617T160000
DTEND;TZID=Europe/Warsaw:20250617T180000
DTSTAMP:20260424T180058
CREATED:20250617T125342Z
LAST-MODIFIED:20250617T125342Z
UID:25684-1750176000-1750183200@pcastm.pl
SUMMARY:Wspinaczka
DESCRIPTION:Zajęcia odbywają się na nowej profesjonalnej ściance wspinaczkowej. Zapraszamy ! https://www.facebook.com/pcastomaszowmaz/posts/1129787019126401 \n
URL:https://pcastm.pl/wydarzenie/wspinaczka-157/
LOCATION:Powiatowe Centrum Animacji Społecznej\, Farbiarska 20/24\, Tomaszów Mazowiecki\, Łódzkie\, 97-200\, Polska
ATTACH;FMTTYPE=image/jpeg:https://pcastm.pl/files/2025/06/now-scianka-2.jpg
END:VEVENT
BEGIN:VEVENT
DTSTART;TZID=Europe/Warsaw:20250617T173000
DTEND;TZID=Europe/Warsaw:20250617T190000
DTSTAMP:20260424T180058
CREATED:20250617T125442Z
LAST-MODIFIED:20250617T125442Z
UID:25686-1750181400-1750186800@pcastm.pl
SUMMARY:Włoski
DESCRIPTION:Chcesz do nas dołączyć? Koszt to tylko 50 zł. miesięcznie! Zajęcia odbywają się raz w tygodniu i trwają aż dwie godziny lekcyjne. Tworzymy również grupę dla dzieci. Szczegóły w sekretariacie oraz pod nr telefonu 44 724 63 34. Zapraszamy! \n
URL:https://pcastm.pl/wydarzenie/wloski-59/
LOCATION:Powiatowe Centrum Animacji Społecznej\, Farbiarska 20/24\, Tomaszów Mazowiecki\, Łódzkie\, 97-200\, Polska
ATTACH;FMTTYPE=image/jpeg:https://pcastm.pl/files/2025/06/włoski-język.jpg
END:VEVENT
END:VCALENDAR