BEGIN:VCALENDAR
VERSION:2.0
PRODID:-//Powiatowe Centrum Animacji Społecznej - ECPv4.9.10//NONSGML v1.0//EN
CALSCALE:GREGORIAN
METHOD:PUBLISH
X-WR-CALNAME:Powiatowe Centrum Animacji Społecznej
X-ORIGINAL-URL:https://pcastm.pl
X-WR-CALDESC:Events for Powiatowe Centrum Animacji Społecznej
BEGIN:VTIMEZONE
TZID:Europe/Warsaw
BEGIN:DAYLIGHT
TZOFFSETFROM:+0100
TZOFFSETTO:+0200
TZNAME:CEST
DTSTART:20250330T010000
END:DAYLIGHT
BEGIN:STANDARD
TZOFFSETFROM:+0200
TZOFFSETTO:+0100
TZNAME:CET
DTSTART:20251026T010000
END:STANDARD
END:VTIMEZONE
BEGIN:VEVENT
DTSTART;VALUE=DATE:20250627
DTEND;VALUE=DATE:20250628
DTSTAMP:20260424T195011
CREATED:20250623T102743Z
LAST-MODIFIED:20250623T102743Z
UID:25764-1750982400-1751068799@pcastm.pl
SUMMARY:Siłownia nieczynna
DESCRIPTION:
URL:https://pcastm.pl/wydarzenie/silownia-nieczynna-4/
ATTACH;FMTTYPE=image/png:https://pcastm.pl/files/2025/06/UWAGA-pomarańczowe.png
END:VEVENT
BEGIN:VEVENT
DTSTART;TZID=Europe/Warsaw:20250627T160000
DTEND;TZID=Europe/Warsaw:20250627T180000
DTSTAMP:20260424T195011
CREATED:20250623T072048Z
LAST-MODIFIED:20250623T072048Z
UID:25759-1751040000-1751047200@pcastm.pl
SUMMARY:Fotografia
DESCRIPTION:Chcesz poznać tajniki fotografii? Lubisz robić zdjęcia? Ta propozycja jest dla Ciebie! Zobacz co ciekawego robimy: https://www.facebook.com/pcastomaszowmaz/posts/1025777576194013 \n
URL:https://pcastm.pl/wydarzenie/fotografia-85/
LOCATION:Powiatowe Centrum Animacji Społecznej\, Farbiarska 20/24\, Tomaszów Mazowiecki\, Łódzkie\, 97-200\, Polska
ATTACH;FMTTYPE=image/jpeg:https://pcastm.pl/files/2025/06/foto-zdj-aparat.jpg
END:VEVENT
BEGIN:VEVENT
DTSTART;TZID=Europe/Warsaw:20250627T160000
DTEND;TZID=Europe/Warsaw:20250627T180000
DTSTAMP:20260424T195011
CREATED:20250623T072324Z
LAST-MODIFIED:20250623T072324Z
UID:25761-1751040000-1751047200@pcastm.pl
SUMMARY:Teatr
DESCRIPTION:Zajęcia teatralne dla dzieci i młodzieży to połączenie nauki i zabawy\, które doskonalą umiejętności sceniczne oraz uczą wyrażać emocje\, co pozytywnie wpływa na relacje z rówieśnikami. \n
URL:https://pcastm.pl/wydarzenie/teatr-136/
LOCATION:Powiatowe Centrum Animacji Społecznej\, Farbiarska 20/24\, Tomaszów Mazowiecki\, Łódzkie\, 97-200\, Polska
ATTACH;FMTTYPE=image/jpeg:https://pcastm.pl/files/2025/05/1DSC02274.jpg
END:VEVENT
END:VCALENDAR