BEGIN:VCALENDAR
VERSION:2.0
PRODID:-//Powiatowe Centrum Animacji Społecznej - ECPv4.9.10//NONSGML v1.0//EN
CALSCALE:GREGORIAN
METHOD:PUBLISH
X-WR-CALNAME:Powiatowe Centrum Animacji Społecznej
X-ORIGINAL-URL:https://pcastm.pl
X-WR-CALDESC:Events for Powiatowe Centrum Animacji Społecznej
BEGIN:VTIMEZONE
TZID:Europe/Warsaw
BEGIN:DAYLIGHT
TZOFFSETFROM:+0100
TZOFFSETTO:+0200
TZNAME:CEST
DTSTART:20250330T010000
END:DAYLIGHT
BEGIN:STANDARD
TZOFFSETFROM:+0200
TZOFFSETTO:+0100
TZNAME:CET
DTSTART:20251026T010000
END:STANDARD
END:VTIMEZONE
BEGIN:VEVENT
DTSTART;VALUE=DATE:20250707
DTEND;VALUE=DATE:20250712
DTSTAMP:20260425T163251
CREATED:20250625T103747Z
LAST-MODIFIED:20250625T103748Z
UID:25776-1751846400-1752278399@pcastm.pl
SUMMARY:Zajęcia wakacyjne z PCAS-em
DESCRIPTION:
URL:https://pcastm.pl/wydarzenie/zajecia-wakacyjne-z-pcas-em-8/
LOCATION:Powiatowe Centrum Animacji Społecznej\, Farbiarska 20/24\, Tomaszów Mazowiecki\, Łódzkie\, 97-200\, Polska
ATTACH;FMTTYPE=image/jpeg:https://pcastm.pl/files/2025/06/wakacyjne-pcas.jpg
END:VEVENT
BEGIN:VEVENT
DTSTART;VALUE=DATE:20250707
DTEND;VALUE=DATE:20250712
DTSTAMP:20260425T163251
CREATED:20250625T135617Z
LAST-MODIFIED:20250625T135617Z
UID:25771-1751846400-1752278399@pcastm.pl
SUMMARY:Zajęcia wakacyjne z PCAS-em
DESCRIPTION:
URL:https://pcastm.pl/wydarzenie/zajecia-wakacyjne-z-pcas-em-9/
LOCATION:Powiatowe Centrum Animacji Społecznej\, Farbiarska 20/24\, Tomaszów Mazowiecki\, Łódzkie\, 97-200\, Polska
ATTACH;FMTTYPE=image/jpeg:https://pcastm.pl/files/2025/06/wakacyjne-pcas.jpg
END:VEVENT
END:VCALENDAR