BEGIN:VCALENDAR
VERSION:2.0
PRODID:-//Powiatowe Centrum Animacji Społecznej - ECPv4.9.10//NONSGML v1.0//EN
CALSCALE:GREGORIAN
METHOD:PUBLISH
X-WR-CALNAME:Powiatowe Centrum Animacji Społecznej
X-ORIGINAL-URL:https://pcastm.pl
X-WR-CALDESC:Events for Powiatowe Centrum Animacji Społecznej
BEGIN:VTIMEZONE
TZID:Europe/Warsaw
BEGIN:DAYLIGHT
TZOFFSETFROM:+0100
TZOFFSETTO:+0200
TZNAME:CEST
DTSTART:20250330T010000
END:DAYLIGHT
BEGIN:STANDARD
TZOFFSETFROM:+0200
TZOFFSETTO:+0100
TZNAME:CET
DTSTART:20251026T010000
END:STANDARD
END:VTIMEZONE
BEGIN:VEVENT
DTSTART;TZID=Europe/Warsaw:20251013T120000
DTEND;TZID=Europe/Warsaw:20251017T200000
DTSTAMP:20260424T081834
CREATED:20251013T061937Z
LAST-MODIFIED:20251013T113221Z
UID:26369-1760356800-1760731200@pcastm.pl
SUMMARY:Siłownia
DESCRIPTION:
URL:https://pcastm.pl/wydarzenie/silownia-99/
LOCATION:Powiatowe Centrum Animacji Społecznej\, Farbiarska 20/24\, Tomaszów Mazowiecki\, Łódzkie\, 97-200\, Polska
ATTACH;FMTTYPE=image/jpeg:https://pcastm.pl/files/2025/06/0e064942-e247-48a9-9458-a526ffbf8be2-1.jpg
END:VEVENT
BEGIN:VEVENT
DTSTART;TZID=Europe/Warsaw:20251013T150000
DTEND;TZID=Europe/Warsaw:20251013T180000
DTSTAMP:20260424T081834
CREATED:20251013T061514Z
LAST-MODIFIED:20251013T061514Z
UID:26362-1760367600-1760378400@pcastm.pl
SUMMARY:Ceramika
DESCRIPTION:
URL:https://pcastm.pl/wydarzenie/ceramika-121/
LOCATION:Powiatowe Centrum Animacji Społecznej\, Farbiarska 20/24\, Tomaszów Mazowiecki\, Łódzkie\, 97-200\, Polska
ATTACH;FMTTYPE=image/jpeg:https://pcastm.pl/files/2025/06/ceramika-4.jpg
END:VEVENT
BEGIN:VEVENT
DTSTART;TZID=Europe/Warsaw:20251013T160000
DTEND;TZID=Europe/Warsaw:20251013T180000
DTSTAMP:20260424T081834
CREATED:20251013T061551Z
LAST-MODIFIED:20251013T061551Z
UID:26364-1760371200-1760378400@pcastm.pl
SUMMARY:Malarstwo i rysunek
DESCRIPTION:
URL:https://pcastm.pl/wydarzenie/malarstwo-i-rysunek-152/
LOCATION:Powiatowe Centrum Animacji Społecznej\, Farbiarska 20/24\, Tomaszów Mazowiecki\, Łódzkie\, 97-200\, Polska
ATTACH;FMTTYPE=image/jpeg:https://pcastm.pl/files/2025/10/e7624946-895d-41f0-971d-5af030e6e2fa.jpg
END:VEVENT
BEGIN:VEVENT
DTSTART;TZID=Europe/Warsaw:20251013T162000
DTEND;TZID=Europe/Warsaw:20251013T175000
DTSTAMP:20260424T081834
CREATED:20251013T061656Z
LAST-MODIFIED:20251013T061656Z
UID:26366-1760372400-1760377800@pcastm.pl
SUMMARY:Taniec - grupa zaawansowana
DESCRIPTION:
URL:https://pcastm.pl/wydarzenie/taniec-grupa-zaawansowana-46/
LOCATION:Powiatowe Centrum Animacji Społecznej\, Farbiarska 20/24\, Tomaszów Mazowiecki\, Łódzkie\, 97-200\, Polska
ATTACH;FMTTYPE=image/jpeg:https://pcastm.pl/files/2025/06/LUK-135.jpg
END:VEVENT
BEGIN:VEVENT
DTSTART;TZID=Europe/Warsaw:20251013T164500
DTEND;TZID=Europe/Warsaw:20251013T181500
DTSTAMP:20260424T081834
CREATED:20251013T062038Z
LAST-MODIFIED:20251013T062038Z
UID:26371-1760373900-1760379300@pcastm.pl
SUMMARY:Hiszpański
DESCRIPTION:
URL:https://pcastm.pl/wydarzenie/hiszpanski-136/
LOCATION:Powiatowe Centrum Animacji Społecznej\, Farbiarska 20/24\, Tomaszów Mazowiecki\, Łódzkie\, 97-200\, Polska
ATTACH;FMTTYPE=image/jpeg:https://pcastm.pl/files/2025/06/spain-gb592fafd5_1280-1.jpg
END:VEVENT
BEGIN:VEVENT
DTSTART;TZID=Europe/Warsaw:20251013T173000
DTEND;TZID=Europe/Warsaw:20251013T190000
DTSTAMP:20260424T081834
CREATED:20251013T062131Z
LAST-MODIFIED:20251013T062131Z
UID:26373-1760376600-1760382000@pcastm.pl
SUMMARY:Włoski
DESCRIPTION:
URL:https://pcastm.pl/wydarzenie/wloski-61/
LOCATION:Powiatowe Centrum Animacji Społecznej\, Farbiarska 20/24\, Tomaszów Mazowiecki\, Łódzkie\, 97-200\, Polska
ATTACH;FMTTYPE=image/jpeg:https://pcastm.pl/files/2025/06/włoski-język.jpg
END:VEVENT
END:VCALENDAR