BEGIN:VCALENDAR
VERSION:2.0
PRODID:-//Powiatowe Centrum Animacji Społecznej - ECPv4.9.10//NONSGML v1.0//EN
CALSCALE:GREGORIAN
METHOD:PUBLISH
X-WR-CALNAME:Powiatowe Centrum Animacji Społecznej
X-ORIGINAL-URL:https://pcastm.pl
X-WR-CALDESC:Events for Powiatowe Centrum Animacji Społecznej
BEGIN:VTIMEZONE
TZID:Europe/Warsaw
BEGIN:DAYLIGHT
TZOFFSETFROM:+0100
TZOFFSETTO:+0200
TZNAME:CEST
DTSTART:20250330T010000
END:DAYLIGHT
BEGIN:STANDARD
TZOFFSETFROM:+0200
TZOFFSETTO:+0100
TZNAME:CET
DTSTART:20251026T010000
END:STANDARD
END:VTIMEZONE
BEGIN:VEVENT
DTSTART;TZID=Europe/Warsaw:20251013T120000
DTEND;TZID=Europe/Warsaw:20251017T200000
DTSTAMP:20260424T094602
CREATED:20251013T061937Z
LAST-MODIFIED:20251013T113221Z
UID:26369-1760356800-1760731200@pcastm.pl
SUMMARY:Siłownia
DESCRIPTION:
URL:https://pcastm.pl/wydarzenie/silownia-99/
LOCATION:Powiatowe Centrum Animacji Społecznej\, Farbiarska 20/24\, Tomaszów Mazowiecki\, Łódzkie\, 97-200\, Polska
ATTACH;FMTTYPE=image/jpeg:https://pcastm.pl/files/2025/06/0e064942-e247-48a9-9458-a526ffbf8be2-1.jpg
END:VEVENT
BEGIN:VEVENT
DTSTART;TZID=Europe/Warsaw:20251016T120000
DTEND;TZID=Europe/Warsaw:20251016T180000
DTSTAMP:20260424T094602
CREATED:20251013T111658Z
LAST-MODIFIED:20251013T111658Z
UID:26395-1760616000-1760637600@pcastm.pl
SUMMARY:Malarstwo i rysunek
DESCRIPTION:
URL:https://pcastm.pl/wydarzenie/malarstwo-i-rysunek-153/
LOCATION:Powiatowe Centrum Animacji Społecznej\, Farbiarska 20/24\, Tomaszów Mazowiecki\, Łódzkie\, 97-200\, Polska
ATTACH;FMTTYPE=image/jpeg:https://pcastm.pl/files/2025/10/54598180-6915-487b-a19d-7bc492e726fe.jpg
END:VEVENT
BEGIN:VEVENT
DTSTART;TZID=Europe/Warsaw:20251016T150000
DTEND;TZID=Europe/Warsaw:20251016T180000
DTSTAMP:20260424T094602
CREATED:20251013T110625Z
LAST-MODIFIED:20251020T100032Z
UID:26389-1760626800-1760637600@pcastm.pl
SUMMARY:Ceramika
DESCRIPTION:
URL:https://pcastm.pl/wydarzenie/ceramika-122/
LOCATION:Powiatowe Centrum Animacji Społecznej\, Farbiarska 20/24\, Tomaszów Mazowiecki\, Łódzkie\, 97-200\, Polska
ATTACH;FMTTYPE=image/jpeg:https://pcastm.pl/files/2025/06/ceramika-3.jpg
END:VEVENT
BEGIN:VEVENT
DTSTART;TZID=Europe/Warsaw:20251016T160000
DTEND;TZID=Europe/Warsaw:20251016T180000
DTSTAMP:20260424T094602
CREATED:20251013T111803Z
LAST-MODIFIED:20251013T111803Z
UID:26397-1760630400-1760637600@pcastm.pl
SUMMARY:Wspinaczka
DESCRIPTION:
URL:https://pcastm.pl/wydarzenie/wspinaczka-165/
LOCATION:Powiatowe Centrum Animacji Społecznej\, Farbiarska 20/24\, Tomaszów Mazowiecki\, Łódzkie\, 97-200\, Polska
ATTACH;FMTTYPE=image/jpeg:https://pcastm.pl/files/2025/08/515368914_1225195066252262_7995299922594981413_n.jpg
END:VEVENT
BEGIN:VEVENT
DTSTART;TZID=Europe/Warsaw:20251016T162000
DTEND;TZID=Europe/Warsaw:20251016T175000
DTSTAMP:20260424T094602
CREATED:20251013T112843Z
LAST-MODIFIED:20251013T112843Z
UID:26399-1760631600-1760637000@pcastm.pl
SUMMARY:Taniec - grupa początkująca
DESCRIPTION:
URL:https://pcastm.pl/wydarzenie/taniec-grupa-poczatkujaca-25/
LOCATION:Powiatowe Centrum Animacji Społecznej\, Farbiarska 20/24\, Tomaszów Mazowiecki\, Łódzkie\, 97-200\, Polska
ATTACH;FMTTYPE=image/jpeg:https://pcastm.pl/files/2025/06/zajęcia-gawlik-2-1704.jpg
END:VEVENT
END:VCALENDAR